BEGIN:VCALENDAR
VERSION:2.0
PRODID:-//Trinity Baptist Church - ECPv6.15.12.2//NONSGML v1.0//EN
CALSCALE:GREGORIAN
METHOD:PUBLISH
X-ORIGINAL-URL:https://trinityarcata.com
X-WR-CALDESC:Events for Trinity Baptist Church
REFRESH-INTERVAL;VALUE=DURATION:PT1H
X-Robots-Tag:noindex
X-PUBLISHED-TTL:PT1H
BEGIN:VTIMEZONE
TZID:America/Chicago
BEGIN:DAYLIGHT
TZOFFSETFROM:-0600
TZOFFSETTO:-0500
TZNAME:CDT
DTSTART:20240310T080000
END:DAYLIGHT
BEGIN:STANDARD
TZOFFSETFROM:-0500
TZOFFSETTO:-0600
TZNAME:CST
DTSTART:20241103T070000
END:STANDARD
BEGIN:DAYLIGHT
TZOFFSETFROM:-0600
TZOFFSETTO:-0500
TZNAME:CDT
DTSTART:20250309T080000
END:DAYLIGHT
BEGIN:STANDARD
TZOFFSETFROM:-0500
TZOFFSETTO:-0600
TZNAME:CST
DTSTART:20251102T070000
END:STANDARD
BEGIN:DAYLIGHT
TZOFFSETFROM:-0600
TZOFFSETTO:-0500
TZNAME:CDT
DTSTART:20260308T080000
END:DAYLIGHT
BEGIN:STANDARD
TZOFFSETFROM:-0500
TZOFFSETTO:-0600
TZNAME:CST
DTSTART:20261101T070000
END:STANDARD
BEGIN:DAYLIGHT
TZOFFSETFROM:-0600
TZOFFSETTO:-0500
TZNAME:CDT
DTSTART:20270314T080000
END:DAYLIGHT
BEGIN:STANDARD
TZOFFSETFROM:-0500
TZOFFSETTO:-0600
TZNAME:CST
DTSTART:20271107T070000
END:STANDARD
END:VTIMEZONE
BEGIN:VEVENT
DTSTART;TZID=America/Chicago:20260419T090000
DTEND;TZID=America/Chicago:20260419T094500
DTSTAMP:20260421T084610
CREATED:20250805T190715Z
LAST-MODIFIED:20250805T211610Z
UID:10000850-1776589200-1776591900@trinityarcata.com
SUMMARY:Sunday Bible Study
DESCRIPTION:Men and women\, singles and couples are invited to join us as we study the Word of God every Sunday morning before our Worship Gathering..
URL:https://trinityarcata.com/event/sunday-bible-study-4/2026-04-19/
CATEGORIES:Featured,Study
ATTACH;FMTTYPE=image/jpeg:https://trinityarcata.com/wp-content/uploads/2025/07/Trinity-Baptist-Church-Sunday-Bible-study.jpg
END:VEVENT
BEGIN:VEVENT
DTSTART;TZID=America/Chicago:20260412T090000
DTEND;TZID=America/Chicago:20260412T094500
DTSTAMP:20260421T084610
CREATED:20250805T190715Z
LAST-MODIFIED:20250805T211610Z
UID:10000849-1775984400-1775987100@trinityarcata.com
SUMMARY:Sunday Bible Study
DESCRIPTION:Men and women\, singles and couples are invited to join us as we study the Word of God every Sunday morning before our Worship Gathering..
URL:https://trinityarcata.com/event/sunday-bible-study-4/2026-04-12/
CATEGORIES:Featured,Study
ATTACH;FMTTYPE=image/jpeg:https://trinityarcata.com/wp-content/uploads/2025/07/Trinity-Baptist-Church-Sunday-Bible-study.jpg
END:VEVENT
BEGIN:VEVENT
DTSTART;TZID=America/Chicago:20260405T090000
DTEND;TZID=America/Chicago:20260405T094500
DTSTAMP:20260421T084610
CREATED:20250805T190715Z
LAST-MODIFIED:20250805T211610Z
UID:10000848-1775379600-1775382300@trinityarcata.com
SUMMARY:Sunday Bible Study
DESCRIPTION:Men and women\, singles and couples are invited to join us as we study the Word of God every Sunday morning before our Worship Gathering..
URL:https://trinityarcata.com/event/sunday-bible-study-4/2026-04-05/
CATEGORIES:Featured,Study
ATTACH;FMTTYPE=image/jpeg:https://trinityarcata.com/wp-content/uploads/2025/07/Trinity-Baptist-Church-Sunday-Bible-study.jpg
END:VEVENT
BEGIN:VEVENT
DTSTART;TZID=America/Chicago:20260329T090000
DTEND;TZID=America/Chicago:20260329T094500
DTSTAMP:20260421T084610
CREATED:20250805T190715Z
LAST-MODIFIED:20250805T211610Z
UID:10000847-1774774800-1774777500@trinityarcata.com
SUMMARY:Sunday Bible Study
DESCRIPTION:Men and women\, singles and couples are invited to join us as we study the Word of God every Sunday morning before our Worship Gathering..
URL:https://trinityarcata.com/event/sunday-bible-study-4/2026-03-29/
CATEGORIES:Featured,Study
ATTACH;FMTTYPE=image/jpeg:https://trinityarcata.com/wp-content/uploads/2025/07/Trinity-Baptist-Church-Sunday-Bible-study.jpg
END:VEVENT
BEGIN:VEVENT
DTSTART;TZID=America/Chicago:20260322T090000
DTEND;TZID=America/Chicago:20260322T094500
DTSTAMP:20260421T084610
CREATED:20250805T190715Z
LAST-MODIFIED:20250805T211610Z
UID:10000846-1774170000-1774172700@trinityarcata.com
SUMMARY:Sunday Bible Study
DESCRIPTION:Men and women\, singles and couples are invited to join us as we study the Word of God every Sunday morning before our Worship Gathering..
URL:https://trinityarcata.com/event/sunday-bible-study-4/2026-03-22/
CATEGORIES:Featured,Study
ATTACH;FMTTYPE=image/jpeg:https://trinityarcata.com/wp-content/uploads/2025/07/Trinity-Baptist-Church-Sunday-Bible-study.jpg
END:VEVENT
BEGIN:VEVENT
DTSTART;TZID=America/Chicago:20260315T090000
DTEND;TZID=America/Chicago:20260315T094500
DTSTAMP:20260421T084610
CREATED:20250805T190715Z
LAST-MODIFIED:20250805T211610Z
UID:10000845-1773565200-1773567900@trinityarcata.com
SUMMARY:Sunday Bible Study
DESCRIPTION:Men and women\, singles and couples are invited to join us as we study the Word of God every Sunday morning before our Worship Gathering..
URL:https://trinityarcata.com/event/sunday-bible-study-4/2026-03-15/
CATEGORIES:Featured,Study
ATTACH;FMTTYPE=image/jpeg:https://trinityarcata.com/wp-content/uploads/2025/07/Trinity-Baptist-Church-Sunday-Bible-study.jpg
END:VEVENT
BEGIN:VEVENT
DTSTART;TZID=America/Chicago:20260308T090000
DTEND;TZID=America/Chicago:20260308T094500
DTSTAMP:20260421T084610
CREATED:20250805T190715Z
LAST-MODIFIED:20250805T211610Z
UID:10000844-1772960400-1772963100@trinityarcata.com
SUMMARY:Sunday Bible Study
DESCRIPTION:Men and women\, singles and couples are invited to join us as we study the Word of God every Sunday morning before our Worship Gathering..
URL:https://trinityarcata.com/event/sunday-bible-study-4/2026-03-08/
CATEGORIES:Featured,Study
ATTACH;FMTTYPE=image/jpeg:https://trinityarcata.com/wp-content/uploads/2025/07/Trinity-Baptist-Church-Sunday-Bible-study.jpg
END:VEVENT
BEGIN:VEVENT
DTSTART;TZID=America/Chicago:20260301T090000
DTEND;TZID=America/Chicago:20260301T094500
DTSTAMP:20260421T084610
CREATED:20250805T190715Z
LAST-MODIFIED:20250805T211610Z
UID:10000843-1772355600-1772358300@trinityarcata.com
SUMMARY:Sunday Bible Study
DESCRIPTION:Men and women\, singles and couples are invited to join us as we study the Word of God every Sunday morning before our Worship Gathering..
URL:https://trinityarcata.com/event/sunday-bible-study-4/2026-03-01/
CATEGORIES:Featured,Study
ATTACH;FMTTYPE=image/jpeg:https://trinityarcata.com/wp-content/uploads/2025/07/Trinity-Baptist-Church-Sunday-Bible-study.jpg
END:VEVENT
BEGIN:VEVENT
DTSTART;TZID=America/Chicago:20260222T090000
DTEND;TZID=America/Chicago:20260222T094500
DTSTAMP:20260421T084610
CREATED:20250805T190715Z
LAST-MODIFIED:20250805T211610Z
UID:10000842-1771750800-1771753500@trinityarcata.com
SUMMARY:Sunday Bible Study
DESCRIPTION:Men and women\, singles and couples are invited to join us as we study the Word of God every Sunday morning before our Worship Gathering..
URL:https://trinityarcata.com/event/sunday-bible-study-4/2026-02-22/
CATEGORIES:Featured,Study
ATTACH;FMTTYPE=image/jpeg:https://trinityarcata.com/wp-content/uploads/2025/07/Trinity-Baptist-Church-Sunday-Bible-study.jpg
END:VEVENT
BEGIN:VEVENT
DTSTART;TZID=America/Chicago:20260215T090000
DTEND;TZID=America/Chicago:20260215T094500
DTSTAMP:20260421T084610
CREATED:20250805T190715Z
LAST-MODIFIED:20250805T211610Z
UID:10000841-1771146000-1771148700@trinityarcata.com
SUMMARY:Sunday Bible Study
DESCRIPTION:Men and women\, singles and couples are invited to join us as we study the Word of God every Sunday morning before our Worship Gathering..
URL:https://trinityarcata.com/event/sunday-bible-study-4/2026-02-15/
CATEGORIES:Featured,Study
ATTACH;FMTTYPE=image/jpeg:https://trinityarcata.com/wp-content/uploads/2025/07/Trinity-Baptist-Church-Sunday-Bible-study.jpg
END:VEVENT
BEGIN:VEVENT
DTSTART;TZID=America/Chicago:20260208T090000
DTEND;TZID=America/Chicago:20260208T094500
DTSTAMP:20260421T084610
CREATED:20250805T190715Z
LAST-MODIFIED:20250805T211610Z
UID:10000840-1770541200-1770543900@trinityarcata.com
SUMMARY:Sunday Bible Study
DESCRIPTION:Men and women\, singles and couples are invited to join us as we study the Word of God every Sunday morning before our Worship Gathering..
URL:https://trinityarcata.com/event/sunday-bible-study-4/2026-02-08/
CATEGORIES:Featured,Study
ATTACH;FMTTYPE=image/jpeg:https://trinityarcata.com/wp-content/uploads/2025/07/Trinity-Baptist-Church-Sunday-Bible-study.jpg
END:VEVENT
BEGIN:VEVENT
DTSTART;TZID=America/Chicago:20260201T090000
DTEND;TZID=America/Chicago:20260201T094500
DTSTAMP:20260421T084610
CREATED:20250805T190715Z
LAST-MODIFIED:20250805T211610Z
UID:10000839-1769936400-1769939100@trinityarcata.com
SUMMARY:Sunday Bible Study
DESCRIPTION:Men and women\, singles and couples are invited to join us as we study the Word of God every Sunday morning before our Worship Gathering..
URL:https://trinityarcata.com/event/sunday-bible-study-4/2026-02-01/
CATEGORIES:Featured,Study
ATTACH;FMTTYPE=image/jpeg:https://trinityarcata.com/wp-content/uploads/2025/07/Trinity-Baptist-Church-Sunday-Bible-study.jpg
END:VEVENT
BEGIN:VEVENT
DTSTART;TZID=America/Chicago:20260125T090000
DTEND;TZID=America/Chicago:20260125T094500
DTSTAMP:20260421T084610
CREATED:20250805T190715Z
LAST-MODIFIED:20250805T211610Z
UID:10000838-1769331600-1769334300@trinityarcata.com
SUMMARY:Sunday Bible Study
DESCRIPTION:Men and women\, singles and couples are invited to join us as we study the Word of God every Sunday morning before our Worship Gathering..
URL:https://trinityarcata.com/event/sunday-bible-study-4/2026-01-25/
CATEGORIES:Featured,Study
ATTACH;FMTTYPE=image/jpeg:https://trinityarcata.com/wp-content/uploads/2025/07/Trinity-Baptist-Church-Sunday-Bible-study.jpg
END:VEVENT
BEGIN:VEVENT
DTSTART;TZID=America/Chicago:20260118T090000
DTEND;TZID=America/Chicago:20260118T094500
DTSTAMP:20260421T084610
CREATED:20250805T190715Z
LAST-MODIFIED:20250805T211610Z
UID:10000837-1768726800-1768729500@trinityarcata.com
SUMMARY:Sunday Bible Study
DESCRIPTION:Men and women\, singles and couples are invited to join us as we study the Word of God every Sunday morning before our Worship Gathering..
URL:https://trinityarcata.com/event/sunday-bible-study-4/2026-01-18/
CATEGORIES:Featured,Study
ATTACH;FMTTYPE=image/jpeg:https://trinityarcata.com/wp-content/uploads/2025/07/Trinity-Baptist-Church-Sunday-Bible-study.jpg
END:VEVENT
BEGIN:VEVENT
DTSTART;TZID=America/Chicago:20260111T090000
DTEND;TZID=America/Chicago:20260111T094500
DTSTAMP:20260421T084610
CREATED:20250805T190715Z
LAST-MODIFIED:20250805T211610Z
UID:10000836-1768122000-1768124700@trinityarcata.com
SUMMARY:Sunday Bible Study
DESCRIPTION:Men and women\, singles and couples are invited to join us as we study the Word of God every Sunday morning before our Worship Gathering..
URL:https://trinityarcata.com/event/sunday-bible-study-4/2026-01-11/
CATEGORIES:Featured,Study
ATTACH;FMTTYPE=image/jpeg:https://trinityarcata.com/wp-content/uploads/2025/07/Trinity-Baptist-Church-Sunday-Bible-study.jpg
END:VEVENT
BEGIN:VEVENT
DTSTART;TZID=America/Chicago:20260104T090000
DTEND;TZID=America/Chicago:20260104T094500
DTSTAMP:20260421T084610
CREATED:20250805T190715Z
LAST-MODIFIED:20250805T211610Z
UID:10000835-1767517200-1767519900@trinityarcata.com
SUMMARY:Sunday Bible Study
DESCRIPTION:Men and women\, singles and couples are invited to join us as we study the Word of God every Sunday morning before our Worship Gathering..
URL:https://trinityarcata.com/event/sunday-bible-study-4/2026-01-04/
CATEGORIES:Featured,Study
ATTACH;FMTTYPE=image/jpeg:https://trinityarcata.com/wp-content/uploads/2025/07/Trinity-Baptist-Church-Sunday-Bible-study.jpg
END:VEVENT
BEGIN:VEVENT
DTSTART;TZID=America/Chicago:20251228T090000
DTEND;TZID=America/Chicago:20251228T094500
DTSTAMP:20260421T084610
CREATED:20250805T190715Z
LAST-MODIFIED:20250805T211610Z
UID:10000834-1766912400-1766915100@trinityarcata.com
SUMMARY:Sunday Bible Study
DESCRIPTION:Men and women\, singles and couples are invited to join us as we study the Word of God every Sunday morning before our Worship Gathering..
URL:https://trinityarcata.com/event/sunday-bible-study-4/2025-12-28/
CATEGORIES:Featured,Study
ATTACH;FMTTYPE=image/jpeg:https://trinityarcata.com/wp-content/uploads/2025/07/Trinity-Baptist-Church-Sunday-Bible-study.jpg
END:VEVENT
BEGIN:VEVENT
DTSTART;TZID=America/Chicago:20251221T090000
DTEND;TZID=America/Chicago:20251221T094500
DTSTAMP:20260421T084610
CREATED:20250805T190715Z
LAST-MODIFIED:20250805T211610Z
UID:10000833-1766307600-1766310300@trinityarcata.com
SUMMARY:Sunday Bible Study
DESCRIPTION:Men and women\, singles and couples are invited to join us as we study the Word of God every Sunday morning before our Worship Gathering..
URL:https://trinityarcata.com/event/sunday-bible-study-4/2025-12-21/
CATEGORIES:Featured,Study
ATTACH;FMTTYPE=image/jpeg:https://trinityarcata.com/wp-content/uploads/2025/07/Trinity-Baptist-Church-Sunday-Bible-study.jpg
END:VEVENT
BEGIN:VEVENT
DTSTART;TZID=America/Chicago:20251214T090000
DTEND;TZID=America/Chicago:20251214T094500
DTSTAMP:20260421T084610
CREATED:20250805T190715Z
LAST-MODIFIED:20250805T211610Z
UID:10000832-1765702800-1765705500@trinityarcata.com
SUMMARY:Sunday Bible Study
DESCRIPTION:Men and women\, singles and couples are invited to join us as we study the Word of God every Sunday morning before our Worship Gathering..
URL:https://trinityarcata.com/event/sunday-bible-study-4/2025-12-14/
CATEGORIES:Featured,Study
ATTACH;FMTTYPE=image/jpeg:https://trinityarcata.com/wp-content/uploads/2025/07/Trinity-Baptist-Church-Sunday-Bible-study.jpg
END:VEVENT
BEGIN:VEVENT
DTSTART;TZID=America/Chicago:20251207T090000
DTEND;TZID=America/Chicago:20251207T094500
DTSTAMP:20260421T084610
CREATED:20250805T190715Z
LAST-MODIFIED:20250805T211610Z
UID:10000831-1765098000-1765100700@trinityarcata.com
SUMMARY:Sunday Bible Study
DESCRIPTION:Men and women\, singles and couples are invited to join us as we study the Word of God every Sunday morning before our Worship Gathering..
URL:https://trinityarcata.com/event/sunday-bible-study-4/2025-12-07/
CATEGORIES:Featured,Study
ATTACH;FMTTYPE=image/jpeg:https://trinityarcata.com/wp-content/uploads/2025/07/Trinity-Baptist-Church-Sunday-Bible-study.jpg
END:VEVENT
BEGIN:VEVENT
DTSTART;TZID=America/Chicago:20251130T090000
DTEND;TZID=America/Chicago:20251130T094500
DTSTAMP:20260421T084610
CREATED:20250805T190715Z
LAST-MODIFIED:20250805T211610Z
UID:10000830-1764493200-1764495900@trinityarcata.com
SUMMARY:Sunday Bible Study
DESCRIPTION:Men and women\, singles and couples are invited to join us as we study the Word of God every Sunday morning before our Worship Gathering..
URL:https://trinityarcata.com/event/sunday-bible-study-4/2025-11-30/
CATEGORIES:Featured,Study
ATTACH;FMTTYPE=image/jpeg:https://trinityarcata.com/wp-content/uploads/2025/07/Trinity-Baptist-Church-Sunday-Bible-study.jpg
END:VEVENT
BEGIN:VEVENT
DTSTART;TZID=America/Chicago:20251123T090000
DTEND;TZID=America/Chicago:20251123T094500
DTSTAMP:20260421T084610
CREATED:20250805T190715Z
LAST-MODIFIED:20250805T211610Z
UID:10000829-1763888400-1763891100@trinityarcata.com
SUMMARY:Sunday Bible Study
DESCRIPTION:Men and women\, singles and couples are invited to join us as we study the Word of God every Sunday morning before our Worship Gathering..
URL:https://trinityarcata.com/event/sunday-bible-study-4/2025-11-23/
CATEGORIES:Featured,Study
ATTACH;FMTTYPE=image/jpeg:https://trinityarcata.com/wp-content/uploads/2025/07/Trinity-Baptist-Church-Sunday-Bible-study.jpg
END:VEVENT
BEGIN:VEVENT
DTSTART;TZID=America/Chicago:20251116T090000
DTEND;TZID=America/Chicago:20251116T094500
DTSTAMP:20260421T084610
CREATED:20250805T190715Z
LAST-MODIFIED:20250805T211610Z
UID:10000828-1763283600-1763286300@trinityarcata.com
SUMMARY:Sunday Bible Study
DESCRIPTION:Men and women\, singles and couples are invited to join us as we study the Word of God every Sunday morning before our Worship Gathering..
URL:https://trinityarcata.com/event/sunday-bible-study-4/2025-11-16/
CATEGORIES:Featured,Study
ATTACH;FMTTYPE=image/jpeg:https://trinityarcata.com/wp-content/uploads/2025/07/Trinity-Baptist-Church-Sunday-Bible-study.jpg
END:VEVENT
BEGIN:VEVENT
DTSTART;TZID=America/Chicago:20251109T090000
DTEND;TZID=America/Chicago:20251109T094500
DTSTAMP:20260421T084610
CREATED:20250805T190715Z
LAST-MODIFIED:20250805T211610Z
UID:10000827-1762678800-1762681500@trinityarcata.com
SUMMARY:Sunday Bible Study
DESCRIPTION:Men and women\, singles and couples are invited to join us as we study the Word of God every Sunday morning before our Worship Gathering..
URL:https://trinityarcata.com/event/sunday-bible-study-4/2025-11-09/
CATEGORIES:Featured,Study
ATTACH;FMTTYPE=image/jpeg:https://trinityarcata.com/wp-content/uploads/2025/07/Trinity-Baptist-Church-Sunday-Bible-study.jpg
END:VEVENT
BEGIN:VEVENT
DTSTART;TZID=America/Chicago:20251102T090000
DTEND;TZID=America/Chicago:20251102T094500
DTSTAMP:20260421T084610
CREATED:20250805T190715Z
LAST-MODIFIED:20250805T211610Z
UID:10000826-1762074000-1762076700@trinityarcata.com
SUMMARY:Sunday Bible Study
DESCRIPTION:Men and women\, singles and couples are invited to join us as we study the Word of God every Sunday morning before our Worship Gathering..
URL:https://trinityarcata.com/event/sunday-bible-study-4/2025-11-02/
CATEGORIES:Featured,Study
ATTACH;FMTTYPE=image/jpeg:https://trinityarcata.com/wp-content/uploads/2025/07/Trinity-Baptist-Church-Sunday-Bible-study.jpg
END:VEVENT
BEGIN:VEVENT
DTSTART;TZID=America/Chicago:20251026T090000
DTEND;TZID=America/Chicago:20251026T094500
DTSTAMP:20260421T084610
CREATED:20250805T190715Z
LAST-MODIFIED:20250805T211610Z
UID:10000825-1761469200-1761471900@trinityarcata.com
SUMMARY:Sunday Bible Study
DESCRIPTION:Men and women\, singles and couples are invited to join us as we study the Word of God every Sunday morning before our Worship Gathering..
URL:https://trinityarcata.com/event/sunday-bible-study-4/2025-10-26/
CATEGORIES:Featured,Study
ATTACH;FMTTYPE=image/jpeg:https://trinityarcata.com/wp-content/uploads/2025/07/Trinity-Baptist-Church-Sunday-Bible-study.jpg
END:VEVENT
BEGIN:VEVENT
DTSTART;TZID=America/Chicago:20251019T090000
DTEND;TZID=America/Chicago:20251019T094500
DTSTAMP:20260421T084610
CREATED:20250805T190715Z
LAST-MODIFIED:20250805T211610Z
UID:10000824-1760864400-1760867100@trinityarcata.com
SUMMARY:Sunday Bible Study
DESCRIPTION:Men and women\, singles and couples are invited to join us as we study the Word of God every Sunday morning before our Worship Gathering..
URL:https://trinityarcata.com/event/sunday-bible-study-4/2025-10-19/
CATEGORIES:Featured,Study
ATTACH;FMTTYPE=image/jpeg:https://trinityarcata.com/wp-content/uploads/2025/07/Trinity-Baptist-Church-Sunday-Bible-study.jpg
END:VEVENT
BEGIN:VEVENT
DTSTART;TZID=America/Chicago:20251012T090000
DTEND;TZID=America/Chicago:20251012T094500
DTSTAMP:20260421T084610
CREATED:20250805T190715Z
LAST-MODIFIED:20250805T211610Z
UID:10000823-1760259600-1760262300@trinityarcata.com
SUMMARY:Sunday Bible Study
DESCRIPTION:Men and women\, singles and couples are invited to join us as we study the Word of God every Sunday morning before our Worship Gathering..
URL:https://trinityarcata.com/event/sunday-bible-study-4/2025-10-12/
CATEGORIES:Featured,Study
ATTACH;FMTTYPE=image/jpeg:https://trinityarcata.com/wp-content/uploads/2025/07/Trinity-Baptist-Church-Sunday-Bible-study.jpg
END:VEVENT
BEGIN:VEVENT
DTSTART;TZID=America/Chicago:20251005T090000
DTEND;TZID=America/Chicago:20251005T094500
DTSTAMP:20260421T084610
CREATED:20250805T190715Z
LAST-MODIFIED:20250805T211610Z
UID:10000822-1759654800-1759657500@trinityarcata.com
SUMMARY:Sunday Bible Study
DESCRIPTION:Men and women\, singles and couples are invited to join us as we study the Word of God every Sunday morning before our Worship Gathering..
URL:https://trinityarcata.com/event/sunday-bible-study-4/2025-10-05/
CATEGORIES:Featured,Study
ATTACH;FMTTYPE=image/jpeg:https://trinityarcata.com/wp-content/uploads/2025/07/Trinity-Baptist-Church-Sunday-Bible-study.jpg
END:VEVENT
BEGIN:VEVENT
DTSTART;TZID=America/Chicago:20250928T090000
DTEND;TZID=America/Chicago:20250928T094500
DTSTAMP:20260421T084610
CREATED:20250805T190715Z
LAST-MODIFIED:20250805T211610Z
UID:10000821-1759050000-1759052700@trinityarcata.com
SUMMARY:Sunday Bible Study
DESCRIPTION:Men and women\, singles and couples are invited to join us as we study the Word of God every Sunday morning before our Worship Gathering..
URL:https://trinityarcata.com/event/sunday-bible-study-4/2025-09-28/
CATEGORIES:Featured,Study
ATTACH;FMTTYPE=image/jpeg:https://trinityarcata.com/wp-content/uploads/2025/07/Trinity-Baptist-Church-Sunday-Bible-study.jpg
END:VEVENT
END:VCALENDAR