BEGIN:VCALENDAR
VERSION:2.0
PRODID:-//Trinity Baptist Church - ECPv6.15.12.2//NONSGML v1.0//EN
CALSCALE:GREGORIAN
METHOD:PUBLISH
X-ORIGINAL-URL:https://trinityarcata.com
X-WR-CALDESC:Events for Trinity Baptist Church
REFRESH-INTERVAL;VALUE=DURATION:PT1H
X-Robots-Tag:noindex
X-PUBLISHED-TTL:PT1H
BEGIN:VTIMEZONE
TZID:America/Chicago
BEGIN:DAYLIGHT
TZOFFSETFROM:-0600
TZOFFSETTO:-0500
TZNAME:CDT
DTSTART:20280312T080000
END:DAYLIGHT
BEGIN:STANDARD
TZOFFSETFROM:-0500
TZOFFSETTO:-0600
TZNAME:CST
DTSTART:20281105T070000
END:STANDARD
BEGIN:DAYLIGHT
TZOFFSETFROM:-0600
TZOFFSETTO:-0500
TZNAME:CDT
DTSTART:20290311T080000
END:DAYLIGHT
BEGIN:STANDARD
TZOFFSETFROM:-0500
TZOFFSETTO:-0600
TZNAME:CST
DTSTART:20291104T070000
END:STANDARD
BEGIN:DAYLIGHT
TZOFFSETFROM:-0600
TZOFFSETTO:-0500
TZNAME:CDT
DTSTART:20300310T080000
END:DAYLIGHT
BEGIN:STANDARD
TZOFFSETFROM:-0500
TZOFFSETTO:-0600
TZNAME:CST
DTSTART:20301103T070000
END:STANDARD
BEGIN:DAYLIGHT
TZOFFSETFROM:-0600
TZOFFSETTO:-0500
TZNAME:CDT
DTSTART:20310309T080000
END:DAYLIGHT
BEGIN:STANDARD
TZOFFSETFROM:-0500
TZOFFSETTO:-0600
TZNAME:CST
DTSTART:20311102T070000
END:STANDARD
END:VTIMEZONE
BEGIN:VEVENT
DTSTART;TZID=America/Chicago:20290819T090000
DTEND;TZID=America/Chicago:20290819T094500
DTSTAMP:20260422T175848
CREATED:20250805T190715Z
LAST-MODIFIED:20250805T211610Z
UID:10001024-1881824400-1881827100@trinityarcata.com
SUMMARY:Sunday Bible Study
DESCRIPTION:Men and women\, singles and couples are invited to join us as we study the Word of God every Sunday morning before our Worship Gathering..
URL:https://trinityarcata.com/event/sunday-bible-study-4/2029-08-19/
CATEGORIES:Featured,Study
ATTACH;FMTTYPE=image/jpeg:https://trinityarcata.com/wp-content/uploads/2025/07/Trinity-Baptist-Church-Sunday-Bible-study.jpg
END:VEVENT
BEGIN:VEVENT
DTSTART;TZID=America/Chicago:20290826T090000
DTEND;TZID=America/Chicago:20290826T094500
DTSTAMP:20260422T175848
CREATED:20250805T190715Z
LAST-MODIFIED:20250805T211610Z
UID:10001025-1882429200-1882431900@trinityarcata.com
SUMMARY:Sunday Bible Study
DESCRIPTION:Men and women\, singles and couples are invited to join us as we study the Word of God every Sunday morning before our Worship Gathering..
URL:https://trinityarcata.com/event/sunday-bible-study-4/2029-08-26/
CATEGORIES:Featured,Study
ATTACH;FMTTYPE=image/jpeg:https://trinityarcata.com/wp-content/uploads/2025/07/Trinity-Baptist-Church-Sunday-Bible-study.jpg
END:VEVENT
BEGIN:VEVENT
DTSTART;TZID=America/Chicago:20290902T090000
DTEND;TZID=America/Chicago:20290902T094500
DTSTAMP:20260422T175848
CREATED:20250805T190715Z
LAST-MODIFIED:20250805T211610Z
UID:10001026-1883034000-1883036700@trinityarcata.com
SUMMARY:Sunday Bible Study
DESCRIPTION:Men and women\, singles and couples are invited to join us as we study the Word of God every Sunday morning before our Worship Gathering..
URL:https://trinityarcata.com/event/sunday-bible-study-4/2029-09-02/
CATEGORIES:Featured,Study
ATTACH;FMTTYPE=image/jpeg:https://trinityarcata.com/wp-content/uploads/2025/07/Trinity-Baptist-Church-Sunday-Bible-study.jpg
END:VEVENT
BEGIN:VEVENT
DTSTART;TZID=America/Chicago:20290909T090000
DTEND;TZID=America/Chicago:20290909T094500
DTSTAMP:20260422T175848
CREATED:20250805T190715Z
LAST-MODIFIED:20250805T211610Z
UID:10001027-1883638800-1883641500@trinityarcata.com
SUMMARY:Sunday Bible Study
DESCRIPTION:Men and women\, singles and couples are invited to join us as we study the Word of God every Sunday morning before our Worship Gathering..
URL:https://trinityarcata.com/event/sunday-bible-study-4/2029-09-09/
CATEGORIES:Featured,Study
ATTACH;FMTTYPE=image/jpeg:https://trinityarcata.com/wp-content/uploads/2025/07/Trinity-Baptist-Church-Sunday-Bible-study.jpg
END:VEVENT
BEGIN:VEVENT
DTSTART;TZID=America/Chicago:20290916T090000
DTEND;TZID=America/Chicago:20290916T094500
DTSTAMP:20260422T175848
CREATED:20250805T190715Z
LAST-MODIFIED:20250805T211610Z
UID:10001028-1884243600-1884246300@trinityarcata.com
SUMMARY:Sunday Bible Study
DESCRIPTION:Men and women\, singles and couples are invited to join us as we study the Word of God every Sunday morning before our Worship Gathering..
URL:https://trinityarcata.com/event/sunday-bible-study-4/2029-09-16/
CATEGORIES:Featured,Study
ATTACH;FMTTYPE=image/jpeg:https://trinityarcata.com/wp-content/uploads/2025/07/Trinity-Baptist-Church-Sunday-Bible-study.jpg
END:VEVENT
BEGIN:VEVENT
DTSTART;TZID=America/Chicago:20290923T090000
DTEND;TZID=America/Chicago:20290923T094500
DTSTAMP:20260422T175848
CREATED:20250805T190715Z
LAST-MODIFIED:20250805T211610Z
UID:10001029-1884848400-1884851100@trinityarcata.com
SUMMARY:Sunday Bible Study
DESCRIPTION:Men and women\, singles and couples are invited to join us as we study the Word of God every Sunday morning before our Worship Gathering..
URL:https://trinityarcata.com/event/sunday-bible-study-4/2029-09-23/
CATEGORIES:Featured,Study
ATTACH;FMTTYPE=image/jpeg:https://trinityarcata.com/wp-content/uploads/2025/07/Trinity-Baptist-Church-Sunday-Bible-study.jpg
END:VEVENT
BEGIN:VEVENT
DTSTART;TZID=America/Chicago:20290930T090000
DTEND;TZID=America/Chicago:20290930T094500
DTSTAMP:20260422T175848
CREATED:20250805T190715Z
LAST-MODIFIED:20250805T211610Z
UID:10001030-1885453200-1885455900@trinityarcata.com
SUMMARY:Sunday Bible Study
DESCRIPTION:Men and women\, singles and couples are invited to join us as we study the Word of God every Sunday morning before our Worship Gathering..
URL:https://trinityarcata.com/event/sunday-bible-study-4/2029-09-30/
CATEGORIES:Featured,Study
ATTACH;FMTTYPE=image/jpeg:https://trinityarcata.com/wp-content/uploads/2025/07/Trinity-Baptist-Church-Sunday-Bible-study.jpg
END:VEVENT
BEGIN:VEVENT
DTSTART;TZID=America/Chicago:20291007T090000
DTEND;TZID=America/Chicago:20291007T094500
DTSTAMP:20260422T175848
CREATED:20250805T190715Z
LAST-MODIFIED:20250805T211610Z
UID:10001031-1886058000-1886060700@trinityarcata.com
SUMMARY:Sunday Bible Study
DESCRIPTION:Men and women\, singles and couples are invited to join us as we study the Word of God every Sunday morning before our Worship Gathering..
URL:https://trinityarcata.com/event/sunday-bible-study-4/2029-10-07/
CATEGORIES:Featured,Study
ATTACH;FMTTYPE=image/jpeg:https://trinityarcata.com/wp-content/uploads/2025/07/Trinity-Baptist-Church-Sunday-Bible-study.jpg
END:VEVENT
BEGIN:VEVENT
DTSTART;TZID=America/Chicago:20291014T090000
DTEND;TZID=America/Chicago:20291014T094500
DTSTAMP:20260422T175848
CREATED:20250805T190715Z
LAST-MODIFIED:20250805T211610Z
UID:10001032-1886662800-1886665500@trinityarcata.com
SUMMARY:Sunday Bible Study
DESCRIPTION:Men and women\, singles and couples are invited to join us as we study the Word of God every Sunday morning before our Worship Gathering..
URL:https://trinityarcata.com/event/sunday-bible-study-4/2029-10-14/
CATEGORIES:Featured,Study
ATTACH;FMTTYPE=image/jpeg:https://trinityarcata.com/wp-content/uploads/2025/07/Trinity-Baptist-Church-Sunday-Bible-study.jpg
END:VEVENT
BEGIN:VEVENT
DTSTART;TZID=America/Chicago:20291021T090000
DTEND;TZID=America/Chicago:20291021T094500
DTSTAMP:20260422T175848
CREATED:20250805T190715Z
LAST-MODIFIED:20250805T211610Z
UID:10001033-1887267600-1887270300@trinityarcata.com
SUMMARY:Sunday Bible Study
DESCRIPTION:Men and women\, singles and couples are invited to join us as we study the Word of God every Sunday morning before our Worship Gathering..
URL:https://trinityarcata.com/event/sunday-bible-study-4/2029-10-21/
CATEGORIES:Featured,Study
ATTACH;FMTTYPE=image/jpeg:https://trinityarcata.com/wp-content/uploads/2025/07/Trinity-Baptist-Church-Sunday-Bible-study.jpg
END:VEVENT
BEGIN:VEVENT
DTSTART;TZID=America/Chicago:20291028T090000
DTEND;TZID=America/Chicago:20291028T094500
DTSTAMP:20260422T175848
CREATED:20250805T190715Z
LAST-MODIFIED:20250805T211610Z
UID:10001034-1887872400-1887875100@trinityarcata.com
SUMMARY:Sunday Bible Study
DESCRIPTION:Men and women\, singles and couples are invited to join us as we study the Word of God every Sunday morning before our Worship Gathering..
URL:https://trinityarcata.com/event/sunday-bible-study-4/2029-10-28/
CATEGORIES:Featured,Study
ATTACH;FMTTYPE=image/jpeg:https://trinityarcata.com/wp-content/uploads/2025/07/Trinity-Baptist-Church-Sunday-Bible-study.jpg
END:VEVENT
BEGIN:VEVENT
DTSTART;TZID=America/Chicago:20291104T090000
DTEND;TZID=America/Chicago:20291104T094500
DTSTAMP:20260422T175848
CREATED:20250805T190715Z
LAST-MODIFIED:20250805T211610Z
UID:10001035-1888477200-1888479900@trinityarcata.com
SUMMARY:Sunday Bible Study
DESCRIPTION:Men and women\, singles and couples are invited to join us as we study the Word of God every Sunday morning before our Worship Gathering..
URL:https://trinityarcata.com/event/sunday-bible-study-4/2029-11-04/
CATEGORIES:Featured,Study
ATTACH;FMTTYPE=image/jpeg:https://trinityarcata.com/wp-content/uploads/2025/07/Trinity-Baptist-Church-Sunday-Bible-study.jpg
END:VEVENT
BEGIN:VEVENT
DTSTART;TZID=America/Chicago:20291111T090000
DTEND;TZID=America/Chicago:20291111T094500
DTSTAMP:20260422T175848
CREATED:20250805T190715Z
LAST-MODIFIED:20250805T211610Z
UID:10001036-1889082000-1889084700@trinityarcata.com
SUMMARY:Sunday Bible Study
DESCRIPTION:Men and women\, singles and couples are invited to join us as we study the Word of God every Sunday morning before our Worship Gathering..
URL:https://trinityarcata.com/event/sunday-bible-study-4/2029-11-11/
CATEGORIES:Featured,Study
ATTACH;FMTTYPE=image/jpeg:https://trinityarcata.com/wp-content/uploads/2025/07/Trinity-Baptist-Church-Sunday-Bible-study.jpg
END:VEVENT
BEGIN:VEVENT
DTSTART;TZID=America/Chicago:20291118T090000
DTEND;TZID=America/Chicago:20291118T094500
DTSTAMP:20260422T175848
CREATED:20250805T190715Z
LAST-MODIFIED:20250805T211610Z
UID:10001037-1889686800-1889689500@trinityarcata.com
SUMMARY:Sunday Bible Study
DESCRIPTION:Men and women\, singles and couples are invited to join us as we study the Word of God every Sunday morning before our Worship Gathering..
URL:https://trinityarcata.com/event/sunday-bible-study-4/2029-11-18/
CATEGORIES:Featured,Study
ATTACH;FMTTYPE=image/jpeg:https://trinityarcata.com/wp-content/uploads/2025/07/Trinity-Baptist-Church-Sunday-Bible-study.jpg
END:VEVENT
BEGIN:VEVENT
DTSTART;TZID=America/Chicago:20291125T090000
DTEND;TZID=America/Chicago:20291125T094500
DTSTAMP:20260422T175848
CREATED:20250805T190715Z
LAST-MODIFIED:20250805T211610Z
UID:10001038-1890291600-1890294300@trinityarcata.com
SUMMARY:Sunday Bible Study
DESCRIPTION:Men and women\, singles and couples are invited to join us as we study the Word of God every Sunday morning before our Worship Gathering..
URL:https://trinityarcata.com/event/sunday-bible-study-4/2029-11-25/
CATEGORIES:Featured,Study
ATTACH;FMTTYPE=image/jpeg:https://trinityarcata.com/wp-content/uploads/2025/07/Trinity-Baptist-Church-Sunday-Bible-study.jpg
END:VEVENT
BEGIN:VEVENT
DTSTART;TZID=America/Chicago:20291202T090000
DTEND;TZID=America/Chicago:20291202T094500
DTSTAMP:20260422T175848
CREATED:20250805T190715Z
LAST-MODIFIED:20250805T211610Z
UID:10001039-1890896400-1890899100@trinityarcata.com
SUMMARY:Sunday Bible Study
DESCRIPTION:Men and women\, singles and couples are invited to join us as we study the Word of God every Sunday morning before our Worship Gathering..
URL:https://trinityarcata.com/event/sunday-bible-study-4/2029-12-02/
CATEGORIES:Featured,Study
ATTACH;FMTTYPE=image/jpeg:https://trinityarcata.com/wp-content/uploads/2025/07/Trinity-Baptist-Church-Sunday-Bible-study.jpg
END:VEVENT
BEGIN:VEVENT
DTSTART;TZID=America/Chicago:20291209T090000
DTEND;TZID=America/Chicago:20291209T094500
DTSTAMP:20260422T175848
CREATED:20250805T190715Z
LAST-MODIFIED:20250805T211610Z
UID:10001040-1891501200-1891503900@trinityarcata.com
SUMMARY:Sunday Bible Study
DESCRIPTION:Men and women\, singles and couples are invited to join us as we study the Word of God every Sunday morning before our Worship Gathering..
URL:https://trinityarcata.com/event/sunday-bible-study-4/2029-12-09/
CATEGORIES:Featured,Study
ATTACH;FMTTYPE=image/jpeg:https://trinityarcata.com/wp-content/uploads/2025/07/Trinity-Baptist-Church-Sunday-Bible-study.jpg
END:VEVENT
BEGIN:VEVENT
DTSTART;TZID=America/Chicago:20291216T090000
DTEND;TZID=America/Chicago:20291216T094500
DTSTAMP:20260422T175848
CREATED:20250805T190715Z
LAST-MODIFIED:20250805T211610Z
UID:10001041-1892106000-1892108700@trinityarcata.com
SUMMARY:Sunday Bible Study
DESCRIPTION:Men and women\, singles and couples are invited to join us as we study the Word of God every Sunday morning before our Worship Gathering..
URL:https://trinityarcata.com/event/sunday-bible-study-4/2029-12-16/
CATEGORIES:Featured,Study
ATTACH;FMTTYPE=image/jpeg:https://trinityarcata.com/wp-content/uploads/2025/07/Trinity-Baptist-Church-Sunday-Bible-study.jpg
END:VEVENT
BEGIN:VEVENT
DTSTART;TZID=America/Chicago:20291223T090000
DTEND;TZID=America/Chicago:20291223T094500
DTSTAMP:20260422T175848
CREATED:20250805T190715Z
LAST-MODIFIED:20250805T211610Z
UID:10001042-1892710800-1892713500@trinityarcata.com
SUMMARY:Sunday Bible Study
DESCRIPTION:Men and women\, singles and couples are invited to join us as we study the Word of God every Sunday morning before our Worship Gathering..
URL:https://trinityarcata.com/event/sunday-bible-study-4/2029-12-23/
CATEGORIES:Featured,Study
ATTACH;FMTTYPE=image/jpeg:https://trinityarcata.com/wp-content/uploads/2025/07/Trinity-Baptist-Church-Sunday-Bible-study.jpg
END:VEVENT
BEGIN:VEVENT
DTSTART;TZID=America/Chicago:20291230T090000
DTEND;TZID=America/Chicago:20291230T094500
DTSTAMP:20260422T175848
CREATED:20250805T190715Z
LAST-MODIFIED:20250805T211610Z
UID:10001043-1893315600-1893318300@trinityarcata.com
SUMMARY:Sunday Bible Study
DESCRIPTION:Men and women\, singles and couples are invited to join us as we study the Word of God every Sunday morning before our Worship Gathering..
URL:https://trinityarcata.com/event/sunday-bible-study-4/2029-12-30/
CATEGORIES:Featured,Study
ATTACH;FMTTYPE=image/jpeg:https://trinityarcata.com/wp-content/uploads/2025/07/Trinity-Baptist-Church-Sunday-Bible-study.jpg
END:VEVENT
BEGIN:VEVENT
DTSTART;TZID=America/Chicago:20300106T090000
DTEND;TZID=America/Chicago:20300106T094500
DTSTAMP:20260422T175848
CREATED:20250805T190715Z
LAST-MODIFIED:20250805T211610Z
UID:10001044-1893920400-1893923100@trinityarcata.com
SUMMARY:Sunday Bible Study
DESCRIPTION:Men and women\, singles and couples are invited to join us as we study the Word of God every Sunday morning before our Worship Gathering..
URL:https://trinityarcata.com/event/sunday-bible-study-4/2030-01-06/
CATEGORIES:Featured,Study
ATTACH;FMTTYPE=image/jpeg:https://trinityarcata.com/wp-content/uploads/2025/07/Trinity-Baptist-Church-Sunday-Bible-study.jpg
END:VEVENT
BEGIN:VEVENT
DTSTART;TZID=America/Chicago:20300113T090000
DTEND;TZID=America/Chicago:20300113T094500
DTSTAMP:20260422T175848
CREATED:20250805T190715Z
LAST-MODIFIED:20250805T211610Z
UID:10001045-1894525200-1894527900@trinityarcata.com
SUMMARY:Sunday Bible Study
DESCRIPTION:Men and women\, singles and couples are invited to join us as we study the Word of God every Sunday morning before our Worship Gathering..
URL:https://trinityarcata.com/event/sunday-bible-study-4/2030-01-13/
CATEGORIES:Featured,Study
ATTACH;FMTTYPE=image/jpeg:https://trinityarcata.com/wp-content/uploads/2025/07/Trinity-Baptist-Church-Sunday-Bible-study.jpg
END:VEVENT
BEGIN:VEVENT
DTSTART;TZID=America/Chicago:20300120T090000
DTEND;TZID=America/Chicago:20300120T094500
DTSTAMP:20260422T175848
CREATED:20250805T190715Z
LAST-MODIFIED:20250805T211610Z
UID:10001046-1895130000-1895132700@trinityarcata.com
SUMMARY:Sunday Bible Study
DESCRIPTION:Men and women\, singles and couples are invited to join us as we study the Word of God every Sunday morning before our Worship Gathering..
URL:https://trinityarcata.com/event/sunday-bible-study-4/2030-01-20/
CATEGORIES:Featured,Study
ATTACH;FMTTYPE=image/jpeg:https://trinityarcata.com/wp-content/uploads/2025/07/Trinity-Baptist-Church-Sunday-Bible-study.jpg
END:VEVENT
BEGIN:VEVENT
DTSTART;TZID=America/Chicago:20300127T090000
DTEND;TZID=America/Chicago:20300127T094500
DTSTAMP:20260422T175848
CREATED:20250805T190715Z
LAST-MODIFIED:20250805T211610Z
UID:10001047-1895734800-1895737500@trinityarcata.com
SUMMARY:Sunday Bible Study
DESCRIPTION:Men and women\, singles and couples are invited to join us as we study the Word of God every Sunday morning before our Worship Gathering..
URL:https://trinityarcata.com/event/sunday-bible-study-4/2030-01-27/
CATEGORIES:Featured,Study
ATTACH;FMTTYPE=image/jpeg:https://trinityarcata.com/wp-content/uploads/2025/07/Trinity-Baptist-Church-Sunday-Bible-study.jpg
END:VEVENT
BEGIN:VEVENT
DTSTART;TZID=America/Chicago:20300203T090000
DTEND;TZID=America/Chicago:20300203T094500
DTSTAMP:20260422T175848
CREATED:20250805T190715Z
LAST-MODIFIED:20250805T211610Z
UID:10001048-1896339600-1896342300@trinityarcata.com
SUMMARY:Sunday Bible Study
DESCRIPTION:Men and women\, singles and couples are invited to join us as we study the Word of God every Sunday morning before our Worship Gathering..
URL:https://trinityarcata.com/event/sunday-bible-study-4/2030-02-03/
CATEGORIES:Featured,Study
ATTACH;FMTTYPE=image/jpeg:https://trinityarcata.com/wp-content/uploads/2025/07/Trinity-Baptist-Church-Sunday-Bible-study.jpg
END:VEVENT
BEGIN:VEVENT
DTSTART;TZID=America/Chicago:20300210T090000
DTEND;TZID=America/Chicago:20300210T094500
DTSTAMP:20260422T175848
CREATED:20250805T190715Z
LAST-MODIFIED:20250805T211610Z
UID:10001049-1896944400-1896947100@trinityarcata.com
SUMMARY:Sunday Bible Study
DESCRIPTION:Men and women\, singles and couples are invited to join us as we study the Word of God every Sunday morning before our Worship Gathering..
URL:https://trinityarcata.com/event/sunday-bible-study-4/2030-02-10/
CATEGORIES:Featured,Study
ATTACH;FMTTYPE=image/jpeg:https://trinityarcata.com/wp-content/uploads/2025/07/Trinity-Baptist-Church-Sunday-Bible-study.jpg
END:VEVENT
BEGIN:VEVENT
DTSTART;TZID=America/Chicago:20300217T090000
DTEND;TZID=America/Chicago:20300217T094500
DTSTAMP:20260422T175848
CREATED:20250805T190715Z
LAST-MODIFIED:20250805T211610Z
UID:10001050-1897549200-1897551900@trinityarcata.com
SUMMARY:Sunday Bible Study
DESCRIPTION:Men and women\, singles and couples are invited to join us as we study the Word of God every Sunday morning before our Worship Gathering..
URL:https://trinityarcata.com/event/sunday-bible-study-4/2030-02-17/
CATEGORIES:Featured,Study
ATTACH;FMTTYPE=image/jpeg:https://trinityarcata.com/wp-content/uploads/2025/07/Trinity-Baptist-Church-Sunday-Bible-study.jpg
END:VEVENT
BEGIN:VEVENT
DTSTART;TZID=America/Chicago:20300224T090000
DTEND;TZID=America/Chicago:20300224T094500
DTSTAMP:20260422T175848
CREATED:20250805T190715Z
LAST-MODIFIED:20250805T211610Z
UID:10001051-1898154000-1898156700@trinityarcata.com
SUMMARY:Sunday Bible Study
DESCRIPTION:Men and women\, singles and couples are invited to join us as we study the Word of God every Sunday morning before our Worship Gathering..
URL:https://trinityarcata.com/event/sunday-bible-study-4/2030-02-24/
CATEGORIES:Featured,Study
ATTACH;FMTTYPE=image/jpeg:https://trinityarcata.com/wp-content/uploads/2025/07/Trinity-Baptist-Church-Sunday-Bible-study.jpg
END:VEVENT
BEGIN:VEVENT
DTSTART;TZID=America/Chicago:20300303T090000
DTEND;TZID=America/Chicago:20300303T094500
DTSTAMP:20260422T175848
CREATED:20250805T190715Z
LAST-MODIFIED:20250805T211610Z
UID:10001052-1898758800-1898761500@trinityarcata.com
SUMMARY:Sunday Bible Study
DESCRIPTION:Men and women\, singles and couples are invited to join us as we study the Word of God every Sunday morning before our Worship Gathering..
URL:https://trinityarcata.com/event/sunday-bible-study-4/2030-03-03/
CATEGORIES:Featured,Study
ATTACH;FMTTYPE=image/jpeg:https://trinityarcata.com/wp-content/uploads/2025/07/Trinity-Baptist-Church-Sunday-Bible-study.jpg
END:VEVENT
BEGIN:VEVENT
DTSTART;TZID=America/Chicago:20300310T090000
DTEND;TZID=America/Chicago:20300310T094500
DTSTAMP:20260422T175848
CREATED:20250805T190715Z
LAST-MODIFIED:20250805T211610Z
UID:10001053-1899363600-1899366300@trinityarcata.com
SUMMARY:Sunday Bible Study
DESCRIPTION:Men and women\, singles and couples are invited to join us as we study the Word of God every Sunday morning before our Worship Gathering..
URL:https://trinityarcata.com/event/sunday-bible-study-4/2030-03-10/
CATEGORIES:Featured,Study
ATTACH;FMTTYPE=image/jpeg:https://trinityarcata.com/wp-content/uploads/2025/07/Trinity-Baptist-Church-Sunday-Bible-study.jpg
END:VEVENT
END:VCALENDAR