BEGIN:VCALENDAR
VERSION:2.0
PRODID:-//Trinity Baptist Church - ECPv6.15.12.2//NONSGML v1.0//EN
CALSCALE:GREGORIAN
METHOD:PUBLISH
X-ORIGINAL-URL:https://trinityarcata.com
X-WR-CALDESC:Events for Trinity Baptist Church
REFRESH-INTERVAL;VALUE=DURATION:PT1H
X-Robots-Tag:noindex
X-PUBLISHED-TTL:PT1H
BEGIN:VTIMEZONE
TZID:America/Chicago
BEGIN:DAYLIGHT
TZOFFSETFROM:-0600
TZOFFSETTO:-0500
TZNAME:CDT
DTSTART:20270314T080000
END:DAYLIGHT
BEGIN:STANDARD
TZOFFSETFROM:-0500
TZOFFSETTO:-0600
TZNAME:CST
DTSTART:20271107T070000
END:STANDARD
BEGIN:DAYLIGHT
TZOFFSETFROM:-0600
TZOFFSETTO:-0500
TZNAME:CDT
DTSTART:20280312T080000
END:DAYLIGHT
BEGIN:STANDARD
TZOFFSETFROM:-0500
TZOFFSETTO:-0600
TZNAME:CST
DTSTART:20281105T070000
END:STANDARD
BEGIN:DAYLIGHT
TZOFFSETFROM:-0600
TZOFFSETTO:-0500
TZNAME:CDT
DTSTART:20290311T080000
END:DAYLIGHT
BEGIN:STANDARD
TZOFFSETFROM:-0500
TZOFFSETTO:-0600
TZNAME:CST
DTSTART:20291104T070000
END:STANDARD
BEGIN:DAYLIGHT
TZOFFSETFROM:-0600
TZOFFSETTO:-0500
TZNAME:CDT
DTSTART:20300310T080000
END:DAYLIGHT
BEGIN:STANDARD
TZOFFSETFROM:-0500
TZOFFSETTO:-0600
TZNAME:CST
DTSTART:20301103T070000
END:STANDARD
END:VTIMEZONE
BEGIN:VEVENT
DTSTART;TZID=America/Chicago:20281105T090000
DTEND;TZID=America/Chicago:20281105T094500
DTSTAMP:20260422T180225
CREATED:20250805T190715Z
LAST-MODIFIED:20250805T211610Z
UID:10000983-1857027600-1857030300@trinityarcata.com
SUMMARY:Sunday Bible Study
DESCRIPTION:Men and women\, singles and couples are invited to join us as we study the Word of God every Sunday morning before our Worship Gathering..
URL:https://trinityarcata.com/event/sunday-bible-study-4/2028-11-05/
CATEGORIES:Featured,Study
ATTACH;FMTTYPE=image/jpeg:https://trinityarcata.com/wp-content/uploads/2025/07/Trinity-Baptist-Church-Sunday-Bible-study.jpg
END:VEVENT
BEGIN:VEVENT
DTSTART;TZID=America/Chicago:20281112T090000
DTEND;TZID=America/Chicago:20281112T094500
DTSTAMP:20260422T180225
CREATED:20250805T190715Z
LAST-MODIFIED:20250805T211610Z
UID:10000984-1857632400-1857635100@trinityarcata.com
SUMMARY:Sunday Bible Study
DESCRIPTION:Men and women\, singles and couples are invited to join us as we study the Word of God every Sunday morning before our Worship Gathering..
URL:https://trinityarcata.com/event/sunday-bible-study-4/2028-11-12/
CATEGORIES:Featured,Study
ATTACH;FMTTYPE=image/jpeg:https://trinityarcata.com/wp-content/uploads/2025/07/Trinity-Baptist-Church-Sunday-Bible-study.jpg
END:VEVENT
BEGIN:VEVENT
DTSTART;TZID=America/Chicago:20281119T090000
DTEND;TZID=America/Chicago:20281119T094500
DTSTAMP:20260422T180225
CREATED:20250805T190715Z
LAST-MODIFIED:20250805T211610Z
UID:10000985-1858237200-1858239900@trinityarcata.com
SUMMARY:Sunday Bible Study
DESCRIPTION:Men and women\, singles and couples are invited to join us as we study the Word of God every Sunday morning before our Worship Gathering..
URL:https://trinityarcata.com/event/sunday-bible-study-4/2028-11-19/
CATEGORIES:Featured,Study
ATTACH;FMTTYPE=image/jpeg:https://trinityarcata.com/wp-content/uploads/2025/07/Trinity-Baptist-Church-Sunday-Bible-study.jpg
END:VEVENT
BEGIN:VEVENT
DTSTART;TZID=America/Chicago:20281126T090000
DTEND;TZID=America/Chicago:20281126T094500
DTSTAMP:20260422T180225
CREATED:20250805T190715Z
LAST-MODIFIED:20250805T211610Z
UID:10000986-1858842000-1858844700@trinityarcata.com
SUMMARY:Sunday Bible Study
DESCRIPTION:Men and women\, singles and couples are invited to join us as we study the Word of God every Sunday morning before our Worship Gathering..
URL:https://trinityarcata.com/event/sunday-bible-study-4/2028-11-26/
CATEGORIES:Featured,Study
ATTACH;FMTTYPE=image/jpeg:https://trinityarcata.com/wp-content/uploads/2025/07/Trinity-Baptist-Church-Sunday-Bible-study.jpg
END:VEVENT
BEGIN:VEVENT
DTSTART;TZID=America/Chicago:20281203T090000
DTEND;TZID=America/Chicago:20281203T094500
DTSTAMP:20260422T180225
CREATED:20250805T190715Z
LAST-MODIFIED:20250805T211610Z
UID:10000987-1859446800-1859449500@trinityarcata.com
SUMMARY:Sunday Bible Study
DESCRIPTION:Men and women\, singles and couples are invited to join us as we study the Word of God every Sunday morning before our Worship Gathering..
URL:https://trinityarcata.com/event/sunday-bible-study-4/2028-12-03/
CATEGORIES:Featured,Study
ATTACH;FMTTYPE=image/jpeg:https://trinityarcata.com/wp-content/uploads/2025/07/Trinity-Baptist-Church-Sunday-Bible-study.jpg
END:VEVENT
BEGIN:VEVENT
DTSTART;TZID=America/Chicago:20281210T090000
DTEND;TZID=America/Chicago:20281210T094500
DTSTAMP:20260422T180225
CREATED:20250805T190715Z
LAST-MODIFIED:20250805T211610Z
UID:10000988-1860051600-1860054300@trinityarcata.com
SUMMARY:Sunday Bible Study
DESCRIPTION:Men and women\, singles and couples are invited to join us as we study the Word of God every Sunday morning before our Worship Gathering..
URL:https://trinityarcata.com/event/sunday-bible-study-4/2028-12-10/
CATEGORIES:Featured,Study
ATTACH;FMTTYPE=image/jpeg:https://trinityarcata.com/wp-content/uploads/2025/07/Trinity-Baptist-Church-Sunday-Bible-study.jpg
END:VEVENT
BEGIN:VEVENT
DTSTART;TZID=America/Chicago:20281217T090000
DTEND;TZID=America/Chicago:20281217T094500
DTSTAMP:20260422T180225
CREATED:20250805T190715Z
LAST-MODIFIED:20250805T211610Z
UID:10000989-1860656400-1860659100@trinityarcata.com
SUMMARY:Sunday Bible Study
DESCRIPTION:Men and women\, singles and couples are invited to join us as we study the Word of God every Sunday morning before our Worship Gathering..
URL:https://trinityarcata.com/event/sunday-bible-study-4/2028-12-17/
CATEGORIES:Featured,Study
ATTACH;FMTTYPE=image/jpeg:https://trinityarcata.com/wp-content/uploads/2025/07/Trinity-Baptist-Church-Sunday-Bible-study.jpg
END:VEVENT
BEGIN:VEVENT
DTSTART;TZID=America/Chicago:20281224T090000
DTEND;TZID=America/Chicago:20281224T094500
DTSTAMP:20260422T180225
CREATED:20250805T190715Z
LAST-MODIFIED:20250805T211610Z
UID:10000990-1861261200-1861263900@trinityarcata.com
SUMMARY:Sunday Bible Study
DESCRIPTION:Men and women\, singles and couples are invited to join us as we study the Word of God every Sunday morning before our Worship Gathering..
URL:https://trinityarcata.com/event/sunday-bible-study-4/2028-12-24/
CATEGORIES:Featured,Study
ATTACH;FMTTYPE=image/jpeg:https://trinityarcata.com/wp-content/uploads/2025/07/Trinity-Baptist-Church-Sunday-Bible-study.jpg
END:VEVENT
BEGIN:VEVENT
DTSTART;TZID=America/Chicago:20281231T090000
DTEND;TZID=America/Chicago:20281231T094500
DTSTAMP:20260422T180225
CREATED:20250805T190715Z
LAST-MODIFIED:20250805T211610Z
UID:10000991-1861866000-1861868700@trinityarcata.com
SUMMARY:Sunday Bible Study
DESCRIPTION:Men and women\, singles and couples are invited to join us as we study the Word of God every Sunday morning before our Worship Gathering..
URL:https://trinityarcata.com/event/sunday-bible-study-4/2028-12-31/
CATEGORIES:Featured,Study
ATTACH;FMTTYPE=image/jpeg:https://trinityarcata.com/wp-content/uploads/2025/07/Trinity-Baptist-Church-Sunday-Bible-study.jpg
END:VEVENT
BEGIN:VEVENT
DTSTART;TZID=America/Chicago:20290107T090000
DTEND;TZID=America/Chicago:20290107T094500
DTSTAMP:20260422T180225
CREATED:20250805T190715Z
LAST-MODIFIED:20250805T211610Z
UID:10000992-1862470800-1862473500@trinityarcata.com
SUMMARY:Sunday Bible Study
DESCRIPTION:Men and women\, singles and couples are invited to join us as we study the Word of God every Sunday morning before our Worship Gathering..
URL:https://trinityarcata.com/event/sunday-bible-study-4/2029-01-07/
CATEGORIES:Featured,Study
ATTACH;FMTTYPE=image/jpeg:https://trinityarcata.com/wp-content/uploads/2025/07/Trinity-Baptist-Church-Sunday-Bible-study.jpg
END:VEVENT
BEGIN:VEVENT
DTSTART;TZID=America/Chicago:20290114T090000
DTEND;TZID=America/Chicago:20290114T094500
DTSTAMP:20260422T180225
CREATED:20250805T190715Z
LAST-MODIFIED:20250805T211610Z
UID:10000993-1863075600-1863078300@trinityarcata.com
SUMMARY:Sunday Bible Study
DESCRIPTION:Men and women\, singles and couples are invited to join us as we study the Word of God every Sunday morning before our Worship Gathering..
URL:https://trinityarcata.com/event/sunday-bible-study-4/2029-01-14/
CATEGORIES:Featured,Study
ATTACH;FMTTYPE=image/jpeg:https://trinityarcata.com/wp-content/uploads/2025/07/Trinity-Baptist-Church-Sunday-Bible-study.jpg
END:VEVENT
BEGIN:VEVENT
DTSTART;TZID=America/Chicago:20290121T090000
DTEND;TZID=America/Chicago:20290121T094500
DTSTAMP:20260422T180225
CREATED:20250805T190715Z
LAST-MODIFIED:20250805T211610Z
UID:10000994-1863680400-1863683100@trinityarcata.com
SUMMARY:Sunday Bible Study
DESCRIPTION:Men and women\, singles and couples are invited to join us as we study the Word of God every Sunday morning before our Worship Gathering..
URL:https://trinityarcata.com/event/sunday-bible-study-4/2029-01-21/
CATEGORIES:Featured,Study
ATTACH;FMTTYPE=image/jpeg:https://trinityarcata.com/wp-content/uploads/2025/07/Trinity-Baptist-Church-Sunday-Bible-study.jpg
END:VEVENT
BEGIN:VEVENT
DTSTART;TZID=America/Chicago:20290128T090000
DTEND;TZID=America/Chicago:20290128T094500
DTSTAMP:20260422T180225
CREATED:20250805T190715Z
LAST-MODIFIED:20250805T211610Z
UID:10000995-1864285200-1864287900@trinityarcata.com
SUMMARY:Sunday Bible Study
DESCRIPTION:Men and women\, singles and couples are invited to join us as we study the Word of God every Sunday morning before our Worship Gathering..
URL:https://trinityarcata.com/event/sunday-bible-study-4/2029-01-28/
CATEGORIES:Featured,Study
ATTACH;FMTTYPE=image/jpeg:https://trinityarcata.com/wp-content/uploads/2025/07/Trinity-Baptist-Church-Sunday-Bible-study.jpg
END:VEVENT
BEGIN:VEVENT
DTSTART;TZID=America/Chicago:20290204T090000
DTEND;TZID=America/Chicago:20290204T094500
DTSTAMP:20260422T180225
CREATED:20250805T190715Z
LAST-MODIFIED:20250805T211610Z
UID:10000996-1864890000-1864892700@trinityarcata.com
SUMMARY:Sunday Bible Study
DESCRIPTION:Men and women\, singles and couples are invited to join us as we study the Word of God every Sunday morning before our Worship Gathering..
URL:https://trinityarcata.com/event/sunday-bible-study-4/2029-02-04/
CATEGORIES:Featured,Study
ATTACH;FMTTYPE=image/jpeg:https://trinityarcata.com/wp-content/uploads/2025/07/Trinity-Baptist-Church-Sunday-Bible-study.jpg
END:VEVENT
BEGIN:VEVENT
DTSTART;TZID=America/Chicago:20290211T090000
DTEND;TZID=America/Chicago:20290211T094500
DTSTAMP:20260422T180225
CREATED:20250805T190715Z
LAST-MODIFIED:20250805T211610Z
UID:10000997-1865494800-1865497500@trinityarcata.com
SUMMARY:Sunday Bible Study
DESCRIPTION:Men and women\, singles and couples are invited to join us as we study the Word of God every Sunday morning before our Worship Gathering..
URL:https://trinityarcata.com/event/sunday-bible-study-4/2029-02-11/
CATEGORIES:Featured,Study
ATTACH;FMTTYPE=image/jpeg:https://trinityarcata.com/wp-content/uploads/2025/07/Trinity-Baptist-Church-Sunday-Bible-study.jpg
END:VEVENT
BEGIN:VEVENT
DTSTART;TZID=America/Chicago:20290218T090000
DTEND;TZID=America/Chicago:20290218T094500
DTSTAMP:20260422T180225
CREATED:20250805T190715Z
LAST-MODIFIED:20250805T211610Z
UID:10000998-1866099600-1866102300@trinityarcata.com
SUMMARY:Sunday Bible Study
DESCRIPTION:Men and women\, singles and couples are invited to join us as we study the Word of God every Sunday morning before our Worship Gathering..
URL:https://trinityarcata.com/event/sunday-bible-study-4/2029-02-18/
CATEGORIES:Featured,Study
ATTACH;FMTTYPE=image/jpeg:https://trinityarcata.com/wp-content/uploads/2025/07/Trinity-Baptist-Church-Sunday-Bible-study.jpg
END:VEVENT
BEGIN:VEVENT
DTSTART;TZID=America/Chicago:20290225T090000
DTEND;TZID=America/Chicago:20290225T094500
DTSTAMP:20260422T180225
CREATED:20250805T190715Z
LAST-MODIFIED:20250805T211610Z
UID:10000999-1866704400-1866707100@trinityarcata.com
SUMMARY:Sunday Bible Study
DESCRIPTION:Men and women\, singles and couples are invited to join us as we study the Word of God every Sunday morning before our Worship Gathering..
URL:https://trinityarcata.com/event/sunday-bible-study-4/2029-02-25/
CATEGORIES:Featured,Study
ATTACH;FMTTYPE=image/jpeg:https://trinityarcata.com/wp-content/uploads/2025/07/Trinity-Baptist-Church-Sunday-Bible-study.jpg
END:VEVENT
BEGIN:VEVENT
DTSTART;TZID=America/Chicago:20290304T090000
DTEND;TZID=America/Chicago:20290304T094500
DTSTAMP:20260422T180225
CREATED:20250805T190715Z
LAST-MODIFIED:20250805T211610Z
UID:10001000-1867309200-1867311900@trinityarcata.com
SUMMARY:Sunday Bible Study
DESCRIPTION:Men and women\, singles and couples are invited to join us as we study the Word of God every Sunday morning before our Worship Gathering..
URL:https://trinityarcata.com/event/sunday-bible-study-4/2029-03-04/
CATEGORIES:Featured,Study
ATTACH;FMTTYPE=image/jpeg:https://trinityarcata.com/wp-content/uploads/2025/07/Trinity-Baptist-Church-Sunday-Bible-study.jpg
END:VEVENT
BEGIN:VEVENT
DTSTART;TZID=America/Chicago:20290311T090000
DTEND;TZID=America/Chicago:20290311T094500
DTSTAMP:20260422T180225
CREATED:20250805T190715Z
LAST-MODIFIED:20250805T211610Z
UID:10001001-1867914000-1867916700@trinityarcata.com
SUMMARY:Sunday Bible Study
DESCRIPTION:Men and women\, singles and couples are invited to join us as we study the Word of God every Sunday morning before our Worship Gathering..
URL:https://trinityarcata.com/event/sunday-bible-study-4/2029-03-11/
CATEGORIES:Featured,Study
ATTACH;FMTTYPE=image/jpeg:https://trinityarcata.com/wp-content/uploads/2025/07/Trinity-Baptist-Church-Sunday-Bible-study.jpg
END:VEVENT
BEGIN:VEVENT
DTSTART;TZID=America/Chicago:20290318T090000
DTEND;TZID=America/Chicago:20290318T094500
DTSTAMP:20260422T180225
CREATED:20250805T190715Z
LAST-MODIFIED:20250805T211610Z
UID:10001002-1868518800-1868521500@trinityarcata.com
SUMMARY:Sunday Bible Study
DESCRIPTION:Men and women\, singles and couples are invited to join us as we study the Word of God every Sunday morning before our Worship Gathering..
URL:https://trinityarcata.com/event/sunday-bible-study-4/2029-03-18/
CATEGORIES:Featured,Study
ATTACH;FMTTYPE=image/jpeg:https://trinityarcata.com/wp-content/uploads/2025/07/Trinity-Baptist-Church-Sunday-Bible-study.jpg
END:VEVENT
BEGIN:VEVENT
DTSTART;TZID=America/Chicago:20290325T090000
DTEND;TZID=America/Chicago:20290325T094500
DTSTAMP:20260422T180225
CREATED:20250805T190715Z
LAST-MODIFIED:20250805T211610Z
UID:10001003-1869123600-1869126300@trinityarcata.com
SUMMARY:Sunday Bible Study
DESCRIPTION:Men and women\, singles and couples are invited to join us as we study the Word of God every Sunday morning before our Worship Gathering..
URL:https://trinityarcata.com/event/sunday-bible-study-4/2029-03-25/
CATEGORIES:Featured,Study
ATTACH;FMTTYPE=image/jpeg:https://trinityarcata.com/wp-content/uploads/2025/07/Trinity-Baptist-Church-Sunday-Bible-study.jpg
END:VEVENT
BEGIN:VEVENT
DTSTART;TZID=America/Chicago:20290401T090000
DTEND;TZID=America/Chicago:20290401T094500
DTSTAMP:20260422T180225
CREATED:20250805T190715Z
LAST-MODIFIED:20250805T211610Z
UID:10001004-1869728400-1869731100@trinityarcata.com
SUMMARY:Sunday Bible Study
DESCRIPTION:Men and women\, singles and couples are invited to join us as we study the Word of God every Sunday morning before our Worship Gathering..
URL:https://trinityarcata.com/event/sunday-bible-study-4/2029-04-01/
CATEGORIES:Featured,Study
ATTACH;FMTTYPE=image/jpeg:https://trinityarcata.com/wp-content/uploads/2025/07/Trinity-Baptist-Church-Sunday-Bible-study.jpg
END:VEVENT
BEGIN:VEVENT
DTSTART;TZID=America/Chicago:20290408T090000
DTEND;TZID=America/Chicago:20290408T094500
DTSTAMP:20260422T180225
CREATED:20250805T190715Z
LAST-MODIFIED:20250805T211610Z
UID:10001005-1870333200-1870335900@trinityarcata.com
SUMMARY:Sunday Bible Study
DESCRIPTION:Men and women\, singles and couples are invited to join us as we study the Word of God every Sunday morning before our Worship Gathering..
URL:https://trinityarcata.com/event/sunday-bible-study-4/2029-04-08/
CATEGORIES:Featured,Study
ATTACH;FMTTYPE=image/jpeg:https://trinityarcata.com/wp-content/uploads/2025/07/Trinity-Baptist-Church-Sunday-Bible-study.jpg
END:VEVENT
BEGIN:VEVENT
DTSTART;TZID=America/Chicago:20290415T090000
DTEND;TZID=America/Chicago:20290415T094500
DTSTAMP:20260422T180225
CREATED:20250805T190715Z
LAST-MODIFIED:20250805T211610Z
UID:10001006-1870938000-1870940700@trinityarcata.com
SUMMARY:Sunday Bible Study
DESCRIPTION:Men and women\, singles and couples are invited to join us as we study the Word of God every Sunday morning before our Worship Gathering..
URL:https://trinityarcata.com/event/sunday-bible-study-4/2029-04-15/
CATEGORIES:Featured,Study
ATTACH;FMTTYPE=image/jpeg:https://trinityarcata.com/wp-content/uploads/2025/07/Trinity-Baptist-Church-Sunday-Bible-study.jpg
END:VEVENT
BEGIN:VEVENT
DTSTART;TZID=America/Chicago:20290422T090000
DTEND;TZID=America/Chicago:20290422T094500
DTSTAMP:20260422T180225
CREATED:20250805T190715Z
LAST-MODIFIED:20250805T211610Z
UID:10001007-1871542800-1871545500@trinityarcata.com
SUMMARY:Sunday Bible Study
DESCRIPTION:Men and women\, singles and couples are invited to join us as we study the Word of God every Sunday morning before our Worship Gathering..
URL:https://trinityarcata.com/event/sunday-bible-study-4/2029-04-22/
CATEGORIES:Featured,Study
ATTACH;FMTTYPE=image/jpeg:https://trinityarcata.com/wp-content/uploads/2025/07/Trinity-Baptist-Church-Sunday-Bible-study.jpg
END:VEVENT
BEGIN:VEVENT
DTSTART;TZID=America/Chicago:20290429T090000
DTEND;TZID=America/Chicago:20290429T094500
DTSTAMP:20260422T180225
CREATED:20250805T190715Z
LAST-MODIFIED:20250805T211610Z
UID:10001008-1872147600-1872150300@trinityarcata.com
SUMMARY:Sunday Bible Study
DESCRIPTION:Men and women\, singles and couples are invited to join us as we study the Word of God every Sunday morning before our Worship Gathering..
URL:https://trinityarcata.com/event/sunday-bible-study-4/2029-04-29/
CATEGORIES:Featured,Study
ATTACH;FMTTYPE=image/jpeg:https://trinityarcata.com/wp-content/uploads/2025/07/Trinity-Baptist-Church-Sunday-Bible-study.jpg
END:VEVENT
BEGIN:VEVENT
DTSTART;TZID=America/Chicago:20290506T090000
DTEND;TZID=America/Chicago:20290506T094500
DTSTAMP:20260422T180225
CREATED:20250805T190715Z
LAST-MODIFIED:20250805T211610Z
UID:10001009-1872752400-1872755100@trinityarcata.com
SUMMARY:Sunday Bible Study
DESCRIPTION:Men and women\, singles and couples are invited to join us as we study the Word of God every Sunday morning before our Worship Gathering..
URL:https://trinityarcata.com/event/sunday-bible-study-4/2029-05-06/
CATEGORIES:Featured,Study
ATTACH;FMTTYPE=image/jpeg:https://trinityarcata.com/wp-content/uploads/2025/07/Trinity-Baptist-Church-Sunday-Bible-study.jpg
END:VEVENT
BEGIN:VEVENT
DTSTART;TZID=America/Chicago:20290513T090000
DTEND;TZID=America/Chicago:20290513T094500
DTSTAMP:20260422T180225
CREATED:20250805T190715Z
LAST-MODIFIED:20250805T211610Z
UID:10001010-1873357200-1873359900@trinityarcata.com
SUMMARY:Sunday Bible Study
DESCRIPTION:Men and women\, singles and couples are invited to join us as we study the Word of God every Sunday morning before our Worship Gathering..
URL:https://trinityarcata.com/event/sunday-bible-study-4/2029-05-13/
CATEGORIES:Featured,Study
ATTACH;FMTTYPE=image/jpeg:https://trinityarcata.com/wp-content/uploads/2025/07/Trinity-Baptist-Church-Sunday-Bible-study.jpg
END:VEVENT
BEGIN:VEVENT
DTSTART;TZID=America/Chicago:20290520T090000
DTEND;TZID=America/Chicago:20290520T094500
DTSTAMP:20260422T180225
CREATED:20250805T190715Z
LAST-MODIFIED:20250805T211610Z
UID:10001011-1873962000-1873964700@trinityarcata.com
SUMMARY:Sunday Bible Study
DESCRIPTION:Men and women\, singles and couples are invited to join us as we study the Word of God every Sunday morning before our Worship Gathering..
URL:https://trinityarcata.com/event/sunday-bible-study-4/2029-05-20/
CATEGORIES:Featured,Study
ATTACH;FMTTYPE=image/jpeg:https://trinityarcata.com/wp-content/uploads/2025/07/Trinity-Baptist-Church-Sunday-Bible-study.jpg
END:VEVENT
BEGIN:VEVENT
DTSTART;TZID=America/Chicago:20290527T090000
DTEND;TZID=America/Chicago:20290527T094500
DTSTAMP:20260422T180225
CREATED:20250805T190715Z
LAST-MODIFIED:20250805T211610Z
UID:10001012-1874566800-1874569500@trinityarcata.com
SUMMARY:Sunday Bible Study
DESCRIPTION:Men and women\, singles and couples are invited to join us as we study the Word of God every Sunday morning before our Worship Gathering..
URL:https://trinityarcata.com/event/sunday-bible-study-4/2029-05-27/
CATEGORIES:Featured,Study
ATTACH;FMTTYPE=image/jpeg:https://trinityarcata.com/wp-content/uploads/2025/07/Trinity-Baptist-Church-Sunday-Bible-study.jpg
END:VEVENT
END:VCALENDAR