BEGIN:VCALENDAR
VERSION:2.0
PRODID:-//Trinity Baptist Church - ECPv6.15.12.2//NONSGML v1.0//EN
CALSCALE:GREGORIAN
METHOD:PUBLISH
X-ORIGINAL-URL:https://trinityarcata.com
X-WR-CALDESC:Events for Trinity Baptist Church
REFRESH-INTERVAL;VALUE=DURATION:PT1H
X-Robots-Tag:noindex
X-PUBLISHED-TTL:PT1H
BEGIN:VTIMEZONE
TZID:America/Chicago
BEGIN:DAYLIGHT
TZOFFSETFROM:-0600
TZOFFSETTO:-0500
TZNAME:CDT
DTSTART:20290311T080000
END:DAYLIGHT
BEGIN:STANDARD
TZOFFSETFROM:-0500
TZOFFSETTO:-0600
TZNAME:CST
DTSTART:20291104T070000
END:STANDARD
BEGIN:DAYLIGHT
TZOFFSETFROM:-0600
TZOFFSETTO:-0500
TZNAME:CDT
DTSTART:20300310T080000
END:DAYLIGHT
BEGIN:STANDARD
TZOFFSETFROM:-0500
TZOFFSETTO:-0600
TZNAME:CST
DTSTART:20301103T070000
END:STANDARD
BEGIN:DAYLIGHT
TZOFFSETFROM:-0600
TZOFFSETTO:-0500
TZNAME:CDT
DTSTART:20310309T080000
END:DAYLIGHT
BEGIN:STANDARD
TZOFFSETFROM:-0500
TZOFFSETTO:-0600
TZNAME:CST
DTSTART:20311102T070000
END:STANDARD
END:VTIMEZONE
BEGIN:VEVENT
DTSTART;TZID=America/Chicago:20300317T090000
DTEND;TZID=America/Chicago:20300317T094500
DTSTAMP:20260422T170148
CREATED:20250805T190715Z
LAST-MODIFIED:20250805T211610Z
UID:10001054-1899968400-1899971100@trinityarcata.com
SUMMARY:Sunday Bible Study
DESCRIPTION:Men and women\, singles and couples are invited to join us as we study the Word of God every Sunday morning before our Worship Gathering..
URL:https://trinityarcata.com/event/sunday-bible-study-4/2030-03-17/
CATEGORIES:Featured,Study
ATTACH;FMTTYPE=image/jpeg:https://trinityarcata.com/wp-content/uploads/2025/07/Trinity-Baptist-Church-Sunday-Bible-study.jpg
END:VEVENT
BEGIN:VEVENT
DTSTART;TZID=America/Chicago:20300324T090000
DTEND;TZID=America/Chicago:20300324T094500
DTSTAMP:20260422T170148
CREATED:20250805T190715Z
LAST-MODIFIED:20250805T211610Z
UID:10001055-1900573200-1900575900@trinityarcata.com
SUMMARY:Sunday Bible Study
DESCRIPTION:Men and women\, singles and couples are invited to join us as we study the Word of God every Sunday morning before our Worship Gathering..
URL:https://trinityarcata.com/event/sunday-bible-study-4/2030-03-24/
CATEGORIES:Featured,Study
ATTACH;FMTTYPE=image/jpeg:https://trinityarcata.com/wp-content/uploads/2025/07/Trinity-Baptist-Church-Sunday-Bible-study.jpg
END:VEVENT
BEGIN:VEVENT
DTSTART;TZID=America/Chicago:20300331T090000
DTEND;TZID=America/Chicago:20300331T094500
DTSTAMP:20260422T170148
CREATED:20250805T190715Z
LAST-MODIFIED:20250805T211610Z
UID:10001056-1901178000-1901180700@trinityarcata.com
SUMMARY:Sunday Bible Study
DESCRIPTION:Men and women\, singles and couples are invited to join us as we study the Word of God every Sunday morning before our Worship Gathering..
URL:https://trinityarcata.com/event/sunday-bible-study-4/2030-03-31/
CATEGORIES:Featured,Study
ATTACH;FMTTYPE=image/jpeg:https://trinityarcata.com/wp-content/uploads/2025/07/Trinity-Baptist-Church-Sunday-Bible-study.jpg
END:VEVENT
BEGIN:VEVENT
DTSTART;TZID=America/Chicago:20300407T090000
DTEND;TZID=America/Chicago:20300407T094500
DTSTAMP:20260422T170148
CREATED:20250805T190715Z
LAST-MODIFIED:20250805T211610Z
UID:10001057-1901782800-1901785500@trinityarcata.com
SUMMARY:Sunday Bible Study
DESCRIPTION:Men and women\, singles and couples are invited to join us as we study the Word of God every Sunday morning before our Worship Gathering..
URL:https://trinityarcata.com/event/sunday-bible-study-4/2030-04-07/
CATEGORIES:Featured,Study
ATTACH;FMTTYPE=image/jpeg:https://trinityarcata.com/wp-content/uploads/2025/07/Trinity-Baptist-Church-Sunday-Bible-study.jpg
END:VEVENT
BEGIN:VEVENT
DTSTART;TZID=America/Chicago:20300414T090000
DTEND;TZID=America/Chicago:20300414T094500
DTSTAMP:20260422T170148
CREATED:20250805T190715Z
LAST-MODIFIED:20250805T211610Z
UID:10001058-1902387600-1902390300@trinityarcata.com
SUMMARY:Sunday Bible Study
DESCRIPTION:Men and women\, singles and couples are invited to join us as we study the Word of God every Sunday morning before our Worship Gathering..
URL:https://trinityarcata.com/event/sunday-bible-study-4/2030-04-14/
CATEGORIES:Featured,Study
ATTACH;FMTTYPE=image/jpeg:https://trinityarcata.com/wp-content/uploads/2025/07/Trinity-Baptist-Church-Sunday-Bible-study.jpg
END:VEVENT
BEGIN:VEVENT
DTSTART;TZID=America/Chicago:20300421T090000
DTEND;TZID=America/Chicago:20300421T094500
DTSTAMP:20260422T170148
CREATED:20250805T190715Z
LAST-MODIFIED:20250805T211610Z
UID:10001059-1902992400-1902995100@trinityarcata.com
SUMMARY:Sunday Bible Study
DESCRIPTION:Men and women\, singles and couples are invited to join us as we study the Word of God every Sunday morning before our Worship Gathering..
URL:https://trinityarcata.com/event/sunday-bible-study-4/2030-04-21/
CATEGORIES:Featured,Study
ATTACH;FMTTYPE=image/jpeg:https://trinityarcata.com/wp-content/uploads/2025/07/Trinity-Baptist-Church-Sunday-Bible-study.jpg
END:VEVENT
BEGIN:VEVENT
DTSTART;TZID=America/Chicago:20300428T090000
DTEND;TZID=America/Chicago:20300428T094500
DTSTAMP:20260422T170148
CREATED:20250805T190715Z
LAST-MODIFIED:20250805T211610Z
UID:10001060-1903597200-1903599900@trinityarcata.com
SUMMARY:Sunday Bible Study
DESCRIPTION:Men and women\, singles and couples are invited to join us as we study the Word of God every Sunday morning before our Worship Gathering..
URL:https://trinityarcata.com/event/sunday-bible-study-4/2030-04-28/
CATEGORIES:Featured,Study
ATTACH;FMTTYPE=image/jpeg:https://trinityarcata.com/wp-content/uploads/2025/07/Trinity-Baptist-Church-Sunday-Bible-study.jpg
END:VEVENT
BEGIN:VEVENT
DTSTART;TZID=America/Chicago:20300505T090000
DTEND;TZID=America/Chicago:20300505T094500
DTSTAMP:20260422T170148
CREATED:20250805T190715Z
LAST-MODIFIED:20250805T211610Z
UID:10001061-1904202000-1904204700@trinityarcata.com
SUMMARY:Sunday Bible Study
DESCRIPTION:Men and women\, singles and couples are invited to join us as we study the Word of God every Sunday morning before our Worship Gathering..
URL:https://trinityarcata.com/event/sunday-bible-study-4/2030-05-05/
CATEGORIES:Featured,Study
ATTACH;FMTTYPE=image/jpeg:https://trinityarcata.com/wp-content/uploads/2025/07/Trinity-Baptist-Church-Sunday-Bible-study.jpg
END:VEVENT
BEGIN:VEVENT
DTSTART;TZID=America/Chicago:20300512T090000
DTEND;TZID=America/Chicago:20300512T094500
DTSTAMP:20260422T170148
CREATED:20250805T190715Z
LAST-MODIFIED:20250805T211610Z
UID:10001062-1904806800-1904809500@trinityarcata.com
SUMMARY:Sunday Bible Study
DESCRIPTION:Men and women\, singles and couples are invited to join us as we study the Word of God every Sunday morning before our Worship Gathering..
URL:https://trinityarcata.com/event/sunday-bible-study-4/2030-05-12/
CATEGORIES:Featured,Study
ATTACH;FMTTYPE=image/jpeg:https://trinityarcata.com/wp-content/uploads/2025/07/Trinity-Baptist-Church-Sunday-Bible-study.jpg
END:VEVENT
BEGIN:VEVENT
DTSTART;TZID=America/Chicago:20300519T090000
DTEND;TZID=America/Chicago:20300519T094500
DTSTAMP:20260422T170148
CREATED:20250805T190715Z
LAST-MODIFIED:20250805T211610Z
UID:10001063-1905411600-1905414300@trinityarcata.com
SUMMARY:Sunday Bible Study
DESCRIPTION:Men and women\, singles and couples are invited to join us as we study the Word of God every Sunday morning before our Worship Gathering..
URL:https://trinityarcata.com/event/sunday-bible-study-4/2030-05-19/
CATEGORIES:Featured,Study
ATTACH;FMTTYPE=image/jpeg:https://trinityarcata.com/wp-content/uploads/2025/07/Trinity-Baptist-Church-Sunday-Bible-study.jpg
END:VEVENT
BEGIN:VEVENT
DTSTART;TZID=America/Chicago:20300526T090000
DTEND;TZID=America/Chicago:20300526T094500
DTSTAMP:20260422T170148
CREATED:20250805T190715Z
LAST-MODIFIED:20250805T211610Z
UID:10001064-1906016400-1906019100@trinityarcata.com
SUMMARY:Sunday Bible Study
DESCRIPTION:Men and women\, singles and couples are invited to join us as we study the Word of God every Sunday morning before our Worship Gathering..
URL:https://trinityarcata.com/event/sunday-bible-study-4/2030-05-26/
CATEGORIES:Featured,Study
ATTACH;FMTTYPE=image/jpeg:https://trinityarcata.com/wp-content/uploads/2025/07/Trinity-Baptist-Church-Sunday-Bible-study.jpg
END:VEVENT
BEGIN:VEVENT
DTSTART;TZID=America/Chicago:20300602T090000
DTEND;TZID=America/Chicago:20300602T094500
DTSTAMP:20260422T170148
CREATED:20250805T190715Z
LAST-MODIFIED:20250805T211610Z
UID:10001065-1906621200-1906623900@trinityarcata.com
SUMMARY:Sunday Bible Study
DESCRIPTION:Men and women\, singles and couples are invited to join us as we study the Word of God every Sunday morning before our Worship Gathering..
URL:https://trinityarcata.com/event/sunday-bible-study-4/2030-06-02/
CATEGORIES:Featured,Study
ATTACH;FMTTYPE=image/jpeg:https://trinityarcata.com/wp-content/uploads/2025/07/Trinity-Baptist-Church-Sunday-Bible-study.jpg
END:VEVENT
BEGIN:VEVENT
DTSTART;TZID=America/Chicago:20300609T090000
DTEND;TZID=America/Chicago:20300609T094500
DTSTAMP:20260422T170148
CREATED:20250805T190715Z
LAST-MODIFIED:20250805T211610Z
UID:10001066-1907226000-1907228700@trinityarcata.com
SUMMARY:Sunday Bible Study
DESCRIPTION:Men and women\, singles and couples are invited to join us as we study the Word of God every Sunday morning before our Worship Gathering..
URL:https://trinityarcata.com/event/sunday-bible-study-4/2030-06-09/
CATEGORIES:Featured,Study
ATTACH;FMTTYPE=image/jpeg:https://trinityarcata.com/wp-content/uploads/2025/07/Trinity-Baptist-Church-Sunday-Bible-study.jpg
END:VEVENT
BEGIN:VEVENT
DTSTART;TZID=America/Chicago:20300616T090000
DTEND;TZID=America/Chicago:20300616T094500
DTSTAMP:20260422T170148
CREATED:20250805T190715Z
LAST-MODIFIED:20250805T211610Z
UID:10001067-1907830800-1907833500@trinityarcata.com
SUMMARY:Sunday Bible Study
DESCRIPTION:Men and women\, singles and couples are invited to join us as we study the Word of God every Sunday morning before our Worship Gathering..
URL:https://trinityarcata.com/event/sunday-bible-study-4/2030-06-16/
CATEGORIES:Featured,Study
ATTACH;FMTTYPE=image/jpeg:https://trinityarcata.com/wp-content/uploads/2025/07/Trinity-Baptist-Church-Sunday-Bible-study.jpg
END:VEVENT
BEGIN:VEVENT
DTSTART;TZID=America/Chicago:20300623T090000
DTEND;TZID=America/Chicago:20300623T094500
DTSTAMP:20260422T170148
CREATED:20250805T190715Z
LAST-MODIFIED:20250805T211610Z
UID:10001068-1908435600-1908438300@trinityarcata.com
SUMMARY:Sunday Bible Study
DESCRIPTION:Men and women\, singles and couples are invited to join us as we study the Word of God every Sunday morning before our Worship Gathering..
URL:https://trinityarcata.com/event/sunday-bible-study-4/2030-06-23/
CATEGORIES:Featured,Study
ATTACH;FMTTYPE=image/jpeg:https://trinityarcata.com/wp-content/uploads/2025/07/Trinity-Baptist-Church-Sunday-Bible-study.jpg
END:VEVENT
BEGIN:VEVENT
DTSTART;TZID=America/Chicago:20300630T090000
DTEND;TZID=America/Chicago:20300630T094500
DTSTAMP:20260422T170148
CREATED:20250805T190715Z
LAST-MODIFIED:20250805T211610Z
UID:10001069-1909040400-1909043100@trinityarcata.com
SUMMARY:Sunday Bible Study
DESCRIPTION:Men and women\, singles and couples are invited to join us as we study the Word of God every Sunday morning before our Worship Gathering..
URL:https://trinityarcata.com/event/sunday-bible-study-4/2030-06-30/
CATEGORIES:Featured,Study
ATTACH;FMTTYPE=image/jpeg:https://trinityarcata.com/wp-content/uploads/2025/07/Trinity-Baptist-Church-Sunday-Bible-study.jpg
END:VEVENT
BEGIN:VEVENT
DTSTART;TZID=America/Chicago:20300707T090000
DTEND;TZID=America/Chicago:20300707T094500
DTSTAMP:20260422T170148
CREATED:20250805T190715Z
LAST-MODIFIED:20250805T211610Z
UID:10001070-1909645200-1909647900@trinityarcata.com
SUMMARY:Sunday Bible Study
DESCRIPTION:Men and women\, singles and couples are invited to join us as we study the Word of God every Sunday morning before our Worship Gathering..
URL:https://trinityarcata.com/event/sunday-bible-study-4/2030-07-07/
CATEGORIES:Featured,Study
ATTACH;FMTTYPE=image/jpeg:https://trinityarcata.com/wp-content/uploads/2025/07/Trinity-Baptist-Church-Sunday-Bible-study.jpg
END:VEVENT
BEGIN:VEVENT
DTSTART;TZID=America/Chicago:20300714T090000
DTEND;TZID=America/Chicago:20300714T094500
DTSTAMP:20260422T170148
CREATED:20250805T190715Z
LAST-MODIFIED:20250805T211610Z
UID:10001071-1910250000-1910252700@trinityarcata.com
SUMMARY:Sunday Bible Study
DESCRIPTION:Men and women\, singles and couples are invited to join us as we study the Word of God every Sunday morning before our Worship Gathering..
URL:https://trinityarcata.com/event/sunday-bible-study-4/2030-07-14/
CATEGORIES:Featured,Study
ATTACH;FMTTYPE=image/jpeg:https://trinityarcata.com/wp-content/uploads/2025/07/Trinity-Baptist-Church-Sunday-Bible-study.jpg
END:VEVENT
BEGIN:VEVENT
DTSTART;TZID=America/Chicago:20300721T090000
DTEND;TZID=America/Chicago:20300721T094500
DTSTAMP:20260422T170148
CREATED:20250805T190715Z
LAST-MODIFIED:20250805T211610Z
UID:10001072-1910854800-1910857500@trinityarcata.com
SUMMARY:Sunday Bible Study
DESCRIPTION:Men and women\, singles and couples are invited to join us as we study the Word of God every Sunday morning before our Worship Gathering..
URL:https://trinityarcata.com/event/sunday-bible-study-4/2030-07-21/
CATEGORIES:Featured,Study
ATTACH;FMTTYPE=image/jpeg:https://trinityarcata.com/wp-content/uploads/2025/07/Trinity-Baptist-Church-Sunday-Bible-study.jpg
END:VEVENT
BEGIN:VEVENT
DTSTART;TZID=America/Chicago:20300728T090000
DTEND;TZID=America/Chicago:20300728T094500
DTSTAMP:20260422T170148
CREATED:20250805T190715Z
LAST-MODIFIED:20250805T211610Z
UID:10001073-1911459600-1911462300@trinityarcata.com
SUMMARY:Sunday Bible Study
DESCRIPTION:Men and women\, singles and couples are invited to join us as we study the Word of God every Sunday morning before our Worship Gathering..
URL:https://trinityarcata.com/event/sunday-bible-study-4/2030-07-28/
CATEGORIES:Featured,Study
ATTACH;FMTTYPE=image/jpeg:https://trinityarcata.com/wp-content/uploads/2025/07/Trinity-Baptist-Church-Sunday-Bible-study.jpg
END:VEVENT
BEGIN:VEVENT
DTSTART;TZID=America/Chicago:20300804T090000
DTEND;TZID=America/Chicago:20300804T094500
DTSTAMP:20260422T170148
CREATED:20250805T190715Z
LAST-MODIFIED:20250805T211610Z
UID:10001074-1912064400-1912067100@trinityarcata.com
SUMMARY:Sunday Bible Study
DESCRIPTION:Men and women\, singles and couples are invited to join us as we study the Word of God every Sunday morning before our Worship Gathering..
URL:https://trinityarcata.com/event/sunday-bible-study-4/2030-08-04/
CATEGORIES:Featured,Study
ATTACH;FMTTYPE=image/jpeg:https://trinityarcata.com/wp-content/uploads/2025/07/Trinity-Baptist-Church-Sunday-Bible-study.jpg
END:VEVENT
END:VCALENDAR