BEGIN:VCALENDAR
VERSION:2.0
PRODID:-//Trinity Baptist Church - ECPv6.15.12.2//NONSGML v1.0//EN
CALSCALE:GREGORIAN
METHOD:PUBLISH
X-WR-CALNAME:Trinity Baptist Church
X-ORIGINAL-URL:https://trinityarcata.com
X-WR-CALDESC:Events for Trinity Baptist Church
REFRESH-INTERVAL;VALUE=DURATION:PT1H
X-Robots-Tag:noindex
X-PUBLISHED-TTL:PT1H
BEGIN:VTIMEZONE
TZID:America/Chicago
BEGIN:DAYLIGHT
TZOFFSETFROM:-0600
TZOFFSETTO:-0500
TZNAME:CDT
DTSTART:20260308T080000
END:DAYLIGHT
BEGIN:STANDARD
TZOFFSETFROM:-0500
TZOFFSETTO:-0600
TZNAME:CST
DTSTART:20261101T070000
END:STANDARD
BEGIN:DAYLIGHT
TZOFFSETFROM:-0600
TZOFFSETTO:-0500
TZNAME:CDT
DTSTART:20270314T080000
END:DAYLIGHT
BEGIN:STANDARD
TZOFFSETFROM:-0500
TZOFFSETTO:-0600
TZNAME:CST
DTSTART:20271107T070000
END:STANDARD
BEGIN:DAYLIGHT
TZOFFSETFROM:-0600
TZOFFSETTO:-0500
TZNAME:CDT
DTSTART:20280312T080000
END:DAYLIGHT
BEGIN:STANDARD
TZOFFSETFROM:-0500
TZOFFSETTO:-0600
TZNAME:CST
DTSTART:20281105T070000
END:STANDARD
END:VTIMEZONE
BEGIN:VEVENT
DTSTART;TZID=America/Chicago:20270318T150000
DTEND;TZID=America/Chicago:20270318T170000
DTSTAMP:20260420T180605
CREATED:20250805T190853Z
LAST-MODIFIED:20260402T141825Z
UID:10001158-1805382000-1805389200@trinityarcata.com
SUMMARY:Food Pantry
DESCRIPTION:Our food pantry is open to our church family and the community at large every Thursday from 3pm until 5pm. Stop by to shop or to drop off food items that you can donate.
URL:https://trinityarcata.com/event/food-pantry-4/2027-03-18/
LOCATION:Trinity Church\, 2450 Alliance Rd.\, Arcata\, CA\, 95521\, United States
CATEGORIES:Featured
ATTACH;FMTTYPE=image/jpeg:https://trinityarcata.com/wp-content/uploads/2025/07/food-pantry-Trinity-Baptist-Church.jpg
ORGANIZER;CN="Trinity Church":MAILTO:info@trinityarcata.com
END:VEVENT
BEGIN:VEVENT
DTSTART;TZID=America/Chicago:20270321T090000
DTEND;TZID=America/Chicago:20270321T094500
DTSTAMP:20260420T180605
CREATED:20250805T190715Z
LAST-MODIFIED:20250805T211610Z
UID:10000898-1805619600-1805622300@trinityarcata.com
SUMMARY:Sunday Bible Study
DESCRIPTION:Men and women\, singles and couples are invited to join us as we study the Word of God every Sunday morning before our Worship Gathering..
URL:https://trinityarcata.com/event/sunday-bible-study-4/2027-03-21/
LOCATION:CA
CATEGORIES:Featured,Study
ATTACH;FMTTYPE=image/jpeg:https://trinityarcata.com/wp-content/uploads/2025/07/Trinity-Baptist-Church-Sunday-Bible-study.jpg
END:VEVENT
BEGIN:VEVENT
DTSTART;TZID=America/Chicago:20270321T100000
DTEND;TZID=America/Chicago:20270321T110000
DTSTAMP:20260420T180605
CREATED:20250805T190546Z
LAST-MODIFIED:20250805T211544Z
UID:10000638-1805623200-1805626800@trinityarcata.com
SUMMARY:Worship Gathering
DESCRIPTION:Our Praise and Worship Service is held every Sunday and lasts for about an hour. Afterwards we gather together for fellowship and a meal.
URL:https://trinityarcata.com/event/worship-gathering-4/2027-03-21/
LOCATION:Trinity Church\, 2450 Alliance Rd.\, Arcata\, CA\, 95521\, United States
CATEGORIES:Featured
ATTACH;FMTTYPE=image/jpeg:https://trinityarcata.com/wp-content/uploads/2025/07/Trinity-Baptist-Church-in-Arcata-California.jpg
ORGANIZER;CN="Trinity Church":MAILTO:info@trinityarcata.com
END:VEVENT
BEGIN:VEVENT
DTSTART;TZID=America/Chicago:20270322T180000
DTEND;TZID=America/Chicago:20270322T200000
DTSTAMP:20260420T180605
CREATED:20250805T191524Z
LAST-MODIFIED:20250805T211505Z
UID:10000378-1805738400-1805745600@trinityarcata.com
SUMMARY:Women's Craft Night
DESCRIPTION:Ladies come explore the art of crocheting\, embroidery\, and knitting! All ages welcome! We are also starting the preparation for Operation Christmas Child! Join us in preparing for this amazing ministry!
URL:https://trinityarcata.com/event/womens-craft-night-3/2027-03-22/
LOCATION:Trinity Church\, 2450 Alliance Rd.\, Arcata\, CA\, 95521\, United States
CATEGORIES:Crafts,Featured
ATTACH;FMTTYPE=image/jpeg:https://trinityarcata.com/wp-content/uploads/2025/07/womens-craft-night-at-Trinity-Church.jpg
ORGANIZER;CN="Trinity Church":MAILTO:info@trinityarcata.com
END:VEVENT
BEGIN:VEVENT
DTSTART;TZID=America/Chicago:20270322T190000
DTEND;TZID=America/Chicago:20270322T203000
DTSTAMP:20260420T180605
CREATED:20250805T191617Z
LAST-MODIFIED:20250805T211304Z
UID:10000118-1805742000-1805747400@trinityarcata.com
SUMMARY:Men's Bible Study
DESCRIPTION:Join our men’s group for an in-depth look at and analysis of the Bible every Monday evening at 6:30pm.
URL:https://trinityarcata.com/event/mens-bible-study/2027-03-22/
LOCATION:Trinity Church\, 2450 Alliance Rd.\, Arcata\, CA\, 95521\, United States
CATEGORIES:Featured
ATTACH;FMTTYPE=image/jpeg:https://trinityarcata.com/wp-content/uploads/2025/07/mens-bible-study-at-Trinity-church.jpg
ORGANIZER;CN="Trinity Church":MAILTO:info@trinityarcata.com
END:VEVENT
BEGIN:VEVENT
DTSTART;TZID=America/Chicago:20270325T150000
DTEND;TZID=America/Chicago:20270325T170000
DTSTAMP:20260420T180605
CREATED:20250805T190853Z
LAST-MODIFIED:20260402T141825Z
UID:10001159-1805986800-1805994000@trinityarcata.com
SUMMARY:Food Pantry
DESCRIPTION:Our food pantry is open to our church family and the community at large every Thursday from 3pm until 5pm. Stop by to shop or to drop off food items that you can donate.
URL:https://trinityarcata.com/event/food-pantry-4/2027-03-25/
LOCATION:Trinity Church\, 2450 Alliance Rd.\, Arcata\, CA\, 95521\, United States
CATEGORIES:Featured
ATTACH;FMTTYPE=image/jpeg:https://trinityarcata.com/wp-content/uploads/2025/07/food-pantry-Trinity-Baptist-Church.jpg
ORGANIZER;CN="Trinity Church":MAILTO:info@trinityarcata.com
END:VEVENT
BEGIN:VEVENT
DTSTART;TZID=America/Chicago:20270328T090000
DTEND;TZID=America/Chicago:20270328T094500
DTSTAMP:20260420T180605
CREATED:20250805T190715Z
LAST-MODIFIED:20250805T211610Z
UID:10000899-1806224400-1806227100@trinityarcata.com
SUMMARY:Sunday Bible Study
DESCRIPTION:Men and women\, singles and couples are invited to join us as we study the Word of God every Sunday morning before our Worship Gathering..
URL:https://trinityarcata.com/event/sunday-bible-study-4/2027-03-28/
LOCATION:CA
CATEGORIES:Featured,Study
ATTACH;FMTTYPE=image/jpeg:https://trinityarcata.com/wp-content/uploads/2025/07/Trinity-Baptist-Church-Sunday-Bible-study.jpg
END:VEVENT
BEGIN:VEVENT
DTSTART;TZID=America/Chicago:20270328T100000
DTEND;TZID=America/Chicago:20270328T110000
DTSTAMP:20260420T180605
CREATED:20250805T190546Z
LAST-MODIFIED:20250805T211544Z
UID:10000639-1806228000-1806231600@trinityarcata.com
SUMMARY:Worship Gathering
DESCRIPTION:Our Praise and Worship Service is held every Sunday and lasts for about an hour. Afterwards we gather together for fellowship and a meal.
URL:https://trinityarcata.com/event/worship-gathering-4/2027-03-28/
LOCATION:Trinity Church\, 2450 Alliance Rd.\, Arcata\, CA\, 95521\, United States
CATEGORIES:Featured
ATTACH;FMTTYPE=image/jpeg:https://trinityarcata.com/wp-content/uploads/2025/07/Trinity-Baptist-Church-in-Arcata-California.jpg
ORGANIZER;CN="Trinity Church":MAILTO:info@trinityarcata.com
END:VEVENT
BEGIN:VEVENT
DTSTART;TZID=America/Chicago:20270329T180000
DTEND;TZID=America/Chicago:20270329T200000
DTSTAMP:20260420T180605
CREATED:20250805T191524Z
LAST-MODIFIED:20250805T211505Z
UID:10000379-1806343200-1806350400@trinityarcata.com
SUMMARY:Women's Craft Night
DESCRIPTION:Ladies come explore the art of crocheting\, embroidery\, and knitting! All ages welcome! We are also starting the preparation for Operation Christmas Child! Join us in preparing for this amazing ministry!
URL:https://trinityarcata.com/event/womens-craft-night-3/2027-03-29/
LOCATION:Trinity Church\, 2450 Alliance Rd.\, Arcata\, CA\, 95521\, United States
CATEGORIES:Crafts,Featured
ATTACH;FMTTYPE=image/jpeg:https://trinityarcata.com/wp-content/uploads/2025/07/womens-craft-night-at-Trinity-Church.jpg
ORGANIZER;CN="Trinity Church":MAILTO:info@trinityarcata.com
END:VEVENT
BEGIN:VEVENT
DTSTART;TZID=America/Chicago:20270329T190000
DTEND;TZID=America/Chicago:20270329T203000
DTSTAMP:20260420T180605
CREATED:20250805T191617Z
LAST-MODIFIED:20250805T211304Z
UID:10000119-1806346800-1806352200@trinityarcata.com
SUMMARY:Men's Bible Study
DESCRIPTION:Join our men’s group for an in-depth look at and analysis of the Bible every Monday evening at 6:30pm.
URL:https://trinityarcata.com/event/mens-bible-study/2027-03-29/
LOCATION:Trinity Church\, 2450 Alliance Rd.\, Arcata\, CA\, 95521\, United States
CATEGORIES:Featured
ATTACH;FMTTYPE=image/jpeg:https://trinityarcata.com/wp-content/uploads/2025/07/mens-bible-study-at-Trinity-church.jpg
ORGANIZER;CN="Trinity Church":MAILTO:info@trinityarcata.com
END:VEVENT
BEGIN:VEVENT
DTSTART;TZID=America/Chicago:20270401T150000
DTEND;TZID=America/Chicago:20270401T170000
DTSTAMP:20260420T180605
CREATED:20250805T190853Z
LAST-MODIFIED:20260402T141825Z
UID:10001160-1806591600-1806598800@trinityarcata.com
SUMMARY:Food Pantry
DESCRIPTION:Our food pantry is open to our church family and the community at large every Thursday from 3pm until 5pm. Stop by to shop or to drop off food items that you can donate.
URL:https://trinityarcata.com/event/food-pantry-4/2027-04-01/
LOCATION:Trinity Church\, 2450 Alliance Rd.\, Arcata\, CA\, 95521\, United States
CATEGORIES:Featured
ATTACH;FMTTYPE=image/jpeg:https://trinityarcata.com/wp-content/uploads/2025/07/food-pantry-Trinity-Baptist-Church.jpg
ORGANIZER;CN="Trinity Church":MAILTO:info@trinityarcata.com
END:VEVENT
BEGIN:VEVENT
DTSTART;TZID=America/Chicago:20270404T090000
DTEND;TZID=America/Chicago:20270404T094500
DTSTAMP:20260420T180605
CREATED:20250805T190715Z
LAST-MODIFIED:20250805T211610Z
UID:10000900-1806829200-1806831900@trinityarcata.com
SUMMARY:Sunday Bible Study
DESCRIPTION:Men and women\, singles and couples are invited to join us as we study the Word of God every Sunday morning before our Worship Gathering..
URL:https://trinityarcata.com/event/sunday-bible-study-4/2027-04-04/
LOCATION:CA
CATEGORIES:Featured,Study
ATTACH;FMTTYPE=image/jpeg:https://trinityarcata.com/wp-content/uploads/2025/07/Trinity-Baptist-Church-Sunday-Bible-study.jpg
END:VEVENT
BEGIN:VEVENT
DTSTART;TZID=America/Chicago:20270404T100000
DTEND;TZID=America/Chicago:20270404T110000
DTSTAMP:20260420T180605
CREATED:20250805T190546Z
LAST-MODIFIED:20250805T211544Z
UID:10000640-1806832800-1806836400@trinityarcata.com
SUMMARY:Worship Gathering
DESCRIPTION:Our Praise and Worship Service is held every Sunday and lasts for about an hour. Afterwards we gather together for fellowship and a meal.
URL:https://trinityarcata.com/event/worship-gathering-4/2027-04-04/
LOCATION:Trinity Church\, 2450 Alliance Rd.\, Arcata\, CA\, 95521\, United States
CATEGORIES:Featured
ATTACH;FMTTYPE=image/jpeg:https://trinityarcata.com/wp-content/uploads/2025/07/Trinity-Baptist-Church-in-Arcata-California.jpg
ORGANIZER;CN="Trinity Church":MAILTO:info@trinityarcata.com
END:VEVENT
BEGIN:VEVENT
DTSTART;TZID=America/Chicago:20270405T180000
DTEND;TZID=America/Chicago:20270405T200000
DTSTAMP:20260420T180605
CREATED:20250805T191524Z
LAST-MODIFIED:20250805T211505Z
UID:10000380-1806948000-1806955200@trinityarcata.com
SUMMARY:Women's Craft Night
DESCRIPTION:Ladies come explore the art of crocheting\, embroidery\, and knitting! All ages welcome! We are also starting the preparation for Operation Christmas Child! Join us in preparing for this amazing ministry!
URL:https://trinityarcata.com/event/womens-craft-night-3/2027-04-05/
LOCATION:Trinity Church\, 2450 Alliance Rd.\, Arcata\, CA\, 95521\, United States
CATEGORIES:Crafts,Featured
ATTACH;FMTTYPE=image/jpeg:https://trinityarcata.com/wp-content/uploads/2025/07/womens-craft-night-at-Trinity-Church.jpg
ORGANIZER;CN="Trinity Church":MAILTO:info@trinityarcata.com
END:VEVENT
BEGIN:VEVENT
DTSTART;TZID=America/Chicago:20270405T190000
DTEND;TZID=America/Chicago:20270405T203000
DTSTAMP:20260420T180605
CREATED:20250805T191617Z
LAST-MODIFIED:20250805T211304Z
UID:10000120-1806951600-1806957000@trinityarcata.com
SUMMARY:Men's Bible Study
DESCRIPTION:Join our men’s group for an in-depth look at and analysis of the Bible every Monday evening at 6:30pm.
URL:https://trinityarcata.com/event/mens-bible-study/2027-04-05/
LOCATION:Trinity Church\, 2450 Alliance Rd.\, Arcata\, CA\, 95521\, United States
CATEGORIES:Featured
ATTACH;FMTTYPE=image/jpeg:https://trinityarcata.com/wp-content/uploads/2025/07/mens-bible-study-at-Trinity-church.jpg
ORGANIZER;CN="Trinity Church":MAILTO:info@trinityarcata.com
END:VEVENT
BEGIN:VEVENT
DTSTART;TZID=America/Chicago:20270408T150000
DTEND;TZID=America/Chicago:20270408T170000
DTSTAMP:20260420T180605
CREATED:20250805T190853Z
LAST-MODIFIED:20260402T141825Z
UID:10001161-1807196400-1807203600@trinityarcata.com
SUMMARY:Food Pantry
DESCRIPTION:Our food pantry is open to our church family and the community at large every Thursday from 3pm until 5pm. Stop by to shop or to drop off food items that you can donate.
URL:https://trinityarcata.com/event/food-pantry-4/2027-04-08/
LOCATION:Trinity Church\, 2450 Alliance Rd.\, Arcata\, CA\, 95521\, United States
CATEGORIES:Featured
ATTACH;FMTTYPE=image/jpeg:https://trinityarcata.com/wp-content/uploads/2025/07/food-pantry-Trinity-Baptist-Church.jpg
ORGANIZER;CN="Trinity Church":MAILTO:info@trinityarcata.com
END:VEVENT
BEGIN:VEVENT
DTSTART;TZID=America/Chicago:20270411T090000
DTEND;TZID=America/Chicago:20270411T094500
DTSTAMP:20260420T180605
CREATED:20250805T190715Z
LAST-MODIFIED:20250805T211610Z
UID:10000901-1807434000-1807436700@trinityarcata.com
SUMMARY:Sunday Bible Study
DESCRIPTION:Men and women\, singles and couples are invited to join us as we study the Word of God every Sunday morning before our Worship Gathering..
URL:https://trinityarcata.com/event/sunday-bible-study-4/2027-04-11/
LOCATION:CA
CATEGORIES:Featured,Study
ATTACH;FMTTYPE=image/jpeg:https://trinityarcata.com/wp-content/uploads/2025/07/Trinity-Baptist-Church-Sunday-Bible-study.jpg
END:VEVENT
BEGIN:VEVENT
DTSTART;TZID=America/Chicago:20270411T100000
DTEND;TZID=America/Chicago:20270411T110000
DTSTAMP:20260420T180605
CREATED:20250805T190546Z
LAST-MODIFIED:20250805T211544Z
UID:10000641-1807437600-1807441200@trinityarcata.com
SUMMARY:Worship Gathering
DESCRIPTION:Our Praise and Worship Service is held every Sunday and lasts for about an hour. Afterwards we gather together for fellowship and a meal.
URL:https://trinityarcata.com/event/worship-gathering-4/2027-04-11/
LOCATION:Trinity Church\, 2450 Alliance Rd.\, Arcata\, CA\, 95521\, United States
CATEGORIES:Featured
ATTACH;FMTTYPE=image/jpeg:https://trinityarcata.com/wp-content/uploads/2025/07/Trinity-Baptist-Church-in-Arcata-California.jpg
ORGANIZER;CN="Trinity Church":MAILTO:info@trinityarcata.com
END:VEVENT
BEGIN:VEVENT
DTSTART;TZID=America/Chicago:20270412T180000
DTEND;TZID=America/Chicago:20270412T200000
DTSTAMP:20260420T180605
CREATED:20250805T191524Z
LAST-MODIFIED:20250805T211505Z
UID:10000381-1807552800-1807560000@trinityarcata.com
SUMMARY:Women's Craft Night
DESCRIPTION:Ladies come explore the art of crocheting\, embroidery\, and knitting! All ages welcome! We are also starting the preparation for Operation Christmas Child! Join us in preparing for this amazing ministry!
URL:https://trinityarcata.com/event/womens-craft-night-3/2027-04-12/
LOCATION:Trinity Church\, 2450 Alliance Rd.\, Arcata\, CA\, 95521\, United States
CATEGORIES:Crafts,Featured
ATTACH;FMTTYPE=image/jpeg:https://trinityarcata.com/wp-content/uploads/2025/07/womens-craft-night-at-Trinity-Church.jpg
ORGANIZER;CN="Trinity Church":MAILTO:info@trinityarcata.com
END:VEVENT
BEGIN:VEVENT
DTSTART;TZID=America/Chicago:20270412T190000
DTEND;TZID=America/Chicago:20270412T203000
DTSTAMP:20260420T180605
CREATED:20250805T191617Z
LAST-MODIFIED:20250805T211304Z
UID:10000121-1807556400-1807561800@trinityarcata.com
SUMMARY:Men's Bible Study
DESCRIPTION:Join our men’s group for an in-depth look at and analysis of the Bible every Monday evening at 6:30pm.
URL:https://trinityarcata.com/event/mens-bible-study/2027-04-12/
LOCATION:Trinity Church\, 2450 Alliance Rd.\, Arcata\, CA\, 95521\, United States
CATEGORIES:Featured
ATTACH;FMTTYPE=image/jpeg:https://trinityarcata.com/wp-content/uploads/2025/07/mens-bible-study-at-Trinity-church.jpg
ORGANIZER;CN="Trinity Church":MAILTO:info@trinityarcata.com
END:VEVENT
BEGIN:VEVENT
DTSTART;TZID=America/Chicago:20270415T150000
DTEND;TZID=America/Chicago:20270415T170000
DTSTAMP:20260420T180605
CREATED:20250805T190853Z
LAST-MODIFIED:20260402T141825Z
UID:10001162-1807801200-1807808400@trinityarcata.com
SUMMARY:Food Pantry
DESCRIPTION:Our food pantry is open to our church family and the community at large every Thursday from 3pm until 5pm. Stop by to shop or to drop off food items that you can donate.
URL:https://trinityarcata.com/event/food-pantry-4/2027-04-15/
LOCATION:Trinity Church\, 2450 Alliance Rd.\, Arcata\, CA\, 95521\, United States
CATEGORIES:Featured
ATTACH;FMTTYPE=image/jpeg:https://trinityarcata.com/wp-content/uploads/2025/07/food-pantry-Trinity-Baptist-Church.jpg
ORGANIZER;CN="Trinity Church":MAILTO:info@trinityarcata.com
END:VEVENT
BEGIN:VEVENT
DTSTART;TZID=America/Chicago:20270418T090000
DTEND;TZID=America/Chicago:20270418T094500
DTSTAMP:20260420T180605
CREATED:20250805T190715Z
LAST-MODIFIED:20250805T211610Z
UID:10000902-1808038800-1808041500@trinityarcata.com
SUMMARY:Sunday Bible Study
DESCRIPTION:Men and women\, singles and couples are invited to join us as we study the Word of God every Sunday morning before our Worship Gathering..
URL:https://trinityarcata.com/event/sunday-bible-study-4/2027-04-18/
LOCATION:CA
CATEGORIES:Featured,Study
ATTACH;FMTTYPE=image/jpeg:https://trinityarcata.com/wp-content/uploads/2025/07/Trinity-Baptist-Church-Sunday-Bible-study.jpg
END:VEVENT
BEGIN:VEVENT
DTSTART;TZID=America/Chicago:20270418T100000
DTEND;TZID=America/Chicago:20270418T110000
DTSTAMP:20260420T180605
CREATED:20250805T190546Z
LAST-MODIFIED:20250805T211544Z
UID:10000642-1808042400-1808046000@trinityarcata.com
SUMMARY:Worship Gathering
DESCRIPTION:Our Praise and Worship Service is held every Sunday and lasts for about an hour. Afterwards we gather together for fellowship and a meal.
URL:https://trinityarcata.com/event/worship-gathering-4/2027-04-18/
LOCATION:Trinity Church\, 2450 Alliance Rd.\, Arcata\, CA\, 95521\, United States
CATEGORIES:Featured
ATTACH;FMTTYPE=image/jpeg:https://trinityarcata.com/wp-content/uploads/2025/07/Trinity-Baptist-Church-in-Arcata-California.jpg
ORGANIZER;CN="Trinity Church":MAILTO:info@trinityarcata.com
END:VEVENT
BEGIN:VEVENT
DTSTART;TZID=America/Chicago:20270419T180000
DTEND;TZID=America/Chicago:20270419T200000
DTSTAMP:20260420T180605
CREATED:20250805T191524Z
LAST-MODIFIED:20250805T211505Z
UID:10000382-1808157600-1808164800@trinityarcata.com
SUMMARY:Women's Craft Night
DESCRIPTION:Ladies come explore the art of crocheting\, embroidery\, and knitting! All ages welcome! We are also starting the preparation for Operation Christmas Child! Join us in preparing for this amazing ministry!
URL:https://trinityarcata.com/event/womens-craft-night-3/2027-04-19/
LOCATION:Trinity Church\, 2450 Alliance Rd.\, Arcata\, CA\, 95521\, United States
CATEGORIES:Crafts,Featured
ATTACH;FMTTYPE=image/jpeg:https://trinityarcata.com/wp-content/uploads/2025/07/womens-craft-night-at-Trinity-Church.jpg
ORGANIZER;CN="Trinity Church":MAILTO:info@trinityarcata.com
END:VEVENT
BEGIN:VEVENT
DTSTART;TZID=America/Chicago:20270419T190000
DTEND;TZID=America/Chicago:20270419T203000
DTSTAMP:20260420T180605
CREATED:20250805T191617Z
LAST-MODIFIED:20250805T211304Z
UID:10000122-1808161200-1808166600@trinityarcata.com
SUMMARY:Men's Bible Study
DESCRIPTION:Join our men’s group for an in-depth look at and analysis of the Bible every Monday evening at 6:30pm.
URL:https://trinityarcata.com/event/mens-bible-study/2027-04-19/
LOCATION:Trinity Church\, 2450 Alliance Rd.\, Arcata\, CA\, 95521\, United States
CATEGORIES:Featured
ATTACH;FMTTYPE=image/jpeg:https://trinityarcata.com/wp-content/uploads/2025/07/mens-bible-study-at-Trinity-church.jpg
ORGANIZER;CN="Trinity Church":MAILTO:info@trinityarcata.com
END:VEVENT
BEGIN:VEVENT
DTSTART;TZID=America/Chicago:20270422T150000
DTEND;TZID=America/Chicago:20270422T170000
DTSTAMP:20260420T180605
CREATED:20250805T190853Z
LAST-MODIFIED:20260402T141825Z
UID:10001163-1808406000-1808413200@trinityarcata.com
SUMMARY:Food Pantry
DESCRIPTION:Our food pantry is open to our church family and the community at large every Thursday from 3pm until 5pm. Stop by to shop or to drop off food items that you can donate.
URL:https://trinityarcata.com/event/food-pantry-4/2027-04-22/
LOCATION:Trinity Church\, 2450 Alliance Rd.\, Arcata\, CA\, 95521\, United States
CATEGORIES:Featured
ATTACH;FMTTYPE=image/jpeg:https://trinityarcata.com/wp-content/uploads/2025/07/food-pantry-Trinity-Baptist-Church.jpg
ORGANIZER;CN="Trinity Church":MAILTO:info@trinityarcata.com
END:VEVENT
BEGIN:VEVENT
DTSTART;TZID=America/Chicago:20270425T090000
DTEND;TZID=America/Chicago:20270425T094500
DTSTAMP:20260420T180605
CREATED:20250805T190715Z
LAST-MODIFIED:20250805T211610Z
UID:10000903-1808643600-1808646300@trinityarcata.com
SUMMARY:Sunday Bible Study
DESCRIPTION:Men and women\, singles and couples are invited to join us as we study the Word of God every Sunday morning before our Worship Gathering..
URL:https://trinityarcata.com/event/sunday-bible-study-4/2027-04-25/
LOCATION:CA
CATEGORIES:Featured,Study
ATTACH;FMTTYPE=image/jpeg:https://trinityarcata.com/wp-content/uploads/2025/07/Trinity-Baptist-Church-Sunday-Bible-study.jpg
END:VEVENT
BEGIN:VEVENT
DTSTART;TZID=America/Chicago:20270425T100000
DTEND;TZID=America/Chicago:20270425T110000
DTSTAMP:20260420T180605
CREATED:20250805T190546Z
LAST-MODIFIED:20250805T211544Z
UID:10000643-1808647200-1808650800@trinityarcata.com
SUMMARY:Worship Gathering
DESCRIPTION:Our Praise and Worship Service is held every Sunday and lasts for about an hour. Afterwards we gather together for fellowship and a meal.
URL:https://trinityarcata.com/event/worship-gathering-4/2027-04-25/
LOCATION:Trinity Church\, 2450 Alliance Rd.\, Arcata\, CA\, 95521\, United States
CATEGORIES:Featured
ATTACH;FMTTYPE=image/jpeg:https://trinityarcata.com/wp-content/uploads/2025/07/Trinity-Baptist-Church-in-Arcata-California.jpg
ORGANIZER;CN="Trinity Church":MAILTO:info@trinityarcata.com
END:VEVENT
BEGIN:VEVENT
DTSTART;TZID=America/Chicago:20270426T180000
DTEND;TZID=America/Chicago:20270426T200000
DTSTAMP:20260420T180605
CREATED:20250805T191524Z
LAST-MODIFIED:20250805T211505Z
UID:10000383-1808762400-1808769600@trinityarcata.com
SUMMARY:Women's Craft Night
DESCRIPTION:Ladies come explore the art of crocheting\, embroidery\, and knitting! All ages welcome! We are also starting the preparation for Operation Christmas Child! Join us in preparing for this amazing ministry!
URL:https://trinityarcata.com/event/womens-craft-night-3/2027-04-26/
LOCATION:Trinity Church\, 2450 Alliance Rd.\, Arcata\, CA\, 95521\, United States
CATEGORIES:Crafts,Featured
ATTACH;FMTTYPE=image/jpeg:https://trinityarcata.com/wp-content/uploads/2025/07/womens-craft-night-at-Trinity-Church.jpg
ORGANIZER;CN="Trinity Church":MAILTO:info@trinityarcata.com
END:VEVENT
BEGIN:VEVENT
DTSTART;TZID=America/Chicago:20270426T190000
DTEND;TZID=America/Chicago:20270426T203000
DTSTAMP:20260420T180605
CREATED:20250805T191617Z
LAST-MODIFIED:20250805T211304Z
UID:10000123-1808766000-1808771400@trinityarcata.com
SUMMARY:Men's Bible Study
DESCRIPTION:Join our men’s group for an in-depth look at and analysis of the Bible every Monday evening at 6:30pm.
URL:https://trinityarcata.com/event/mens-bible-study/2027-04-26/
LOCATION:Trinity Church\, 2450 Alliance Rd.\, Arcata\, CA\, 95521\, United States
CATEGORIES:Featured
ATTACH;FMTTYPE=image/jpeg:https://trinityarcata.com/wp-content/uploads/2025/07/mens-bible-study-at-Trinity-church.jpg
ORGANIZER;CN="Trinity Church":MAILTO:info@trinityarcata.com
END:VEVENT
END:VCALENDAR