BEGIN:VCALENDAR
VERSION:2.0
PRODID:-//Trinity Baptist Church - ECPv6.15.12.2//NONSGML v1.0//EN
CALSCALE:GREGORIAN
METHOD:PUBLISH
X-WR-CALNAME:Trinity Baptist Church
X-ORIGINAL-URL:https://trinityarcata.com
X-WR-CALDESC:Events for Trinity Baptist Church
REFRESH-INTERVAL;VALUE=DURATION:PT1H
X-Robots-Tag:noindex
X-PUBLISHED-TTL:PT1H
BEGIN:VTIMEZONE
TZID:America/Chicago
BEGIN:DAYLIGHT
TZOFFSETFROM:-0600
TZOFFSETTO:-0500
TZNAME:CDT
DTSTART:20260308T080000
END:DAYLIGHT
BEGIN:STANDARD
TZOFFSETFROM:-0500
TZOFFSETTO:-0600
TZNAME:CST
DTSTART:20261101T070000
END:STANDARD
BEGIN:DAYLIGHT
TZOFFSETFROM:-0600
TZOFFSETTO:-0500
TZNAME:CDT
DTSTART:20270314T080000
END:DAYLIGHT
BEGIN:STANDARD
TZOFFSETFROM:-0500
TZOFFSETTO:-0600
TZNAME:CST
DTSTART:20271107T070000
END:STANDARD
BEGIN:DAYLIGHT
TZOFFSETFROM:-0600
TZOFFSETTO:-0500
TZNAME:CDT
DTSTART:20280312T080000
END:DAYLIGHT
BEGIN:STANDARD
TZOFFSETFROM:-0500
TZOFFSETTO:-0600
TZNAME:CST
DTSTART:20281105T070000
END:STANDARD
END:VTIMEZONE
BEGIN:VEVENT
DTSTART;TZID=America/Chicago:20270422T150000
DTEND;TZID=America/Chicago:20270422T170000
DTSTAMP:20260420T235724
CREATED:20250805T190853Z
LAST-MODIFIED:20260402T141825Z
UID:10001163-1808406000-1808413200@trinityarcata.com
SUMMARY:Food Pantry
DESCRIPTION:Our food pantry is open to our church family and the community at large every Thursday from 3pm until 5pm. Stop by to shop or to drop off food items that you can donate.
URL:https://trinityarcata.com/event/food-pantry-4/2027-04-22/
LOCATION:Trinity Church\, 2450 Alliance Rd.\, Arcata\, CA\, 95521\, United States
CATEGORIES:Featured
ATTACH;FMTTYPE=image/jpeg:https://trinityarcata.com/wp-content/uploads/2025/07/food-pantry-Trinity-Baptist-Church.jpg
ORGANIZER;CN="Trinity Church":MAILTO:info@trinityarcata.com
END:VEVENT
BEGIN:VEVENT
DTSTART;TZID=America/Chicago:20270425T090000
DTEND;TZID=America/Chicago:20270425T094500
DTSTAMP:20260420T235724
CREATED:20250805T190715Z
LAST-MODIFIED:20250805T211610Z
UID:10000903-1808643600-1808646300@trinityarcata.com
SUMMARY:Sunday Bible Study
DESCRIPTION:Men and women\, singles and couples are invited to join us as we study the Word of God every Sunday morning before our Worship Gathering..
URL:https://trinityarcata.com/event/sunday-bible-study-4/2027-04-25/
LOCATION:CA
CATEGORIES:Featured,Study
ATTACH;FMTTYPE=image/jpeg:https://trinityarcata.com/wp-content/uploads/2025/07/Trinity-Baptist-Church-Sunday-Bible-study.jpg
END:VEVENT
BEGIN:VEVENT
DTSTART;TZID=America/Chicago:20270425T100000
DTEND;TZID=America/Chicago:20270425T110000
DTSTAMP:20260420T235724
CREATED:20250805T190546Z
LAST-MODIFIED:20250805T211544Z
UID:10000643-1808647200-1808650800@trinityarcata.com
SUMMARY:Worship Gathering
DESCRIPTION:Our Praise and Worship Service is held every Sunday and lasts for about an hour. Afterwards we gather together for fellowship and a meal.
URL:https://trinityarcata.com/event/worship-gathering-4/2027-04-25/
LOCATION:Trinity Church\, 2450 Alliance Rd.\, Arcata\, CA\, 95521\, United States
CATEGORIES:Featured
ATTACH;FMTTYPE=image/jpeg:https://trinityarcata.com/wp-content/uploads/2025/07/Trinity-Baptist-Church-in-Arcata-California.jpg
ORGANIZER;CN="Trinity Church":MAILTO:info@trinityarcata.com
END:VEVENT
BEGIN:VEVENT
DTSTART;TZID=America/Chicago:20270426T180000
DTEND;TZID=America/Chicago:20270426T200000
DTSTAMP:20260420T235724
CREATED:20250805T191524Z
LAST-MODIFIED:20250805T211505Z
UID:10000383-1808762400-1808769600@trinityarcata.com
SUMMARY:Women's Craft Night
DESCRIPTION:Ladies come explore the art of crocheting\, embroidery\, and knitting! All ages welcome! We are also starting the preparation for Operation Christmas Child! Join us in preparing for this amazing ministry!
URL:https://trinityarcata.com/event/womens-craft-night-3/2027-04-26/
LOCATION:Trinity Church\, 2450 Alliance Rd.\, Arcata\, CA\, 95521\, United States
CATEGORIES:Crafts,Featured
ATTACH;FMTTYPE=image/jpeg:https://trinityarcata.com/wp-content/uploads/2025/07/womens-craft-night-at-Trinity-Church.jpg
ORGANIZER;CN="Trinity Church":MAILTO:info@trinityarcata.com
END:VEVENT
BEGIN:VEVENT
DTSTART;TZID=America/Chicago:20270426T190000
DTEND;TZID=America/Chicago:20270426T203000
DTSTAMP:20260420T235724
CREATED:20250805T191617Z
LAST-MODIFIED:20250805T211304Z
UID:10000123-1808766000-1808771400@trinityarcata.com
SUMMARY:Men's Bible Study
DESCRIPTION:Join our men’s group for an in-depth look at and analysis of the Bible every Monday evening at 6:30pm.
URL:https://trinityarcata.com/event/mens-bible-study/2027-04-26/
LOCATION:Trinity Church\, 2450 Alliance Rd.\, Arcata\, CA\, 95521\, United States
CATEGORIES:Featured
ATTACH;FMTTYPE=image/jpeg:https://trinityarcata.com/wp-content/uploads/2025/07/mens-bible-study-at-Trinity-church.jpg
ORGANIZER;CN="Trinity Church":MAILTO:info@trinityarcata.com
END:VEVENT
BEGIN:VEVENT
DTSTART;TZID=America/Chicago:20270429T150000
DTEND;TZID=America/Chicago:20270429T170000
DTSTAMP:20260420T235724
CREATED:20250805T190853Z
LAST-MODIFIED:20260402T141825Z
UID:10001164-1809010800-1809018000@trinityarcata.com
SUMMARY:Food Pantry
DESCRIPTION:Our food pantry is open to our church family and the community at large every Thursday from 3pm until 5pm. Stop by to shop or to drop off food items that you can donate.
URL:https://trinityarcata.com/event/food-pantry-4/2027-04-29/
LOCATION:Trinity Church\, 2450 Alliance Rd.\, Arcata\, CA\, 95521\, United States
CATEGORIES:Featured
ATTACH;FMTTYPE=image/jpeg:https://trinityarcata.com/wp-content/uploads/2025/07/food-pantry-Trinity-Baptist-Church.jpg
ORGANIZER;CN="Trinity Church":MAILTO:info@trinityarcata.com
END:VEVENT
BEGIN:VEVENT
DTSTART;TZID=America/Chicago:20270502T090000
DTEND;TZID=America/Chicago:20270502T094500
DTSTAMP:20260420T235724
CREATED:20250805T190715Z
LAST-MODIFIED:20250805T211610Z
UID:10000904-1809248400-1809251100@trinityarcata.com
SUMMARY:Sunday Bible Study
DESCRIPTION:Men and women\, singles and couples are invited to join us as we study the Word of God every Sunday morning before our Worship Gathering..
URL:https://trinityarcata.com/event/sunday-bible-study-4/2027-05-02/
LOCATION:CA
CATEGORIES:Featured,Study
ATTACH;FMTTYPE=image/jpeg:https://trinityarcata.com/wp-content/uploads/2025/07/Trinity-Baptist-Church-Sunday-Bible-study.jpg
END:VEVENT
BEGIN:VEVENT
DTSTART;TZID=America/Chicago:20270502T100000
DTEND;TZID=America/Chicago:20270502T110000
DTSTAMP:20260420T235724
CREATED:20250805T190546Z
LAST-MODIFIED:20250805T211544Z
UID:10000644-1809252000-1809255600@trinityarcata.com
SUMMARY:Worship Gathering
DESCRIPTION:Our Praise and Worship Service is held every Sunday and lasts for about an hour. Afterwards we gather together for fellowship and a meal.
URL:https://trinityarcata.com/event/worship-gathering-4/2027-05-02/
LOCATION:Trinity Church\, 2450 Alliance Rd.\, Arcata\, CA\, 95521\, United States
CATEGORIES:Featured
ATTACH;FMTTYPE=image/jpeg:https://trinityarcata.com/wp-content/uploads/2025/07/Trinity-Baptist-Church-in-Arcata-California.jpg
ORGANIZER;CN="Trinity Church":MAILTO:info@trinityarcata.com
END:VEVENT
BEGIN:VEVENT
DTSTART;TZID=America/Chicago:20270503T180000
DTEND;TZID=America/Chicago:20270503T200000
DTSTAMP:20260420T235724
CREATED:20250805T191524Z
LAST-MODIFIED:20250805T211505Z
UID:10000384-1809367200-1809374400@trinityarcata.com
SUMMARY:Women's Craft Night
DESCRIPTION:Ladies come explore the art of crocheting\, embroidery\, and knitting! All ages welcome! We are also starting the preparation for Operation Christmas Child! Join us in preparing for this amazing ministry!
URL:https://trinityarcata.com/event/womens-craft-night-3/2027-05-03/
LOCATION:Trinity Church\, 2450 Alliance Rd.\, Arcata\, CA\, 95521\, United States
CATEGORIES:Crafts,Featured
ATTACH;FMTTYPE=image/jpeg:https://trinityarcata.com/wp-content/uploads/2025/07/womens-craft-night-at-Trinity-Church.jpg
ORGANIZER;CN="Trinity Church":MAILTO:info@trinityarcata.com
END:VEVENT
BEGIN:VEVENT
DTSTART;TZID=America/Chicago:20270503T190000
DTEND;TZID=America/Chicago:20270503T203000
DTSTAMP:20260420T235724
CREATED:20250805T191617Z
LAST-MODIFIED:20250805T211304Z
UID:10000124-1809370800-1809376200@trinityarcata.com
SUMMARY:Men's Bible Study
DESCRIPTION:Join our men’s group for an in-depth look at and analysis of the Bible every Monday evening at 6:30pm.
URL:https://trinityarcata.com/event/mens-bible-study/2027-05-03/
LOCATION:Trinity Church\, 2450 Alliance Rd.\, Arcata\, CA\, 95521\, United States
CATEGORIES:Featured
ATTACH;FMTTYPE=image/jpeg:https://trinityarcata.com/wp-content/uploads/2025/07/mens-bible-study-at-Trinity-church.jpg
ORGANIZER;CN="Trinity Church":MAILTO:info@trinityarcata.com
END:VEVENT
BEGIN:VEVENT
DTSTART;TZID=America/Chicago:20270506T150000
DTEND;TZID=America/Chicago:20270506T170000
DTSTAMP:20260420T235724
CREATED:20250805T190853Z
LAST-MODIFIED:20260402T141825Z
UID:10001165-1809615600-1809622800@trinityarcata.com
SUMMARY:Food Pantry
DESCRIPTION:Our food pantry is open to our church family and the community at large every Thursday from 3pm until 5pm. Stop by to shop or to drop off food items that you can donate.
URL:https://trinityarcata.com/event/food-pantry-4/2027-05-06/
LOCATION:Trinity Church\, 2450 Alliance Rd.\, Arcata\, CA\, 95521\, United States
CATEGORIES:Featured
ATTACH;FMTTYPE=image/jpeg:https://trinityarcata.com/wp-content/uploads/2025/07/food-pantry-Trinity-Baptist-Church.jpg
ORGANIZER;CN="Trinity Church":MAILTO:info@trinityarcata.com
END:VEVENT
BEGIN:VEVENT
DTSTART;TZID=America/Chicago:20270509T090000
DTEND;TZID=America/Chicago:20270509T094500
DTSTAMP:20260420T235724
CREATED:20250805T190715Z
LAST-MODIFIED:20250805T211610Z
UID:10000905-1809853200-1809855900@trinityarcata.com
SUMMARY:Sunday Bible Study
DESCRIPTION:Men and women\, singles and couples are invited to join us as we study the Word of God every Sunday morning before our Worship Gathering..
URL:https://trinityarcata.com/event/sunday-bible-study-4/2027-05-09/
LOCATION:CA
CATEGORIES:Featured,Study
ATTACH;FMTTYPE=image/jpeg:https://trinityarcata.com/wp-content/uploads/2025/07/Trinity-Baptist-Church-Sunday-Bible-study.jpg
END:VEVENT
BEGIN:VEVENT
DTSTART;TZID=America/Chicago:20270509T100000
DTEND;TZID=America/Chicago:20270509T110000
DTSTAMP:20260420T235724
CREATED:20250805T190546Z
LAST-MODIFIED:20250805T211544Z
UID:10000645-1809856800-1809860400@trinityarcata.com
SUMMARY:Worship Gathering
DESCRIPTION:Our Praise and Worship Service is held every Sunday and lasts for about an hour. Afterwards we gather together for fellowship and a meal.
URL:https://trinityarcata.com/event/worship-gathering-4/2027-05-09/
LOCATION:Trinity Church\, 2450 Alliance Rd.\, Arcata\, CA\, 95521\, United States
CATEGORIES:Featured
ATTACH;FMTTYPE=image/jpeg:https://trinityarcata.com/wp-content/uploads/2025/07/Trinity-Baptist-Church-in-Arcata-California.jpg
ORGANIZER;CN="Trinity Church":MAILTO:info@trinityarcata.com
END:VEVENT
BEGIN:VEVENT
DTSTART;TZID=America/Chicago:20270510T180000
DTEND;TZID=America/Chicago:20270510T200000
DTSTAMP:20260420T235724
CREATED:20250805T191524Z
LAST-MODIFIED:20250805T211505Z
UID:10000385-1809972000-1809979200@trinityarcata.com
SUMMARY:Women's Craft Night
DESCRIPTION:Ladies come explore the art of crocheting\, embroidery\, and knitting! All ages welcome! We are also starting the preparation for Operation Christmas Child! Join us in preparing for this amazing ministry!
URL:https://trinityarcata.com/event/womens-craft-night-3/2027-05-10/
LOCATION:Trinity Church\, 2450 Alliance Rd.\, Arcata\, CA\, 95521\, United States
CATEGORIES:Crafts,Featured
ATTACH;FMTTYPE=image/jpeg:https://trinityarcata.com/wp-content/uploads/2025/07/womens-craft-night-at-Trinity-Church.jpg
ORGANIZER;CN="Trinity Church":MAILTO:info@trinityarcata.com
END:VEVENT
BEGIN:VEVENT
DTSTART;TZID=America/Chicago:20270510T190000
DTEND;TZID=America/Chicago:20270510T203000
DTSTAMP:20260420T235724
CREATED:20250805T191617Z
LAST-MODIFIED:20250805T211304Z
UID:10000125-1809975600-1809981000@trinityarcata.com
SUMMARY:Men's Bible Study
DESCRIPTION:Join our men’s group for an in-depth look at and analysis of the Bible every Monday evening at 6:30pm.
URL:https://trinityarcata.com/event/mens-bible-study/2027-05-10/
LOCATION:Trinity Church\, 2450 Alliance Rd.\, Arcata\, CA\, 95521\, United States
CATEGORIES:Featured
ATTACH;FMTTYPE=image/jpeg:https://trinityarcata.com/wp-content/uploads/2025/07/mens-bible-study-at-Trinity-church.jpg
ORGANIZER;CN="Trinity Church":MAILTO:info@trinityarcata.com
END:VEVENT
BEGIN:VEVENT
DTSTART;TZID=America/Chicago:20270513T150000
DTEND;TZID=America/Chicago:20270513T170000
DTSTAMP:20260420T235724
CREATED:20250805T190853Z
LAST-MODIFIED:20260402T141825Z
UID:10001166-1810220400-1810227600@trinityarcata.com
SUMMARY:Food Pantry
DESCRIPTION:Our food pantry is open to our church family and the community at large every Thursday from 3pm until 5pm. Stop by to shop or to drop off food items that you can donate.
URL:https://trinityarcata.com/event/food-pantry-4/2027-05-13/
LOCATION:Trinity Church\, 2450 Alliance Rd.\, Arcata\, CA\, 95521\, United States
CATEGORIES:Featured
ATTACH;FMTTYPE=image/jpeg:https://trinityarcata.com/wp-content/uploads/2025/07/food-pantry-Trinity-Baptist-Church.jpg
ORGANIZER;CN="Trinity Church":MAILTO:info@trinityarcata.com
END:VEVENT
BEGIN:VEVENT
DTSTART;TZID=America/Chicago:20270516T090000
DTEND;TZID=America/Chicago:20270516T094500
DTSTAMP:20260420T235724
CREATED:20250805T190715Z
LAST-MODIFIED:20250805T211610Z
UID:10000906-1810458000-1810460700@trinityarcata.com
SUMMARY:Sunday Bible Study
DESCRIPTION:Men and women\, singles and couples are invited to join us as we study the Word of God every Sunday morning before our Worship Gathering..
URL:https://trinityarcata.com/event/sunday-bible-study-4/2027-05-16/
LOCATION:CA
CATEGORIES:Featured,Study
ATTACH;FMTTYPE=image/jpeg:https://trinityarcata.com/wp-content/uploads/2025/07/Trinity-Baptist-Church-Sunday-Bible-study.jpg
END:VEVENT
BEGIN:VEVENT
DTSTART;TZID=America/Chicago:20270516T100000
DTEND;TZID=America/Chicago:20270516T110000
DTSTAMP:20260420T235724
CREATED:20250805T190546Z
LAST-MODIFIED:20250805T211544Z
UID:10000646-1810461600-1810465200@trinityarcata.com
SUMMARY:Worship Gathering
DESCRIPTION:Our Praise and Worship Service is held every Sunday and lasts for about an hour. Afterwards we gather together for fellowship and a meal.
URL:https://trinityarcata.com/event/worship-gathering-4/2027-05-16/
LOCATION:Trinity Church\, 2450 Alliance Rd.\, Arcata\, CA\, 95521\, United States
CATEGORIES:Featured
ATTACH;FMTTYPE=image/jpeg:https://trinityarcata.com/wp-content/uploads/2025/07/Trinity-Baptist-Church-in-Arcata-California.jpg
ORGANIZER;CN="Trinity Church":MAILTO:info@trinityarcata.com
END:VEVENT
BEGIN:VEVENT
DTSTART;TZID=America/Chicago:20270517T180000
DTEND;TZID=America/Chicago:20270517T200000
DTSTAMP:20260420T235724
CREATED:20250805T191524Z
LAST-MODIFIED:20250805T211505Z
UID:10000386-1810576800-1810584000@trinityarcata.com
SUMMARY:Women's Craft Night
DESCRIPTION:Ladies come explore the art of crocheting\, embroidery\, and knitting! All ages welcome! We are also starting the preparation for Operation Christmas Child! Join us in preparing for this amazing ministry!
URL:https://trinityarcata.com/event/womens-craft-night-3/2027-05-17/
LOCATION:Trinity Church\, 2450 Alliance Rd.\, Arcata\, CA\, 95521\, United States
CATEGORIES:Crafts,Featured
ATTACH;FMTTYPE=image/jpeg:https://trinityarcata.com/wp-content/uploads/2025/07/womens-craft-night-at-Trinity-Church.jpg
ORGANIZER;CN="Trinity Church":MAILTO:info@trinityarcata.com
END:VEVENT
BEGIN:VEVENT
DTSTART;TZID=America/Chicago:20270517T190000
DTEND;TZID=America/Chicago:20270517T203000
DTSTAMP:20260420T235724
CREATED:20250805T191617Z
LAST-MODIFIED:20250805T211304Z
UID:10000126-1810580400-1810585800@trinityarcata.com
SUMMARY:Men's Bible Study
DESCRIPTION:Join our men’s group for an in-depth look at and analysis of the Bible every Monday evening at 6:30pm.
URL:https://trinityarcata.com/event/mens-bible-study/2027-05-17/
LOCATION:Trinity Church\, 2450 Alliance Rd.\, Arcata\, CA\, 95521\, United States
CATEGORIES:Featured
ATTACH;FMTTYPE=image/jpeg:https://trinityarcata.com/wp-content/uploads/2025/07/mens-bible-study-at-Trinity-church.jpg
ORGANIZER;CN="Trinity Church":MAILTO:info@trinityarcata.com
END:VEVENT
BEGIN:VEVENT
DTSTART;TZID=America/Chicago:20270520T150000
DTEND;TZID=America/Chicago:20270520T170000
DTSTAMP:20260420T235724
CREATED:20250805T190853Z
LAST-MODIFIED:20260402T141825Z
UID:10001167-1810825200-1810832400@trinityarcata.com
SUMMARY:Food Pantry
DESCRIPTION:Our food pantry is open to our church family and the community at large every Thursday from 3pm until 5pm. Stop by to shop or to drop off food items that you can donate.
URL:https://trinityarcata.com/event/food-pantry-4/2027-05-20/
LOCATION:Trinity Church\, 2450 Alliance Rd.\, Arcata\, CA\, 95521\, United States
CATEGORIES:Featured
ATTACH;FMTTYPE=image/jpeg:https://trinityarcata.com/wp-content/uploads/2025/07/food-pantry-Trinity-Baptist-Church.jpg
ORGANIZER;CN="Trinity Church":MAILTO:info@trinityarcata.com
END:VEVENT
BEGIN:VEVENT
DTSTART;TZID=America/Chicago:20270523T090000
DTEND;TZID=America/Chicago:20270523T094500
DTSTAMP:20260420T235724
CREATED:20250805T190715Z
LAST-MODIFIED:20250805T211610Z
UID:10000907-1811062800-1811065500@trinityarcata.com
SUMMARY:Sunday Bible Study
DESCRIPTION:Men and women\, singles and couples are invited to join us as we study the Word of God every Sunday morning before our Worship Gathering..
URL:https://trinityarcata.com/event/sunday-bible-study-4/2027-05-23/
LOCATION:CA
CATEGORIES:Featured,Study
ATTACH;FMTTYPE=image/jpeg:https://trinityarcata.com/wp-content/uploads/2025/07/Trinity-Baptist-Church-Sunday-Bible-study.jpg
END:VEVENT
BEGIN:VEVENT
DTSTART;TZID=America/Chicago:20270523T100000
DTEND;TZID=America/Chicago:20270523T110000
DTSTAMP:20260420T235724
CREATED:20250805T190546Z
LAST-MODIFIED:20250805T211544Z
UID:10000647-1811066400-1811070000@trinityarcata.com
SUMMARY:Worship Gathering
DESCRIPTION:Our Praise and Worship Service is held every Sunday and lasts for about an hour. Afterwards we gather together for fellowship and a meal.
URL:https://trinityarcata.com/event/worship-gathering-4/2027-05-23/
LOCATION:Trinity Church\, 2450 Alliance Rd.\, Arcata\, CA\, 95521\, United States
CATEGORIES:Featured
ATTACH;FMTTYPE=image/jpeg:https://trinityarcata.com/wp-content/uploads/2025/07/Trinity-Baptist-Church-in-Arcata-California.jpg
ORGANIZER;CN="Trinity Church":MAILTO:info@trinityarcata.com
END:VEVENT
BEGIN:VEVENT
DTSTART;TZID=America/Chicago:20270524T180000
DTEND;TZID=America/Chicago:20270524T200000
DTSTAMP:20260420T235724
CREATED:20250805T191524Z
LAST-MODIFIED:20250805T211505Z
UID:10000387-1811181600-1811188800@trinityarcata.com
SUMMARY:Women's Craft Night
DESCRIPTION:Ladies come explore the art of crocheting\, embroidery\, and knitting! All ages welcome! We are also starting the preparation for Operation Christmas Child! Join us in preparing for this amazing ministry!
URL:https://trinityarcata.com/event/womens-craft-night-3/2027-05-24/
LOCATION:Trinity Church\, 2450 Alliance Rd.\, Arcata\, CA\, 95521\, United States
CATEGORIES:Crafts,Featured
ATTACH;FMTTYPE=image/jpeg:https://trinityarcata.com/wp-content/uploads/2025/07/womens-craft-night-at-Trinity-Church.jpg
ORGANIZER;CN="Trinity Church":MAILTO:info@trinityarcata.com
END:VEVENT
BEGIN:VEVENT
DTSTART;TZID=America/Chicago:20270524T190000
DTEND;TZID=America/Chicago:20270524T203000
DTSTAMP:20260420T235724
CREATED:20250805T191617Z
LAST-MODIFIED:20250805T211304Z
UID:10000127-1811185200-1811190600@trinityarcata.com
SUMMARY:Men's Bible Study
DESCRIPTION:Join our men’s group for an in-depth look at and analysis of the Bible every Monday evening at 6:30pm.
URL:https://trinityarcata.com/event/mens-bible-study/2027-05-24/
LOCATION:Trinity Church\, 2450 Alliance Rd.\, Arcata\, CA\, 95521\, United States
CATEGORIES:Featured
ATTACH;FMTTYPE=image/jpeg:https://trinityarcata.com/wp-content/uploads/2025/07/mens-bible-study-at-Trinity-church.jpg
ORGANIZER;CN="Trinity Church":MAILTO:info@trinityarcata.com
END:VEVENT
BEGIN:VEVENT
DTSTART;TZID=America/Chicago:20270527T150000
DTEND;TZID=America/Chicago:20270527T170000
DTSTAMP:20260420T235724
CREATED:20250805T190853Z
LAST-MODIFIED:20260402T141825Z
UID:10001168-1811430000-1811437200@trinityarcata.com
SUMMARY:Food Pantry
DESCRIPTION:Our food pantry is open to our church family and the community at large every Thursday from 3pm until 5pm. Stop by to shop or to drop off food items that you can donate.
URL:https://trinityarcata.com/event/food-pantry-4/2027-05-27/
LOCATION:Trinity Church\, 2450 Alliance Rd.\, Arcata\, CA\, 95521\, United States
CATEGORIES:Featured
ATTACH;FMTTYPE=image/jpeg:https://trinityarcata.com/wp-content/uploads/2025/07/food-pantry-Trinity-Baptist-Church.jpg
ORGANIZER;CN="Trinity Church":MAILTO:info@trinityarcata.com
END:VEVENT
BEGIN:VEVENT
DTSTART;TZID=America/Chicago:20270530T090000
DTEND;TZID=America/Chicago:20270530T094500
DTSTAMP:20260420T235724
CREATED:20250805T190715Z
LAST-MODIFIED:20250805T211610Z
UID:10000908-1811667600-1811670300@trinityarcata.com
SUMMARY:Sunday Bible Study
DESCRIPTION:Men and women\, singles and couples are invited to join us as we study the Word of God every Sunday morning before our Worship Gathering..
URL:https://trinityarcata.com/event/sunday-bible-study-4/2027-05-30/
LOCATION:CA
CATEGORIES:Featured,Study
ATTACH;FMTTYPE=image/jpeg:https://trinityarcata.com/wp-content/uploads/2025/07/Trinity-Baptist-Church-Sunday-Bible-study.jpg
END:VEVENT
BEGIN:VEVENT
DTSTART;TZID=America/Chicago:20270530T100000
DTEND;TZID=America/Chicago:20270530T110000
DTSTAMP:20260420T235724
CREATED:20250805T190546Z
LAST-MODIFIED:20250805T211544Z
UID:10000648-1811671200-1811674800@trinityarcata.com
SUMMARY:Worship Gathering
DESCRIPTION:Our Praise and Worship Service is held every Sunday and lasts for about an hour. Afterwards we gather together for fellowship and a meal.
URL:https://trinityarcata.com/event/worship-gathering-4/2027-05-30/
LOCATION:Trinity Church\, 2450 Alliance Rd.\, Arcata\, CA\, 95521\, United States
CATEGORIES:Featured
ATTACH;FMTTYPE=image/jpeg:https://trinityarcata.com/wp-content/uploads/2025/07/Trinity-Baptist-Church-in-Arcata-California.jpg
ORGANIZER;CN="Trinity Church":MAILTO:info@trinityarcata.com
END:VEVENT
BEGIN:VEVENT
DTSTART;TZID=America/Chicago:20270531T180000
DTEND;TZID=America/Chicago:20270531T200000
DTSTAMP:20260420T235724
CREATED:20250805T191524Z
LAST-MODIFIED:20250805T211505Z
UID:10000388-1811786400-1811793600@trinityarcata.com
SUMMARY:Women's Craft Night
DESCRIPTION:Ladies come explore the art of crocheting\, embroidery\, and knitting! All ages welcome! We are also starting the preparation for Operation Christmas Child! Join us in preparing for this amazing ministry!
URL:https://trinityarcata.com/event/womens-craft-night-3/2027-05-31/
LOCATION:Trinity Church\, 2450 Alliance Rd.\, Arcata\, CA\, 95521\, United States
CATEGORIES:Crafts,Featured
ATTACH;FMTTYPE=image/jpeg:https://trinityarcata.com/wp-content/uploads/2025/07/womens-craft-night-at-Trinity-Church.jpg
ORGANIZER;CN="Trinity Church":MAILTO:info@trinityarcata.com
END:VEVENT
BEGIN:VEVENT
DTSTART;TZID=America/Chicago:20270531T190000
DTEND;TZID=America/Chicago:20270531T203000
DTSTAMP:20260420T235724
CREATED:20250805T191617Z
LAST-MODIFIED:20250805T211304Z
UID:10000128-1811790000-1811795400@trinityarcata.com
SUMMARY:Men's Bible Study
DESCRIPTION:Join our men’s group for an in-depth look at and analysis of the Bible every Monday evening at 6:30pm.
URL:https://trinityarcata.com/event/mens-bible-study/2027-05-31/
LOCATION:Trinity Church\, 2450 Alliance Rd.\, Arcata\, CA\, 95521\, United States
CATEGORIES:Featured
ATTACH;FMTTYPE=image/jpeg:https://trinityarcata.com/wp-content/uploads/2025/07/mens-bible-study-at-Trinity-church.jpg
ORGANIZER;CN="Trinity Church":MAILTO:info@trinityarcata.com
END:VEVENT
END:VCALENDAR