BEGIN:VCALENDAR
VERSION:2.0
PRODID:-//Trinity Baptist Church - ECPv6.15.12.2//NONSGML v1.0//EN
CALSCALE:GREGORIAN
METHOD:PUBLISH
X-ORIGINAL-URL:https://trinityarcata.com
X-WR-CALDESC:Events for Trinity Baptist Church
REFRESH-INTERVAL;VALUE=DURATION:PT1H
X-Robots-Tag:noindex
X-PUBLISHED-TTL:PT1H
BEGIN:VTIMEZONE
TZID:America/Chicago
BEGIN:DAYLIGHT
TZOFFSETFROM:-0600
TZOFFSETTO:-0500
TZNAME:CDT
DTSTART:20260308T080000
END:DAYLIGHT
BEGIN:STANDARD
TZOFFSETFROM:-0500
TZOFFSETTO:-0600
TZNAME:CST
DTSTART:20261101T070000
END:STANDARD
BEGIN:DAYLIGHT
TZOFFSETFROM:-0600
TZOFFSETTO:-0500
TZNAME:CDT
DTSTART:20270314T080000
END:DAYLIGHT
BEGIN:STANDARD
TZOFFSETFROM:-0500
TZOFFSETTO:-0600
TZNAME:CST
DTSTART:20271107T070000
END:STANDARD
BEGIN:DAYLIGHT
TZOFFSETFROM:-0600
TZOFFSETTO:-0500
TZNAME:CDT
DTSTART:20280312T080000
END:DAYLIGHT
BEGIN:STANDARD
TZOFFSETFROM:-0500
TZOFFSETTO:-0600
TZNAME:CST
DTSTART:20281105T070000
END:STANDARD
END:VTIMEZONE
BEGIN:VEVENT
DTSTART;TZID=America/Chicago:20270610T150000
DTEND;TZID=America/Chicago:20270610T170000
DTSTAMP:20260421T012520
CREATED:20250805T190853Z
LAST-MODIFIED:20260402T141825Z
UID:10001170-1812639600-1812646800@trinityarcata.com
SUMMARY:Food Pantry
DESCRIPTION:Our food pantry is open to our church family and the community at large every Thursday from 3pm until 5pm. Stop by to shop or to drop off food items that you can donate.
URL:https://trinityarcata.com/event/food-pantry-4/2027-06-10/
LOCATION:Trinity Church\, 2450 Alliance Rd.\, Arcata\, CA\, 95521\, United States
CATEGORIES:Featured
ATTACH;FMTTYPE=image/jpeg:https://trinityarcata.com/wp-content/uploads/2025/07/food-pantry-Trinity-Baptist-Church.jpg
ORGANIZER;CN="Trinity Church":MAILTO:info@trinityarcata.com
END:VEVENT
BEGIN:VEVENT
DTSTART;TZID=America/Chicago:20270613T090000
DTEND;TZID=America/Chicago:20270613T094500
DTSTAMP:20260421T012520
CREATED:20250805T190715Z
LAST-MODIFIED:20250805T211610Z
UID:10000910-1812877200-1812879900@trinityarcata.com
SUMMARY:Sunday Bible Study
DESCRIPTION:Men and women\, singles and couples are invited to join us as we study the Word of God every Sunday morning before our Worship Gathering..
URL:https://trinityarcata.com/event/sunday-bible-study-4/2027-06-13/
LOCATION:CA
CATEGORIES:Featured,Study
ATTACH;FMTTYPE=image/jpeg:https://trinityarcata.com/wp-content/uploads/2025/07/Trinity-Baptist-Church-Sunday-Bible-study.jpg
END:VEVENT
BEGIN:VEVENT
DTSTART;TZID=America/Chicago:20270613T100000
DTEND;TZID=America/Chicago:20270613T110000
DTSTAMP:20260421T012520
CREATED:20250805T190546Z
LAST-MODIFIED:20250805T211544Z
UID:10000650-1812880800-1812884400@trinityarcata.com
SUMMARY:Worship Gathering
DESCRIPTION:Our Praise and Worship Service is held every Sunday and lasts for about an hour. Afterwards we gather together for fellowship and a meal.
URL:https://trinityarcata.com/event/worship-gathering-4/2027-06-13/
LOCATION:Trinity Church\, 2450 Alliance Rd.\, Arcata\, CA\, 95521\, United States
CATEGORIES:Featured
ATTACH;FMTTYPE=image/jpeg:https://trinityarcata.com/wp-content/uploads/2025/07/Trinity-Baptist-Church-in-Arcata-California.jpg
ORGANIZER;CN="Trinity Church":MAILTO:info@trinityarcata.com
END:VEVENT
BEGIN:VEVENT
DTSTART;TZID=America/Chicago:20270614T180000
DTEND;TZID=America/Chicago:20270614T200000
DTSTAMP:20260421T012520
CREATED:20250805T191524Z
LAST-MODIFIED:20250805T211505Z
UID:10000390-1812996000-1813003200@trinityarcata.com
SUMMARY:Women's Craft Night
DESCRIPTION:Ladies come explore the art of crocheting\, embroidery\, and knitting! All ages welcome! We are also starting the preparation for Operation Christmas Child! Join us in preparing for this amazing ministry!
URL:https://trinityarcata.com/event/womens-craft-night-3/2027-06-14/
LOCATION:Trinity Church\, 2450 Alliance Rd.\, Arcata\, CA\, 95521\, United States
CATEGORIES:Crafts,Featured
ATTACH;FMTTYPE=image/jpeg:https://trinityarcata.com/wp-content/uploads/2025/07/womens-craft-night-at-Trinity-Church.jpg
ORGANIZER;CN="Trinity Church":MAILTO:info@trinityarcata.com
END:VEVENT
BEGIN:VEVENT
DTSTART;TZID=America/Chicago:20270614T190000
DTEND;TZID=America/Chicago:20270614T203000
DTSTAMP:20260421T012520
CREATED:20250805T191617Z
LAST-MODIFIED:20250805T211304Z
UID:10000130-1812999600-1813005000@trinityarcata.com
SUMMARY:Men's Bible Study
DESCRIPTION:Join our men’s group for an in-depth look at and analysis of the Bible every Monday evening at 6:30pm.
URL:https://trinityarcata.com/event/mens-bible-study/2027-06-14/
LOCATION:Trinity Church\, 2450 Alliance Rd.\, Arcata\, CA\, 95521\, United States
CATEGORIES:Featured
ATTACH;FMTTYPE=image/jpeg:https://trinityarcata.com/wp-content/uploads/2025/07/mens-bible-study-at-Trinity-church.jpg
ORGANIZER;CN="Trinity Church":MAILTO:info@trinityarcata.com
END:VEVENT
BEGIN:VEVENT
DTSTART;TZID=America/Chicago:20270617T150000
DTEND;TZID=America/Chicago:20270617T170000
DTSTAMP:20260421T012520
CREATED:20250805T190853Z
LAST-MODIFIED:20260402T141825Z
UID:10001171-1813244400-1813251600@trinityarcata.com
SUMMARY:Food Pantry
DESCRIPTION:Our food pantry is open to our church family and the community at large every Thursday from 3pm until 5pm. Stop by to shop or to drop off food items that you can donate.
URL:https://trinityarcata.com/event/food-pantry-4/2027-06-17/
LOCATION:Trinity Church\, 2450 Alliance Rd.\, Arcata\, CA\, 95521\, United States
CATEGORIES:Featured
ATTACH;FMTTYPE=image/jpeg:https://trinityarcata.com/wp-content/uploads/2025/07/food-pantry-Trinity-Baptist-Church.jpg
ORGANIZER;CN="Trinity Church":MAILTO:info@trinityarcata.com
END:VEVENT
BEGIN:VEVENT
DTSTART;TZID=America/Chicago:20270620T090000
DTEND;TZID=America/Chicago:20270620T094500
DTSTAMP:20260421T012520
CREATED:20250805T190715Z
LAST-MODIFIED:20250805T211610Z
UID:10000911-1813482000-1813484700@trinityarcata.com
SUMMARY:Sunday Bible Study
DESCRIPTION:Men and women\, singles and couples are invited to join us as we study the Word of God every Sunday morning before our Worship Gathering..
URL:https://trinityarcata.com/event/sunday-bible-study-4/2027-06-20/
LOCATION:CA
CATEGORIES:Featured,Study
ATTACH;FMTTYPE=image/jpeg:https://trinityarcata.com/wp-content/uploads/2025/07/Trinity-Baptist-Church-Sunday-Bible-study.jpg
END:VEVENT
BEGIN:VEVENT
DTSTART;TZID=America/Chicago:20270620T100000
DTEND;TZID=America/Chicago:20270620T110000
DTSTAMP:20260421T012520
CREATED:20250805T190546Z
LAST-MODIFIED:20250805T211544Z
UID:10000651-1813485600-1813489200@trinityarcata.com
SUMMARY:Worship Gathering
DESCRIPTION:Our Praise and Worship Service is held every Sunday and lasts for about an hour. Afterwards we gather together for fellowship and a meal.
URL:https://trinityarcata.com/event/worship-gathering-4/2027-06-20/
LOCATION:Trinity Church\, 2450 Alliance Rd.\, Arcata\, CA\, 95521\, United States
CATEGORIES:Featured
ATTACH;FMTTYPE=image/jpeg:https://trinityarcata.com/wp-content/uploads/2025/07/Trinity-Baptist-Church-in-Arcata-California.jpg
ORGANIZER;CN="Trinity Church":MAILTO:info@trinityarcata.com
END:VEVENT
BEGIN:VEVENT
DTSTART;TZID=America/Chicago:20270621T180000
DTEND;TZID=America/Chicago:20270621T200000
DTSTAMP:20260421T012520
CREATED:20250805T191524Z
LAST-MODIFIED:20250805T211505Z
UID:10000391-1813600800-1813608000@trinityarcata.com
SUMMARY:Women's Craft Night
DESCRIPTION:Ladies come explore the art of crocheting\, embroidery\, and knitting! All ages welcome! We are also starting the preparation for Operation Christmas Child! Join us in preparing for this amazing ministry!
URL:https://trinityarcata.com/event/womens-craft-night-3/2027-06-21/
LOCATION:Trinity Church\, 2450 Alliance Rd.\, Arcata\, CA\, 95521\, United States
CATEGORIES:Crafts,Featured
ATTACH;FMTTYPE=image/jpeg:https://trinityarcata.com/wp-content/uploads/2025/07/womens-craft-night-at-Trinity-Church.jpg
ORGANIZER;CN="Trinity Church":MAILTO:info@trinityarcata.com
END:VEVENT
BEGIN:VEVENT
DTSTART;TZID=America/Chicago:20270621T190000
DTEND;TZID=America/Chicago:20270621T203000
DTSTAMP:20260421T012520
CREATED:20250805T191617Z
LAST-MODIFIED:20250805T211304Z
UID:10000131-1813604400-1813609800@trinityarcata.com
SUMMARY:Men's Bible Study
DESCRIPTION:Join our men’s group for an in-depth look at and analysis of the Bible every Monday evening at 6:30pm.
URL:https://trinityarcata.com/event/mens-bible-study/2027-06-21/
LOCATION:Trinity Church\, 2450 Alliance Rd.\, Arcata\, CA\, 95521\, United States
CATEGORIES:Featured
ATTACH;FMTTYPE=image/jpeg:https://trinityarcata.com/wp-content/uploads/2025/07/mens-bible-study-at-Trinity-church.jpg
ORGANIZER;CN="Trinity Church":MAILTO:info@trinityarcata.com
END:VEVENT
BEGIN:VEVENT
DTSTART;TZID=America/Chicago:20270624T150000
DTEND;TZID=America/Chicago:20270624T170000
DTSTAMP:20260421T012520
CREATED:20250805T190853Z
LAST-MODIFIED:20260402T141825Z
UID:10001172-1813849200-1813856400@trinityarcata.com
SUMMARY:Food Pantry
DESCRIPTION:Our food pantry is open to our church family and the community at large every Thursday from 3pm until 5pm. Stop by to shop or to drop off food items that you can donate.
URL:https://trinityarcata.com/event/food-pantry-4/2027-06-24/
LOCATION:Trinity Church\, 2450 Alliance Rd.\, Arcata\, CA\, 95521\, United States
CATEGORIES:Featured
ATTACH;FMTTYPE=image/jpeg:https://trinityarcata.com/wp-content/uploads/2025/07/food-pantry-Trinity-Baptist-Church.jpg
ORGANIZER;CN="Trinity Church":MAILTO:info@trinityarcata.com
END:VEVENT
BEGIN:VEVENT
DTSTART;TZID=America/Chicago:20270627T090000
DTEND;TZID=America/Chicago:20270627T094500
DTSTAMP:20260421T012520
CREATED:20250805T190715Z
LAST-MODIFIED:20250805T211610Z
UID:10000912-1814086800-1814089500@trinityarcata.com
SUMMARY:Sunday Bible Study
DESCRIPTION:Men and women\, singles and couples are invited to join us as we study the Word of God every Sunday morning before our Worship Gathering..
URL:https://trinityarcata.com/event/sunday-bible-study-4/2027-06-27/
LOCATION:CA
CATEGORIES:Featured,Study
ATTACH;FMTTYPE=image/jpeg:https://trinityarcata.com/wp-content/uploads/2025/07/Trinity-Baptist-Church-Sunday-Bible-study.jpg
END:VEVENT
BEGIN:VEVENT
DTSTART;TZID=America/Chicago:20270627T100000
DTEND;TZID=America/Chicago:20270627T110000
DTSTAMP:20260421T012520
CREATED:20250805T190546Z
LAST-MODIFIED:20250805T211544Z
UID:10000652-1814090400-1814094000@trinityarcata.com
SUMMARY:Worship Gathering
DESCRIPTION:Our Praise and Worship Service is held every Sunday and lasts for about an hour. Afterwards we gather together for fellowship and a meal.
URL:https://trinityarcata.com/event/worship-gathering-4/2027-06-27/
LOCATION:Trinity Church\, 2450 Alliance Rd.\, Arcata\, CA\, 95521\, United States
CATEGORIES:Featured
ATTACH;FMTTYPE=image/jpeg:https://trinityarcata.com/wp-content/uploads/2025/07/Trinity-Baptist-Church-in-Arcata-California.jpg
ORGANIZER;CN="Trinity Church":MAILTO:info@trinityarcata.com
END:VEVENT
BEGIN:VEVENT
DTSTART;TZID=America/Chicago:20270628T180000
DTEND;TZID=America/Chicago:20270628T200000
DTSTAMP:20260421T012520
CREATED:20250805T191524Z
LAST-MODIFIED:20250805T211505Z
UID:10000392-1814205600-1814212800@trinityarcata.com
SUMMARY:Women's Craft Night
DESCRIPTION:Ladies come explore the art of crocheting\, embroidery\, and knitting! All ages welcome! We are also starting the preparation for Operation Christmas Child! Join us in preparing for this amazing ministry!
URL:https://trinityarcata.com/event/womens-craft-night-3/2027-06-28/
LOCATION:Trinity Church\, 2450 Alliance Rd.\, Arcata\, CA\, 95521\, United States
CATEGORIES:Crafts,Featured
ATTACH;FMTTYPE=image/jpeg:https://trinityarcata.com/wp-content/uploads/2025/07/womens-craft-night-at-Trinity-Church.jpg
ORGANIZER;CN="Trinity Church":MAILTO:info@trinityarcata.com
END:VEVENT
BEGIN:VEVENT
DTSTART;TZID=America/Chicago:20270628T190000
DTEND;TZID=America/Chicago:20270628T203000
DTSTAMP:20260421T012520
CREATED:20250805T191617Z
LAST-MODIFIED:20250805T211304Z
UID:10000132-1814209200-1814214600@trinityarcata.com
SUMMARY:Men's Bible Study
DESCRIPTION:Join our men’s group for an in-depth look at and analysis of the Bible every Monday evening at 6:30pm.
URL:https://trinityarcata.com/event/mens-bible-study/2027-06-28/
LOCATION:Trinity Church\, 2450 Alliance Rd.\, Arcata\, CA\, 95521\, United States
CATEGORIES:Featured
ATTACH;FMTTYPE=image/jpeg:https://trinityarcata.com/wp-content/uploads/2025/07/mens-bible-study-at-Trinity-church.jpg
ORGANIZER;CN="Trinity Church":MAILTO:info@trinityarcata.com
END:VEVENT
BEGIN:VEVENT
DTSTART;TZID=America/Chicago:20270701T150000
DTEND;TZID=America/Chicago:20270701T170000
DTSTAMP:20260421T012520
CREATED:20250805T190853Z
LAST-MODIFIED:20260402T141825Z
UID:10001173-1814454000-1814461200@trinityarcata.com
SUMMARY:Food Pantry
DESCRIPTION:Our food pantry is open to our church family and the community at large every Thursday from 3pm until 5pm. Stop by to shop or to drop off food items that you can donate.
URL:https://trinityarcata.com/event/food-pantry-4/2027-07-01/
LOCATION:Trinity Church\, 2450 Alliance Rd.\, Arcata\, CA\, 95521\, United States
CATEGORIES:Featured
ATTACH;FMTTYPE=image/jpeg:https://trinityarcata.com/wp-content/uploads/2025/07/food-pantry-Trinity-Baptist-Church.jpg
ORGANIZER;CN="Trinity Church":MAILTO:info@trinityarcata.com
END:VEVENT
BEGIN:VEVENT
DTSTART;TZID=America/Chicago:20270704T090000
DTEND;TZID=America/Chicago:20270704T094500
DTSTAMP:20260421T012520
CREATED:20250805T190715Z
LAST-MODIFIED:20250805T211610Z
UID:10000913-1814691600-1814694300@trinityarcata.com
SUMMARY:Sunday Bible Study
DESCRIPTION:Men and women\, singles and couples are invited to join us as we study the Word of God every Sunday morning before our Worship Gathering..
URL:https://trinityarcata.com/event/sunday-bible-study-4/2027-07-04/
LOCATION:CA
CATEGORIES:Featured,Study
ATTACH;FMTTYPE=image/jpeg:https://trinityarcata.com/wp-content/uploads/2025/07/Trinity-Baptist-Church-Sunday-Bible-study.jpg
END:VEVENT
BEGIN:VEVENT
DTSTART;TZID=America/Chicago:20270704T100000
DTEND;TZID=America/Chicago:20270704T110000
DTSTAMP:20260421T012520
CREATED:20250805T190546Z
LAST-MODIFIED:20250805T211544Z
UID:10000653-1814695200-1814698800@trinityarcata.com
SUMMARY:Worship Gathering
DESCRIPTION:Our Praise and Worship Service is held every Sunday and lasts for about an hour. Afterwards we gather together for fellowship and a meal.
URL:https://trinityarcata.com/event/worship-gathering-4/2027-07-04/
LOCATION:Trinity Church\, 2450 Alliance Rd.\, Arcata\, CA\, 95521\, United States
CATEGORIES:Featured
ATTACH;FMTTYPE=image/jpeg:https://trinityarcata.com/wp-content/uploads/2025/07/Trinity-Baptist-Church-in-Arcata-California.jpg
ORGANIZER;CN="Trinity Church":MAILTO:info@trinityarcata.com
END:VEVENT
BEGIN:VEVENT
DTSTART;TZID=America/Chicago:20270705T180000
DTEND;TZID=America/Chicago:20270705T200000
DTSTAMP:20260421T012520
CREATED:20250805T191524Z
LAST-MODIFIED:20250805T211505Z
UID:10000393-1814810400-1814817600@trinityarcata.com
SUMMARY:Women's Craft Night
DESCRIPTION:Ladies come explore the art of crocheting\, embroidery\, and knitting! All ages welcome! We are also starting the preparation for Operation Christmas Child! Join us in preparing for this amazing ministry!
URL:https://trinityarcata.com/event/womens-craft-night-3/2027-07-05/
LOCATION:Trinity Church\, 2450 Alliance Rd.\, Arcata\, CA\, 95521\, United States
CATEGORIES:Crafts,Featured
ATTACH;FMTTYPE=image/jpeg:https://trinityarcata.com/wp-content/uploads/2025/07/womens-craft-night-at-Trinity-Church.jpg
ORGANIZER;CN="Trinity Church":MAILTO:info@trinityarcata.com
END:VEVENT
BEGIN:VEVENT
DTSTART;TZID=America/Chicago:20270705T190000
DTEND;TZID=America/Chicago:20270705T203000
DTSTAMP:20260421T012520
CREATED:20250805T191617Z
LAST-MODIFIED:20250805T211304Z
UID:10000133-1814814000-1814819400@trinityarcata.com
SUMMARY:Men's Bible Study
DESCRIPTION:Join our men’s group for an in-depth look at and analysis of the Bible every Monday evening at 6:30pm.
URL:https://trinityarcata.com/event/mens-bible-study/2027-07-05/
LOCATION:Trinity Church\, 2450 Alliance Rd.\, Arcata\, CA\, 95521\, United States
CATEGORIES:Featured
ATTACH;FMTTYPE=image/jpeg:https://trinityarcata.com/wp-content/uploads/2025/07/mens-bible-study-at-Trinity-church.jpg
ORGANIZER;CN="Trinity Church":MAILTO:info@trinityarcata.com
END:VEVENT
BEGIN:VEVENT
DTSTART;TZID=America/Chicago:20270708T150000
DTEND;TZID=America/Chicago:20270708T170000
DTSTAMP:20260421T012520
CREATED:20250805T190853Z
LAST-MODIFIED:20260402T141825Z
UID:10001174-1815058800-1815066000@trinityarcata.com
SUMMARY:Food Pantry
DESCRIPTION:Our food pantry is open to our church family and the community at large every Thursday from 3pm until 5pm. Stop by to shop or to drop off food items that you can donate.
URL:https://trinityarcata.com/event/food-pantry-4/2027-07-08/
LOCATION:Trinity Church\, 2450 Alliance Rd.\, Arcata\, CA\, 95521\, United States
CATEGORIES:Featured
ATTACH;FMTTYPE=image/jpeg:https://trinityarcata.com/wp-content/uploads/2025/07/food-pantry-Trinity-Baptist-Church.jpg
ORGANIZER;CN="Trinity Church":MAILTO:info@trinityarcata.com
END:VEVENT
BEGIN:VEVENT
DTSTART;TZID=America/Chicago:20270711T090000
DTEND;TZID=America/Chicago:20270711T094500
DTSTAMP:20260421T012520
CREATED:20250805T190715Z
LAST-MODIFIED:20250805T211610Z
UID:10000914-1815296400-1815299100@trinityarcata.com
SUMMARY:Sunday Bible Study
DESCRIPTION:Men and women\, singles and couples are invited to join us as we study the Word of God every Sunday morning before our Worship Gathering..
URL:https://trinityarcata.com/event/sunday-bible-study-4/2027-07-11/
LOCATION:CA
CATEGORIES:Featured,Study
ATTACH;FMTTYPE=image/jpeg:https://trinityarcata.com/wp-content/uploads/2025/07/Trinity-Baptist-Church-Sunday-Bible-study.jpg
END:VEVENT
BEGIN:VEVENT
DTSTART;TZID=America/Chicago:20270711T100000
DTEND;TZID=America/Chicago:20270711T110000
DTSTAMP:20260421T012520
CREATED:20250805T190546Z
LAST-MODIFIED:20250805T211544Z
UID:10000654-1815300000-1815303600@trinityarcata.com
SUMMARY:Worship Gathering
DESCRIPTION:Our Praise and Worship Service is held every Sunday and lasts for about an hour. Afterwards we gather together for fellowship and a meal.
URL:https://trinityarcata.com/event/worship-gathering-4/2027-07-11/
LOCATION:Trinity Church\, 2450 Alliance Rd.\, Arcata\, CA\, 95521\, United States
CATEGORIES:Featured
ATTACH;FMTTYPE=image/jpeg:https://trinityarcata.com/wp-content/uploads/2025/07/Trinity-Baptist-Church-in-Arcata-California.jpg
ORGANIZER;CN="Trinity Church":MAILTO:info@trinityarcata.com
END:VEVENT
BEGIN:VEVENT
DTSTART;TZID=America/Chicago:20270712T180000
DTEND;TZID=America/Chicago:20270712T200000
DTSTAMP:20260421T012520
CREATED:20250805T191524Z
LAST-MODIFIED:20250805T211505Z
UID:10000394-1815415200-1815422400@trinityarcata.com
SUMMARY:Women's Craft Night
DESCRIPTION:Ladies come explore the art of crocheting\, embroidery\, and knitting! All ages welcome! We are also starting the preparation for Operation Christmas Child! Join us in preparing for this amazing ministry!
URL:https://trinityarcata.com/event/womens-craft-night-3/2027-07-12/
LOCATION:Trinity Church\, 2450 Alliance Rd.\, Arcata\, CA\, 95521\, United States
CATEGORIES:Crafts,Featured
ATTACH;FMTTYPE=image/jpeg:https://trinityarcata.com/wp-content/uploads/2025/07/womens-craft-night-at-Trinity-Church.jpg
ORGANIZER;CN="Trinity Church":MAILTO:info@trinityarcata.com
END:VEVENT
BEGIN:VEVENT
DTSTART;TZID=America/Chicago:20270712T190000
DTEND;TZID=America/Chicago:20270712T203000
DTSTAMP:20260421T012520
CREATED:20250805T191617Z
LAST-MODIFIED:20250805T211304Z
UID:10000134-1815418800-1815424200@trinityarcata.com
SUMMARY:Men's Bible Study
DESCRIPTION:Join our men’s group for an in-depth look at and analysis of the Bible every Monday evening at 6:30pm.
URL:https://trinityarcata.com/event/mens-bible-study/2027-07-12/
LOCATION:Trinity Church\, 2450 Alliance Rd.\, Arcata\, CA\, 95521\, United States
CATEGORIES:Featured
ATTACH;FMTTYPE=image/jpeg:https://trinityarcata.com/wp-content/uploads/2025/07/mens-bible-study-at-Trinity-church.jpg
ORGANIZER;CN="Trinity Church":MAILTO:info@trinityarcata.com
END:VEVENT
BEGIN:VEVENT
DTSTART;TZID=America/Chicago:20270715T150000
DTEND;TZID=America/Chicago:20270715T170000
DTSTAMP:20260421T012520
CREATED:20250805T190853Z
LAST-MODIFIED:20260402T141825Z
UID:10001175-1815663600-1815670800@trinityarcata.com
SUMMARY:Food Pantry
DESCRIPTION:Our food pantry is open to our church family and the community at large every Thursday from 3pm until 5pm. Stop by to shop or to drop off food items that you can donate.
URL:https://trinityarcata.com/event/food-pantry-4/2027-07-15/
LOCATION:Trinity Church\, 2450 Alliance Rd.\, Arcata\, CA\, 95521\, United States
CATEGORIES:Featured
ATTACH;FMTTYPE=image/jpeg:https://trinityarcata.com/wp-content/uploads/2025/07/food-pantry-Trinity-Baptist-Church.jpg
ORGANIZER;CN="Trinity Church":MAILTO:info@trinityarcata.com
END:VEVENT
BEGIN:VEVENT
DTSTART;TZID=America/Chicago:20270718T090000
DTEND;TZID=America/Chicago:20270718T094500
DTSTAMP:20260421T012520
CREATED:20250805T190715Z
LAST-MODIFIED:20250805T211610Z
UID:10000915-1815901200-1815903900@trinityarcata.com
SUMMARY:Sunday Bible Study
DESCRIPTION:Men and women\, singles and couples are invited to join us as we study the Word of God every Sunday morning before our Worship Gathering..
URL:https://trinityarcata.com/event/sunday-bible-study-4/2027-07-18/
LOCATION:CA
CATEGORIES:Featured,Study
ATTACH;FMTTYPE=image/jpeg:https://trinityarcata.com/wp-content/uploads/2025/07/Trinity-Baptist-Church-Sunday-Bible-study.jpg
END:VEVENT
BEGIN:VEVENT
DTSTART;TZID=America/Chicago:20270718T100000
DTEND;TZID=America/Chicago:20270718T110000
DTSTAMP:20260421T012520
CREATED:20250805T190546Z
LAST-MODIFIED:20250805T211544Z
UID:10000655-1815904800-1815908400@trinityarcata.com
SUMMARY:Worship Gathering
DESCRIPTION:Our Praise and Worship Service is held every Sunday and lasts for about an hour. Afterwards we gather together for fellowship and a meal.
URL:https://trinityarcata.com/event/worship-gathering-4/2027-07-18/
LOCATION:Trinity Church\, 2450 Alliance Rd.\, Arcata\, CA\, 95521\, United States
CATEGORIES:Featured
ATTACH;FMTTYPE=image/jpeg:https://trinityarcata.com/wp-content/uploads/2025/07/Trinity-Baptist-Church-in-Arcata-California.jpg
ORGANIZER;CN="Trinity Church":MAILTO:info@trinityarcata.com
END:VEVENT
BEGIN:VEVENT
DTSTART;TZID=America/Chicago:20270719T180000
DTEND;TZID=America/Chicago:20270719T200000
DTSTAMP:20260421T012520
CREATED:20250805T191524Z
LAST-MODIFIED:20250805T211505Z
UID:10000395-1816020000-1816027200@trinityarcata.com
SUMMARY:Women's Craft Night
DESCRIPTION:Ladies come explore the art of crocheting\, embroidery\, and knitting! All ages welcome! We are also starting the preparation for Operation Christmas Child! Join us in preparing for this amazing ministry!
URL:https://trinityarcata.com/event/womens-craft-night-3/2027-07-19/
LOCATION:Trinity Church\, 2450 Alliance Rd.\, Arcata\, CA\, 95521\, United States
CATEGORIES:Crafts,Featured
ATTACH;FMTTYPE=image/jpeg:https://trinityarcata.com/wp-content/uploads/2025/07/womens-craft-night-at-Trinity-Church.jpg
ORGANIZER;CN="Trinity Church":MAILTO:info@trinityarcata.com
END:VEVENT
BEGIN:VEVENT
DTSTART;TZID=America/Chicago:20270719T190000
DTEND;TZID=America/Chicago:20270719T203000
DTSTAMP:20260421T012520
CREATED:20250805T191617Z
LAST-MODIFIED:20250805T211304Z
UID:10000135-1816023600-1816029000@trinityarcata.com
SUMMARY:Men's Bible Study
DESCRIPTION:Join our men’s group for an in-depth look at and analysis of the Bible every Monday evening at 6:30pm.
URL:https://trinityarcata.com/event/mens-bible-study/2027-07-19/
LOCATION:Trinity Church\, 2450 Alliance Rd.\, Arcata\, CA\, 95521\, United States
CATEGORIES:Featured
ATTACH;FMTTYPE=image/jpeg:https://trinityarcata.com/wp-content/uploads/2025/07/mens-bible-study-at-Trinity-church.jpg
ORGANIZER;CN="Trinity Church":MAILTO:info@trinityarcata.com
END:VEVENT
END:VCALENDAR