BEGIN:VCALENDAR
VERSION:2.0
PRODID:-//Trinity Baptist Church - ECPv6.15.12.2//NONSGML v1.0//EN
CALSCALE:GREGORIAN
METHOD:PUBLISH
X-ORIGINAL-URL:https://trinityarcata.com
X-WR-CALDESC:Events for Trinity Baptist Church
REFRESH-INTERVAL;VALUE=DURATION:PT1H
X-Robots-Tag:noindex
X-PUBLISHED-TTL:PT1H
BEGIN:VTIMEZONE
TZID:America/Chicago
BEGIN:DAYLIGHT
TZOFFSETFROM:-0600
TZOFFSETTO:-0500
TZNAME:CDT
DTSTART:20250309T080000
END:DAYLIGHT
BEGIN:STANDARD
TZOFFSETFROM:-0500
TZOFFSETTO:-0600
TZNAME:CST
DTSTART:20251102T070000
END:STANDARD
BEGIN:DAYLIGHT
TZOFFSETFROM:-0600
TZOFFSETTO:-0500
TZNAME:CDT
DTSTART:20260308T080000
END:DAYLIGHT
BEGIN:STANDARD
TZOFFSETFROM:-0500
TZOFFSETTO:-0600
TZNAME:CST
DTSTART:20261101T070000
END:STANDARD
BEGIN:DAYLIGHT
TZOFFSETFROM:-0600
TZOFFSETTO:-0500
TZNAME:CDT
DTSTART:20270314T080000
END:DAYLIGHT
BEGIN:STANDARD
TZOFFSETFROM:-0500
TZOFFSETTO:-0600
TZNAME:CST
DTSTART:20271107T070000
END:STANDARD
END:VTIMEZONE
BEGIN:VEVENT
DTSTART;TZID=America/Chicago:20260427T180000
DTEND;TZID=America/Chicago:20260427T200000
DTSTAMP:20260420T013009
CREATED:20250805T191524Z
LAST-MODIFIED:20250805T211505Z
UID:10000331-1777312800-1777320000@trinityarcata.com
SUMMARY:Women's Craft Night
DESCRIPTION:Ladies come explore the art of crocheting\, embroidery\, and knitting! All ages welcome! We are also starting the preparation for Operation Christmas Child! Join us in preparing for this amazing ministry!
URL:https://trinityarcata.com/event/womens-craft-night-3/2026-04-27/
LOCATION:Trinity Church\, 2450 Alliance Rd.\, Arcata\, CA\, 95521\, United States
CATEGORIES:Crafts,Featured
ATTACH;FMTTYPE=image/jpeg:https://trinityarcata.com/wp-content/uploads/2025/07/womens-craft-night-at-Trinity-Church.jpg
ORGANIZER;CN="Trinity Church":MAILTO:info@trinityarcata.com
END:VEVENT
BEGIN:VEVENT
DTSTART;TZID=America/Chicago:20260427T190000
DTEND;TZID=America/Chicago:20260427T203000
DTSTAMP:20260420T013009
CREATED:20250805T191617Z
LAST-MODIFIED:20250805T211304Z
UID:10000071-1777316400-1777321800@trinityarcata.com
SUMMARY:Men's Bible Study
DESCRIPTION:Join our men’s group for an in-depth look at and analysis of the Bible every Monday evening at 6:30pm.
URL:https://trinityarcata.com/event/mens-bible-study/2026-04-27/
LOCATION:Trinity Church\, 2450 Alliance Rd.\, Arcata\, CA\, 95521\, United States
CATEGORIES:Featured
ATTACH;FMTTYPE=image/jpeg:https://trinityarcata.com/wp-content/uploads/2025/07/mens-bible-study-at-Trinity-church.jpg
ORGANIZER;CN="Trinity Church":MAILTO:info@trinityarcata.com
END:VEVENT
BEGIN:VEVENT
DTSTART;TZID=America/Chicago:20260430T150000
DTEND;TZID=America/Chicago:20260430T170000
DTSTAMP:20260420T013009
CREATED:20250805T190853Z
LAST-MODIFIED:20260402T141825Z
UID:10001112-1777561200-1777568400@trinityarcata.com
SUMMARY:Food Pantry
DESCRIPTION:Our food pantry is open to our church family and the community at large every Thursday from 3pm until 5pm. Stop by to shop or to drop off food items that you can donate.
URL:https://trinityarcata.com/event/food-pantry-4/2026-04-30/
LOCATION:Trinity Church\, 2450 Alliance Rd.\, Arcata\, CA\, 95521\, United States
CATEGORIES:Featured
ATTACH;FMTTYPE=image/jpeg:https://trinityarcata.com/wp-content/uploads/2025/07/food-pantry-Trinity-Baptist-Church.jpg
ORGANIZER;CN="Trinity Church":MAILTO:info@trinityarcata.com
END:VEVENT
BEGIN:VEVENT
DTSTART;TZID=America/Chicago:20260503T090000
DTEND;TZID=America/Chicago:20260503T094500
DTSTAMP:20260420T013009
CREATED:20250805T190715Z
LAST-MODIFIED:20250805T211610Z
UID:10000852-1777798800-1777801500@trinityarcata.com
SUMMARY:Sunday Bible Study
DESCRIPTION:Men and women\, singles and couples are invited to join us as we study the Word of God every Sunday morning before our Worship Gathering..
URL:https://trinityarcata.com/event/sunday-bible-study-4/2026-05-03/
LOCATION:CA
CATEGORIES:Featured,Study
ATTACH;FMTTYPE=image/jpeg:https://trinityarcata.com/wp-content/uploads/2025/07/Trinity-Baptist-Church-Sunday-Bible-study.jpg
END:VEVENT
BEGIN:VEVENT
DTSTART;TZID=America/Chicago:20260503T100000
DTEND;TZID=America/Chicago:20260503T110000
DTSTAMP:20260420T013009
CREATED:20250805T190546Z
LAST-MODIFIED:20250805T211544Z
UID:10000592-1777802400-1777806000@trinityarcata.com
SUMMARY:Worship Gathering
DESCRIPTION:Our Praise and Worship Service is held every Sunday and lasts for about an hour. Afterwards we gather together for fellowship and a meal.
URL:https://trinityarcata.com/event/worship-gathering-4/2026-05-03/
LOCATION:Trinity Church\, 2450 Alliance Rd.\, Arcata\, CA\, 95521\, United States
CATEGORIES:Featured
ATTACH;FMTTYPE=image/jpeg:https://trinityarcata.com/wp-content/uploads/2025/07/Trinity-Baptist-Church-in-Arcata-California.jpg
ORGANIZER;CN="Trinity Church":MAILTO:info@trinityarcata.com
END:VEVENT
BEGIN:VEVENT
DTSTART;TZID=America/Chicago:20260504T180000
DTEND;TZID=America/Chicago:20260504T200000
DTSTAMP:20260420T013009
CREATED:20250805T191524Z
LAST-MODIFIED:20250805T211505Z
UID:10000332-1777917600-1777924800@trinityarcata.com
SUMMARY:Women's Craft Night
DESCRIPTION:Ladies come explore the art of crocheting\, embroidery\, and knitting! All ages welcome! We are also starting the preparation for Operation Christmas Child! Join us in preparing for this amazing ministry!
URL:https://trinityarcata.com/event/womens-craft-night-3/2026-05-04/
LOCATION:Trinity Church\, 2450 Alliance Rd.\, Arcata\, CA\, 95521\, United States
CATEGORIES:Crafts,Featured
ATTACH;FMTTYPE=image/jpeg:https://trinityarcata.com/wp-content/uploads/2025/07/womens-craft-night-at-Trinity-Church.jpg
ORGANIZER;CN="Trinity Church":MAILTO:info@trinityarcata.com
END:VEVENT
BEGIN:VEVENT
DTSTART;TZID=America/Chicago:20260504T190000
DTEND;TZID=America/Chicago:20260504T203000
DTSTAMP:20260420T013009
CREATED:20250805T191617Z
LAST-MODIFIED:20250805T211304Z
UID:10000072-1777921200-1777926600@trinityarcata.com
SUMMARY:Men's Bible Study
DESCRIPTION:Join our men’s group for an in-depth look at and analysis of the Bible every Monday evening at 6:30pm.
URL:https://trinityarcata.com/event/mens-bible-study/2026-05-04/
LOCATION:Trinity Church\, 2450 Alliance Rd.\, Arcata\, CA\, 95521\, United States
CATEGORIES:Featured
ATTACH;FMTTYPE=image/jpeg:https://trinityarcata.com/wp-content/uploads/2025/07/mens-bible-study-at-Trinity-church.jpg
ORGANIZER;CN="Trinity Church":MAILTO:info@trinityarcata.com
END:VEVENT
BEGIN:VEVENT
DTSTART;TZID=America/Chicago:20260507T150000
DTEND;TZID=America/Chicago:20260507T170000
DTSTAMP:20260420T013009
CREATED:20250805T190853Z
LAST-MODIFIED:20260402T141825Z
UID:10001113-1778166000-1778173200@trinityarcata.com
SUMMARY:Food Pantry
DESCRIPTION:Our food pantry is open to our church family and the community at large every Thursday from 3pm until 5pm. Stop by to shop or to drop off food items that you can donate.
URL:https://trinityarcata.com/event/food-pantry-4/2026-05-07/
LOCATION:Trinity Church\, 2450 Alliance Rd.\, Arcata\, CA\, 95521\, United States
CATEGORIES:Featured
ATTACH;FMTTYPE=image/jpeg:https://trinityarcata.com/wp-content/uploads/2025/07/food-pantry-Trinity-Baptist-Church.jpg
ORGANIZER;CN="Trinity Church":MAILTO:info@trinityarcata.com
END:VEVENT
BEGIN:VEVENT
DTSTART;TZID=America/Chicago:20260510T090000
DTEND;TZID=America/Chicago:20260510T094500
DTSTAMP:20260420T013010
CREATED:20250805T190715Z
LAST-MODIFIED:20250805T211610Z
UID:10000853-1778403600-1778406300@trinityarcata.com
SUMMARY:Sunday Bible Study
DESCRIPTION:Men and women\, singles and couples are invited to join us as we study the Word of God every Sunday morning before our Worship Gathering..
URL:https://trinityarcata.com/event/sunday-bible-study-4/2026-05-10/
LOCATION:CA
CATEGORIES:Featured,Study
ATTACH;FMTTYPE=image/jpeg:https://trinityarcata.com/wp-content/uploads/2025/07/Trinity-Baptist-Church-Sunday-Bible-study.jpg
END:VEVENT
BEGIN:VEVENT
DTSTART;TZID=America/Chicago:20260510T100000
DTEND;TZID=America/Chicago:20260510T110000
DTSTAMP:20260420T013010
CREATED:20250805T190546Z
LAST-MODIFIED:20250805T211544Z
UID:10000593-1778407200-1778410800@trinityarcata.com
SUMMARY:Worship Gathering
DESCRIPTION:Our Praise and Worship Service is held every Sunday and lasts for about an hour. Afterwards we gather together for fellowship and a meal.
URL:https://trinityarcata.com/event/worship-gathering-4/2026-05-10/
LOCATION:Trinity Church\, 2450 Alliance Rd.\, Arcata\, CA\, 95521\, United States
CATEGORIES:Featured
ATTACH;FMTTYPE=image/jpeg:https://trinityarcata.com/wp-content/uploads/2025/07/Trinity-Baptist-Church-in-Arcata-California.jpg
ORGANIZER;CN="Trinity Church":MAILTO:info@trinityarcata.com
END:VEVENT
BEGIN:VEVENT
DTSTART;TZID=America/Chicago:20260511T180000
DTEND;TZID=America/Chicago:20260511T200000
DTSTAMP:20260420T013010
CREATED:20250805T191524Z
LAST-MODIFIED:20250805T211505Z
UID:10000333-1778522400-1778529600@trinityarcata.com
SUMMARY:Women's Craft Night
DESCRIPTION:Ladies come explore the art of crocheting\, embroidery\, and knitting! All ages welcome! We are also starting the preparation for Operation Christmas Child! Join us in preparing for this amazing ministry!
URL:https://trinityarcata.com/event/womens-craft-night-3/2026-05-11/
LOCATION:Trinity Church\, 2450 Alliance Rd.\, Arcata\, CA\, 95521\, United States
CATEGORIES:Crafts,Featured
ATTACH;FMTTYPE=image/jpeg:https://trinityarcata.com/wp-content/uploads/2025/07/womens-craft-night-at-Trinity-Church.jpg
ORGANIZER;CN="Trinity Church":MAILTO:info@trinityarcata.com
END:VEVENT
BEGIN:VEVENT
DTSTART;TZID=America/Chicago:20260511T190000
DTEND;TZID=America/Chicago:20260511T203000
DTSTAMP:20260420T013010
CREATED:20250805T191617Z
LAST-MODIFIED:20250805T211304Z
UID:10000073-1778526000-1778531400@trinityarcata.com
SUMMARY:Men's Bible Study
DESCRIPTION:Join our men’s group for an in-depth look at and analysis of the Bible every Monday evening at 6:30pm.
URL:https://trinityarcata.com/event/mens-bible-study/2026-05-11/
LOCATION:Trinity Church\, 2450 Alliance Rd.\, Arcata\, CA\, 95521\, United States
CATEGORIES:Featured
ATTACH;FMTTYPE=image/jpeg:https://trinityarcata.com/wp-content/uploads/2025/07/mens-bible-study-at-Trinity-church.jpg
ORGANIZER;CN="Trinity Church":MAILTO:info@trinityarcata.com
END:VEVENT
BEGIN:VEVENT
DTSTART;TZID=America/Chicago:20260514T150000
DTEND;TZID=America/Chicago:20260514T170000
DTSTAMP:20260420T013010
CREATED:20250805T190853Z
LAST-MODIFIED:20260402T141825Z
UID:10001114-1778770800-1778778000@trinityarcata.com
SUMMARY:Food Pantry
DESCRIPTION:Our food pantry is open to our church family and the community at large every Thursday from 3pm until 5pm. Stop by to shop or to drop off food items that you can donate.
URL:https://trinityarcata.com/event/food-pantry-4/2026-05-14/
LOCATION:Trinity Church\, 2450 Alliance Rd.\, Arcata\, CA\, 95521\, United States
CATEGORIES:Featured
ATTACH;FMTTYPE=image/jpeg:https://trinityarcata.com/wp-content/uploads/2025/07/food-pantry-Trinity-Baptist-Church.jpg
ORGANIZER;CN="Trinity Church":MAILTO:info@trinityarcata.com
END:VEVENT
BEGIN:VEVENT
DTSTART;TZID=America/Chicago:20260517T090000
DTEND;TZID=America/Chicago:20260517T094500
DTSTAMP:20260420T013010
CREATED:20250805T190715Z
LAST-MODIFIED:20250805T211610Z
UID:10000854-1779008400-1779011100@trinityarcata.com
SUMMARY:Sunday Bible Study
DESCRIPTION:Men and women\, singles and couples are invited to join us as we study the Word of God every Sunday morning before our Worship Gathering..
URL:https://trinityarcata.com/event/sunday-bible-study-4/2026-05-17/
LOCATION:CA
CATEGORIES:Featured,Study
ATTACH;FMTTYPE=image/jpeg:https://trinityarcata.com/wp-content/uploads/2025/07/Trinity-Baptist-Church-Sunday-Bible-study.jpg
END:VEVENT
BEGIN:VEVENT
DTSTART;TZID=America/Chicago:20260517T100000
DTEND;TZID=America/Chicago:20260517T110000
DTSTAMP:20260420T013010
CREATED:20250805T190546Z
LAST-MODIFIED:20250805T211544Z
UID:10000594-1779012000-1779015600@trinityarcata.com
SUMMARY:Worship Gathering
DESCRIPTION:Our Praise and Worship Service is held every Sunday and lasts for about an hour. Afterwards we gather together for fellowship and a meal.
URL:https://trinityarcata.com/event/worship-gathering-4/2026-05-17/
LOCATION:Trinity Church\, 2450 Alliance Rd.\, Arcata\, CA\, 95521\, United States
CATEGORIES:Featured
ATTACH;FMTTYPE=image/jpeg:https://trinityarcata.com/wp-content/uploads/2025/07/Trinity-Baptist-Church-in-Arcata-California.jpg
ORGANIZER;CN="Trinity Church":MAILTO:info@trinityarcata.com
END:VEVENT
BEGIN:VEVENT
DTSTART;TZID=America/Chicago:20260518T180000
DTEND;TZID=America/Chicago:20260518T200000
DTSTAMP:20260420T013010
CREATED:20250805T191524Z
LAST-MODIFIED:20250805T211505Z
UID:10000334-1779127200-1779134400@trinityarcata.com
SUMMARY:Women's Craft Night
DESCRIPTION:Ladies come explore the art of crocheting\, embroidery\, and knitting! All ages welcome! We are also starting the preparation for Operation Christmas Child! Join us in preparing for this amazing ministry!
URL:https://trinityarcata.com/event/womens-craft-night-3/2026-05-18/
LOCATION:Trinity Church\, 2450 Alliance Rd.\, Arcata\, CA\, 95521\, United States
CATEGORIES:Crafts,Featured
ATTACH;FMTTYPE=image/jpeg:https://trinityarcata.com/wp-content/uploads/2025/07/womens-craft-night-at-Trinity-Church.jpg
ORGANIZER;CN="Trinity Church":MAILTO:info@trinityarcata.com
END:VEVENT
BEGIN:VEVENT
DTSTART;TZID=America/Chicago:20260518T190000
DTEND;TZID=America/Chicago:20260518T203000
DTSTAMP:20260420T013010
CREATED:20250805T191617Z
LAST-MODIFIED:20250805T211304Z
UID:10000074-1779130800-1779136200@trinityarcata.com
SUMMARY:Men's Bible Study
DESCRIPTION:Join our men’s group for an in-depth look at and analysis of the Bible every Monday evening at 6:30pm.
URL:https://trinityarcata.com/event/mens-bible-study/2026-05-18/
LOCATION:Trinity Church\, 2450 Alliance Rd.\, Arcata\, CA\, 95521\, United States
CATEGORIES:Featured
ATTACH;FMTTYPE=image/jpeg:https://trinityarcata.com/wp-content/uploads/2025/07/mens-bible-study-at-Trinity-church.jpg
ORGANIZER;CN="Trinity Church":MAILTO:info@trinityarcata.com
END:VEVENT
BEGIN:VEVENT
DTSTART;TZID=America/Chicago:20260521T150000
DTEND;TZID=America/Chicago:20260521T170000
DTSTAMP:20260420T013010
CREATED:20250805T190853Z
LAST-MODIFIED:20260402T141825Z
UID:10001115-1779375600-1779382800@trinityarcata.com
SUMMARY:Food Pantry
DESCRIPTION:Our food pantry is open to our church family and the community at large every Thursday from 3pm until 5pm. Stop by to shop or to drop off food items that you can donate.
URL:https://trinityarcata.com/event/food-pantry-4/2026-05-21/
LOCATION:Trinity Church\, 2450 Alliance Rd.\, Arcata\, CA\, 95521\, United States
CATEGORIES:Featured
ATTACH;FMTTYPE=image/jpeg:https://trinityarcata.com/wp-content/uploads/2025/07/food-pantry-Trinity-Baptist-Church.jpg
ORGANIZER;CN="Trinity Church":MAILTO:info@trinityarcata.com
END:VEVENT
BEGIN:VEVENT
DTSTART;TZID=America/Chicago:20260524T090000
DTEND;TZID=America/Chicago:20260524T094500
DTSTAMP:20260420T013010
CREATED:20250805T190715Z
LAST-MODIFIED:20250805T211610Z
UID:10000855-1779613200-1779615900@trinityarcata.com
SUMMARY:Sunday Bible Study
DESCRIPTION:Men and women\, singles and couples are invited to join us as we study the Word of God every Sunday morning before our Worship Gathering..
URL:https://trinityarcata.com/event/sunday-bible-study-4/2026-05-24/
LOCATION:CA
CATEGORIES:Featured,Study
ATTACH;FMTTYPE=image/jpeg:https://trinityarcata.com/wp-content/uploads/2025/07/Trinity-Baptist-Church-Sunday-Bible-study.jpg
END:VEVENT
BEGIN:VEVENT
DTSTART;TZID=America/Chicago:20260524T100000
DTEND;TZID=America/Chicago:20260524T110000
DTSTAMP:20260420T013010
CREATED:20250805T190546Z
LAST-MODIFIED:20250805T211544Z
UID:10000595-1779616800-1779620400@trinityarcata.com
SUMMARY:Worship Gathering
DESCRIPTION:Our Praise and Worship Service is held every Sunday and lasts for about an hour. Afterwards we gather together for fellowship and a meal.
URL:https://trinityarcata.com/event/worship-gathering-4/2026-05-24/
LOCATION:Trinity Church\, 2450 Alliance Rd.\, Arcata\, CA\, 95521\, United States
CATEGORIES:Featured
ATTACH;FMTTYPE=image/jpeg:https://trinityarcata.com/wp-content/uploads/2025/07/Trinity-Baptist-Church-in-Arcata-California.jpg
ORGANIZER;CN="Trinity Church":MAILTO:info@trinityarcata.com
END:VEVENT
BEGIN:VEVENT
DTSTART;TZID=America/Chicago:20260525T180000
DTEND;TZID=America/Chicago:20260525T200000
DTSTAMP:20260420T013010
CREATED:20250805T191524Z
LAST-MODIFIED:20250805T211505Z
UID:10000335-1779732000-1779739200@trinityarcata.com
SUMMARY:Women's Craft Night
DESCRIPTION:Ladies come explore the art of crocheting\, embroidery\, and knitting! All ages welcome! We are also starting the preparation for Operation Christmas Child! Join us in preparing for this amazing ministry!
URL:https://trinityarcata.com/event/womens-craft-night-3/2026-05-25/
LOCATION:Trinity Church\, 2450 Alliance Rd.\, Arcata\, CA\, 95521\, United States
CATEGORIES:Crafts,Featured
ATTACH;FMTTYPE=image/jpeg:https://trinityarcata.com/wp-content/uploads/2025/07/womens-craft-night-at-Trinity-Church.jpg
ORGANIZER;CN="Trinity Church":MAILTO:info@trinityarcata.com
END:VEVENT
BEGIN:VEVENT
DTSTART;TZID=America/Chicago:20260525T190000
DTEND;TZID=America/Chicago:20260525T203000
DTSTAMP:20260420T013010
CREATED:20250805T191617Z
LAST-MODIFIED:20250805T211304Z
UID:10000075-1779735600-1779741000@trinityarcata.com
SUMMARY:Men's Bible Study
DESCRIPTION:Join our men’s group for an in-depth look at and analysis of the Bible every Monday evening at 6:30pm.
URL:https://trinityarcata.com/event/mens-bible-study/2026-05-25/
LOCATION:Trinity Church\, 2450 Alliance Rd.\, Arcata\, CA\, 95521\, United States
CATEGORIES:Featured
ATTACH;FMTTYPE=image/jpeg:https://trinityarcata.com/wp-content/uploads/2025/07/mens-bible-study-at-Trinity-church.jpg
ORGANIZER;CN="Trinity Church":MAILTO:info@trinityarcata.com
END:VEVENT
BEGIN:VEVENT
DTSTART;TZID=America/Chicago:20260528T150000
DTEND;TZID=America/Chicago:20260528T170000
DTSTAMP:20260420T013010
CREATED:20250805T190853Z
LAST-MODIFIED:20260402T141825Z
UID:10001116-1779980400-1779987600@trinityarcata.com
SUMMARY:Food Pantry
DESCRIPTION:Our food pantry is open to our church family and the community at large every Thursday from 3pm until 5pm. Stop by to shop or to drop off food items that you can donate.
URL:https://trinityarcata.com/event/food-pantry-4/2026-05-28/
LOCATION:Trinity Church\, 2450 Alliance Rd.\, Arcata\, CA\, 95521\, United States
CATEGORIES:Featured
ATTACH;FMTTYPE=image/jpeg:https://trinityarcata.com/wp-content/uploads/2025/07/food-pantry-Trinity-Baptist-Church.jpg
ORGANIZER;CN="Trinity Church":MAILTO:info@trinityarcata.com
END:VEVENT
BEGIN:VEVENT
DTSTART;TZID=America/Chicago:20260531T090000
DTEND;TZID=America/Chicago:20260531T094500
DTSTAMP:20260420T013010
CREATED:20250805T190715Z
LAST-MODIFIED:20250805T211610Z
UID:10000856-1780218000-1780220700@trinityarcata.com
SUMMARY:Sunday Bible Study
DESCRIPTION:Men and women\, singles and couples are invited to join us as we study the Word of God every Sunday morning before our Worship Gathering..
URL:https://trinityarcata.com/event/sunday-bible-study-4/2026-05-31/
LOCATION:CA
CATEGORIES:Featured,Study
ATTACH;FMTTYPE=image/jpeg:https://trinityarcata.com/wp-content/uploads/2025/07/Trinity-Baptist-Church-Sunday-Bible-study.jpg
END:VEVENT
BEGIN:VEVENT
DTSTART;TZID=America/Chicago:20260531T100000
DTEND;TZID=America/Chicago:20260531T110000
DTSTAMP:20260420T013010
CREATED:20250805T190546Z
LAST-MODIFIED:20250805T211544Z
UID:10000596-1780221600-1780225200@trinityarcata.com
SUMMARY:Worship Gathering
DESCRIPTION:Our Praise and Worship Service is held every Sunday and lasts for about an hour. Afterwards we gather together for fellowship and a meal.
URL:https://trinityarcata.com/event/worship-gathering-4/2026-05-31/
LOCATION:Trinity Church\, 2450 Alliance Rd.\, Arcata\, CA\, 95521\, United States
CATEGORIES:Featured
ATTACH;FMTTYPE=image/jpeg:https://trinityarcata.com/wp-content/uploads/2025/07/Trinity-Baptist-Church-in-Arcata-California.jpg
ORGANIZER;CN="Trinity Church":MAILTO:info@trinityarcata.com
END:VEVENT
BEGIN:VEVENT
DTSTART;TZID=America/Chicago:20260601T180000
DTEND;TZID=America/Chicago:20260601T200000
DTSTAMP:20260420T013010
CREATED:20250805T191524Z
LAST-MODIFIED:20250805T211505Z
UID:10000336-1780336800-1780344000@trinityarcata.com
SUMMARY:Women's Craft Night
DESCRIPTION:Ladies come explore the art of crocheting\, embroidery\, and knitting! All ages welcome! We are also starting the preparation for Operation Christmas Child! Join us in preparing for this amazing ministry!
URL:https://trinityarcata.com/event/womens-craft-night-3/2026-06-01/
LOCATION:Trinity Church\, 2450 Alliance Rd.\, Arcata\, CA\, 95521\, United States
CATEGORIES:Crafts,Featured
ATTACH;FMTTYPE=image/jpeg:https://trinityarcata.com/wp-content/uploads/2025/07/womens-craft-night-at-Trinity-Church.jpg
ORGANIZER;CN="Trinity Church":MAILTO:info@trinityarcata.com
END:VEVENT
BEGIN:VEVENT
DTSTART;TZID=America/Chicago:20260601T190000
DTEND;TZID=America/Chicago:20260601T203000
DTSTAMP:20260420T013010
CREATED:20250805T191617Z
LAST-MODIFIED:20250805T211304Z
UID:10000076-1780340400-1780345800@trinityarcata.com
SUMMARY:Men's Bible Study
DESCRIPTION:Join our men’s group for an in-depth look at and analysis of the Bible every Monday evening at 6:30pm.
URL:https://trinityarcata.com/event/mens-bible-study/2026-06-01/
LOCATION:Trinity Church\, 2450 Alliance Rd.\, Arcata\, CA\, 95521\, United States
CATEGORIES:Featured
ATTACH;FMTTYPE=image/jpeg:https://trinityarcata.com/wp-content/uploads/2025/07/mens-bible-study-at-Trinity-church.jpg
ORGANIZER;CN="Trinity Church":MAILTO:info@trinityarcata.com
END:VEVENT
BEGIN:VEVENT
DTSTART;TZID=America/Chicago:20260604T150000
DTEND;TZID=America/Chicago:20260604T170000
DTSTAMP:20260420T013010
CREATED:20250805T190853Z
LAST-MODIFIED:20260402T141825Z
UID:10001117-1780585200-1780592400@trinityarcata.com
SUMMARY:Food Pantry
DESCRIPTION:Our food pantry is open to our church family and the community at large every Thursday from 3pm until 5pm. Stop by to shop or to drop off food items that you can donate.
URL:https://trinityarcata.com/event/food-pantry-4/2026-06-04/
LOCATION:Trinity Church\, 2450 Alliance Rd.\, Arcata\, CA\, 95521\, United States
CATEGORIES:Featured
ATTACH;FMTTYPE=image/jpeg:https://trinityarcata.com/wp-content/uploads/2025/07/food-pantry-Trinity-Baptist-Church.jpg
ORGANIZER;CN="Trinity Church":MAILTO:info@trinityarcata.com
END:VEVENT
BEGIN:VEVENT
DTSTART;TZID=America/Chicago:20260607T090000
DTEND;TZID=America/Chicago:20260607T094500
DTSTAMP:20260420T013010
CREATED:20250805T190715Z
LAST-MODIFIED:20250805T211610Z
UID:10000857-1780822800-1780825500@trinityarcata.com
SUMMARY:Sunday Bible Study
DESCRIPTION:Men and women\, singles and couples are invited to join us as we study the Word of God every Sunday morning before our Worship Gathering..
URL:https://trinityarcata.com/event/sunday-bible-study-4/2026-06-07/
LOCATION:CA
CATEGORIES:Featured,Study
ATTACH;FMTTYPE=image/jpeg:https://trinityarcata.com/wp-content/uploads/2025/07/Trinity-Baptist-Church-Sunday-Bible-study.jpg
END:VEVENT
BEGIN:VEVENT
DTSTART;TZID=America/Chicago:20260607T100000
DTEND;TZID=America/Chicago:20260607T110000
DTSTAMP:20260420T013010
CREATED:20250805T190546Z
LAST-MODIFIED:20250805T211544Z
UID:10000597-1780826400-1780830000@trinityarcata.com
SUMMARY:Worship Gathering
DESCRIPTION:Our Praise and Worship Service is held every Sunday and lasts for about an hour. Afterwards we gather together for fellowship and a meal.
URL:https://trinityarcata.com/event/worship-gathering-4/2026-06-07/
LOCATION:Trinity Church\, 2450 Alliance Rd.\, Arcata\, CA\, 95521\, United States
CATEGORIES:Featured
ATTACH;FMTTYPE=image/jpeg:https://trinityarcata.com/wp-content/uploads/2025/07/Trinity-Baptist-Church-in-Arcata-California.jpg
ORGANIZER;CN="Trinity Church":MAILTO:info@trinityarcata.com
END:VEVENT
END:VCALENDAR