BEGIN:VCALENDAR
VERSION:2.0
PRODID:-//Trinity Baptist Church - ECPv6.15.12.2//NONSGML v1.0//EN
CALSCALE:GREGORIAN
METHOD:PUBLISH
X-WR-CALNAME:Trinity Baptist Church
X-ORIGINAL-URL:https://trinityarcata.com
X-WR-CALDESC:Events for Trinity Baptist Church
REFRESH-INTERVAL;VALUE=DURATION:PT1H
X-Robots-Tag:noindex
X-PUBLISHED-TTL:PT1H
BEGIN:VTIMEZONE
TZID:America/Chicago
BEGIN:DAYLIGHT
TZOFFSETFROM:-0600
TZOFFSETTO:-0500
TZNAME:CDT
DTSTART:20250309T080000
END:DAYLIGHT
BEGIN:STANDARD
TZOFFSETFROM:-0500
TZOFFSETTO:-0600
TZNAME:CST
DTSTART:20251102T070000
END:STANDARD
BEGIN:DAYLIGHT
TZOFFSETFROM:-0600
TZOFFSETTO:-0500
TZNAME:CDT
DTSTART:20260308T080000
END:DAYLIGHT
BEGIN:STANDARD
TZOFFSETFROM:-0500
TZOFFSETTO:-0600
TZNAME:CST
DTSTART:20261101T070000
END:STANDARD
BEGIN:DAYLIGHT
TZOFFSETFROM:-0600
TZOFFSETTO:-0500
TZNAME:CDT
DTSTART:20270314T080000
END:DAYLIGHT
BEGIN:STANDARD
TZOFFSETFROM:-0500
TZOFFSETTO:-0600
TZNAME:CST
DTSTART:20271107T070000
END:STANDARD
BEGIN:DAYLIGHT
TZOFFSETFROM:-0600
TZOFFSETTO:-0500
TZNAME:CDT
DTSTART:20280312T080000
END:DAYLIGHT
BEGIN:STANDARD
TZOFFSETFROM:-0500
TZOFFSETTO:-0600
TZNAME:CST
DTSTART:20281105T070000
END:STANDARD
END:VTIMEZONE
BEGIN:VEVENT
DTSTART;TZID=America/Chicago:20261220T100000
DTEND;TZID=America/Chicago:20261220T110000
DTSTAMP:20260420T121520
CREATED:20250805T190546Z
LAST-MODIFIED:20250805T211544Z
UID:10000625-1797760800-1797764400@trinityarcata.com
SUMMARY:Worship Gathering
DESCRIPTION:Our Praise and Worship Service is held every Sunday and lasts for about an hour. Afterwards we gather together for fellowship and a meal.
URL:https://trinityarcata.com/event/worship-gathering-4/2026-12-20/
LOCATION:Trinity Church\, 2450 Alliance Rd.\, Arcata\, CA\, 95521\, United States
CATEGORIES:Featured
ATTACH;FMTTYPE=image/jpeg:https://trinityarcata.com/wp-content/uploads/2025/07/Trinity-Baptist-Church-in-Arcata-California.jpg
ORGANIZER;CN="Trinity Church":MAILTO:info@trinityarcata.com
END:VEVENT
BEGIN:VEVENT
DTSTART;TZID=America/Chicago:20261221T180000
DTEND;TZID=America/Chicago:20261221T200000
DTSTAMP:20260420T121520
CREATED:20250805T191524Z
LAST-MODIFIED:20250805T211505Z
UID:10000365-1797876000-1797883200@trinityarcata.com
SUMMARY:Women's Craft Night
DESCRIPTION:Ladies come explore the art of crocheting\, embroidery\, and knitting! All ages welcome! We are also starting the preparation for Operation Christmas Child! Join us in preparing for this amazing ministry!
URL:https://trinityarcata.com/event/womens-craft-night-3/2026-12-21/
LOCATION:Trinity Church\, 2450 Alliance Rd.\, Arcata\, CA\, 95521\, United States
CATEGORIES:Crafts,Featured
ATTACH;FMTTYPE=image/jpeg:https://trinityarcata.com/wp-content/uploads/2025/07/womens-craft-night-at-Trinity-Church.jpg
ORGANIZER;CN="Trinity Church":MAILTO:info@trinityarcata.com
END:VEVENT
BEGIN:VEVENT
DTSTART;TZID=America/Chicago:20261221T190000
DTEND;TZID=America/Chicago:20261221T203000
DTSTAMP:20260420T121520
CREATED:20250805T191617Z
LAST-MODIFIED:20250805T211304Z
UID:10000105-1797879600-1797885000@trinityarcata.com
SUMMARY:Men's Bible Study
DESCRIPTION:Join our men’s group for an in-depth look at and analysis of the Bible every Monday evening at 6:30pm.
URL:https://trinityarcata.com/event/mens-bible-study/2026-12-21/
LOCATION:Trinity Church\, 2450 Alliance Rd.\, Arcata\, CA\, 95521\, United States
CATEGORIES:Featured
ATTACH;FMTTYPE=image/jpeg:https://trinityarcata.com/wp-content/uploads/2025/07/mens-bible-study-at-Trinity-church.jpg
ORGANIZER;CN="Trinity Church":MAILTO:info@trinityarcata.com
END:VEVENT
BEGIN:VEVENT
DTSTART;TZID=America/Chicago:20261224T150000
DTEND;TZID=America/Chicago:20261224T170000
DTSTAMP:20260420T121520
CREATED:20250805T190853Z
LAST-MODIFIED:20260402T141825Z
UID:10001146-1798124400-1798131600@trinityarcata.com
SUMMARY:Food Pantry
DESCRIPTION:Our food pantry is open to our church family and the community at large every Thursday from 3pm until 5pm. Stop by to shop or to drop off food items that you can donate.
URL:https://trinityarcata.com/event/food-pantry-4/2026-12-24/
LOCATION:Trinity Church\, 2450 Alliance Rd.\, Arcata\, CA\, 95521\, United States
CATEGORIES:Featured
ATTACH;FMTTYPE=image/jpeg:https://trinityarcata.com/wp-content/uploads/2025/07/food-pantry-Trinity-Baptist-Church.jpg
ORGANIZER;CN="Trinity Church":MAILTO:info@trinityarcata.com
END:VEVENT
BEGIN:VEVENT
DTSTART;TZID=America/Chicago:20261227T090000
DTEND;TZID=America/Chicago:20261227T094500
DTSTAMP:20260420T121520
CREATED:20250805T190715Z
LAST-MODIFIED:20250805T211610Z
UID:10000886-1798362000-1798364700@trinityarcata.com
SUMMARY:Sunday Bible Study
DESCRIPTION:Men and women\, singles and couples are invited to join us as we study the Word of God every Sunday morning before our Worship Gathering..
URL:https://trinityarcata.com/event/sunday-bible-study-4/2026-12-27/
LOCATION:CA
CATEGORIES:Featured,Study
ATTACH;FMTTYPE=image/jpeg:https://trinityarcata.com/wp-content/uploads/2025/07/Trinity-Baptist-Church-Sunday-Bible-study.jpg
END:VEVENT
BEGIN:VEVENT
DTSTART;TZID=America/Chicago:20261227T100000
DTEND;TZID=America/Chicago:20261227T110000
DTSTAMP:20260420T121520
CREATED:20250805T190546Z
LAST-MODIFIED:20250805T211544Z
UID:10000626-1798365600-1798369200@trinityarcata.com
SUMMARY:Worship Gathering
DESCRIPTION:Our Praise and Worship Service is held every Sunday and lasts for about an hour. Afterwards we gather together for fellowship and a meal.
URL:https://trinityarcata.com/event/worship-gathering-4/2026-12-27/
LOCATION:Trinity Church\, 2450 Alliance Rd.\, Arcata\, CA\, 95521\, United States
CATEGORIES:Featured
ATTACH;FMTTYPE=image/jpeg:https://trinityarcata.com/wp-content/uploads/2025/07/Trinity-Baptist-Church-in-Arcata-California.jpg
ORGANIZER;CN="Trinity Church":MAILTO:info@trinityarcata.com
END:VEVENT
BEGIN:VEVENT
DTSTART;TZID=America/Chicago:20261228T180000
DTEND;TZID=America/Chicago:20261228T200000
DTSTAMP:20260420T121520
CREATED:20250805T191524Z
LAST-MODIFIED:20250805T211505Z
UID:10000366-1798480800-1798488000@trinityarcata.com
SUMMARY:Women's Craft Night
DESCRIPTION:Ladies come explore the art of crocheting\, embroidery\, and knitting! All ages welcome! We are also starting the preparation for Operation Christmas Child! Join us in preparing for this amazing ministry!
URL:https://trinityarcata.com/event/womens-craft-night-3/2026-12-28/
LOCATION:Trinity Church\, 2450 Alliance Rd.\, Arcata\, CA\, 95521\, United States
CATEGORIES:Crafts,Featured
ATTACH;FMTTYPE=image/jpeg:https://trinityarcata.com/wp-content/uploads/2025/07/womens-craft-night-at-Trinity-Church.jpg
ORGANIZER;CN="Trinity Church":MAILTO:info@trinityarcata.com
END:VEVENT
BEGIN:VEVENT
DTSTART;TZID=America/Chicago:20261228T190000
DTEND;TZID=America/Chicago:20261228T203000
DTSTAMP:20260420T121520
CREATED:20250805T191617Z
LAST-MODIFIED:20250805T211304Z
UID:10000106-1798484400-1798489800@trinityarcata.com
SUMMARY:Men's Bible Study
DESCRIPTION:Join our men’s group for an in-depth look at and analysis of the Bible every Monday evening at 6:30pm.
URL:https://trinityarcata.com/event/mens-bible-study/2026-12-28/
LOCATION:Trinity Church\, 2450 Alliance Rd.\, Arcata\, CA\, 95521\, United States
CATEGORIES:Featured
ATTACH;FMTTYPE=image/jpeg:https://trinityarcata.com/wp-content/uploads/2025/07/mens-bible-study-at-Trinity-church.jpg
ORGANIZER;CN="Trinity Church":MAILTO:info@trinityarcata.com
END:VEVENT
BEGIN:VEVENT
DTSTART;TZID=America/Chicago:20261231T150000
DTEND;TZID=America/Chicago:20261231T170000
DTSTAMP:20260420T121520
CREATED:20250805T190853Z
LAST-MODIFIED:20260402T141825Z
UID:10001147-1798729200-1798736400@trinityarcata.com
SUMMARY:Food Pantry
DESCRIPTION:Our food pantry is open to our church family and the community at large every Thursday from 3pm until 5pm. Stop by to shop or to drop off food items that you can donate.
URL:https://trinityarcata.com/event/food-pantry-4/2026-12-31/
LOCATION:Trinity Church\, 2450 Alliance Rd.\, Arcata\, CA\, 95521\, United States
CATEGORIES:Featured
ATTACH;FMTTYPE=image/jpeg:https://trinityarcata.com/wp-content/uploads/2025/07/food-pantry-Trinity-Baptist-Church.jpg
ORGANIZER;CN="Trinity Church":MAILTO:info@trinityarcata.com
END:VEVENT
BEGIN:VEVENT
DTSTART;TZID=America/Chicago:20270103T090000
DTEND;TZID=America/Chicago:20270103T094500
DTSTAMP:20260420T121520
CREATED:20250805T190715Z
LAST-MODIFIED:20250805T211610Z
UID:10000887-1798966800-1798969500@trinityarcata.com
SUMMARY:Sunday Bible Study
DESCRIPTION:Men and women\, singles and couples are invited to join us as we study the Word of God every Sunday morning before our Worship Gathering..
URL:https://trinityarcata.com/event/sunday-bible-study-4/2027-01-03/
LOCATION:CA
CATEGORIES:Featured,Study
ATTACH;FMTTYPE=image/jpeg:https://trinityarcata.com/wp-content/uploads/2025/07/Trinity-Baptist-Church-Sunday-Bible-study.jpg
END:VEVENT
BEGIN:VEVENT
DTSTART;TZID=America/Chicago:20270103T100000
DTEND;TZID=America/Chicago:20270103T110000
DTSTAMP:20260420T121520
CREATED:20250805T190546Z
LAST-MODIFIED:20250805T211544Z
UID:10000627-1798970400-1798974000@trinityarcata.com
SUMMARY:Worship Gathering
DESCRIPTION:Our Praise and Worship Service is held every Sunday and lasts for about an hour. Afterwards we gather together for fellowship and a meal.
URL:https://trinityarcata.com/event/worship-gathering-4/2027-01-03/
LOCATION:Trinity Church\, 2450 Alliance Rd.\, Arcata\, CA\, 95521\, United States
CATEGORIES:Featured
ATTACH;FMTTYPE=image/jpeg:https://trinityarcata.com/wp-content/uploads/2025/07/Trinity-Baptist-Church-in-Arcata-California.jpg
ORGANIZER;CN="Trinity Church":MAILTO:info@trinityarcata.com
END:VEVENT
BEGIN:VEVENT
DTSTART;TZID=America/Chicago:20270104T180000
DTEND;TZID=America/Chicago:20270104T200000
DTSTAMP:20260420T121520
CREATED:20250805T191524Z
LAST-MODIFIED:20250805T211505Z
UID:10000367-1799085600-1799092800@trinityarcata.com
SUMMARY:Women's Craft Night
DESCRIPTION:Ladies come explore the art of crocheting\, embroidery\, and knitting! All ages welcome! We are also starting the preparation for Operation Christmas Child! Join us in preparing for this amazing ministry!
URL:https://trinityarcata.com/event/womens-craft-night-3/2027-01-04/
LOCATION:Trinity Church\, 2450 Alliance Rd.\, Arcata\, CA\, 95521\, United States
CATEGORIES:Crafts,Featured
ATTACH;FMTTYPE=image/jpeg:https://trinityarcata.com/wp-content/uploads/2025/07/womens-craft-night-at-Trinity-Church.jpg
ORGANIZER;CN="Trinity Church":MAILTO:info@trinityarcata.com
END:VEVENT
BEGIN:VEVENT
DTSTART;TZID=America/Chicago:20270104T190000
DTEND;TZID=America/Chicago:20270104T203000
DTSTAMP:20260420T121520
CREATED:20250805T191617Z
LAST-MODIFIED:20250805T211304Z
UID:10000107-1799089200-1799094600@trinityarcata.com
SUMMARY:Men's Bible Study
DESCRIPTION:Join our men’s group for an in-depth look at and analysis of the Bible every Monday evening at 6:30pm.
URL:https://trinityarcata.com/event/mens-bible-study/2027-01-04/
LOCATION:Trinity Church\, 2450 Alliance Rd.\, Arcata\, CA\, 95521\, United States
CATEGORIES:Featured
ATTACH;FMTTYPE=image/jpeg:https://trinityarcata.com/wp-content/uploads/2025/07/mens-bible-study-at-Trinity-church.jpg
ORGANIZER;CN="Trinity Church":MAILTO:info@trinityarcata.com
END:VEVENT
BEGIN:VEVENT
DTSTART;TZID=America/Chicago:20270107T150000
DTEND;TZID=America/Chicago:20270107T170000
DTSTAMP:20260420T121520
CREATED:20250805T190853Z
LAST-MODIFIED:20260402T141825Z
UID:10001148-1799334000-1799341200@trinityarcata.com
SUMMARY:Food Pantry
DESCRIPTION:Our food pantry is open to our church family and the community at large every Thursday from 3pm until 5pm. Stop by to shop or to drop off food items that you can donate.
URL:https://trinityarcata.com/event/food-pantry-4/2027-01-07/
LOCATION:Trinity Church\, 2450 Alliance Rd.\, Arcata\, CA\, 95521\, United States
CATEGORIES:Featured
ATTACH;FMTTYPE=image/jpeg:https://trinityarcata.com/wp-content/uploads/2025/07/food-pantry-Trinity-Baptist-Church.jpg
ORGANIZER;CN="Trinity Church":MAILTO:info@trinityarcata.com
END:VEVENT
BEGIN:VEVENT
DTSTART;TZID=America/Chicago:20270110T090000
DTEND;TZID=America/Chicago:20270110T094500
DTSTAMP:20260420T121520
CREATED:20250805T190715Z
LAST-MODIFIED:20250805T211610Z
UID:10000888-1799571600-1799574300@trinityarcata.com
SUMMARY:Sunday Bible Study
DESCRIPTION:Men and women\, singles and couples are invited to join us as we study the Word of God every Sunday morning before our Worship Gathering..
URL:https://trinityarcata.com/event/sunday-bible-study-4/2027-01-10/
LOCATION:CA
CATEGORIES:Featured,Study
ATTACH;FMTTYPE=image/jpeg:https://trinityarcata.com/wp-content/uploads/2025/07/Trinity-Baptist-Church-Sunday-Bible-study.jpg
END:VEVENT
BEGIN:VEVENT
DTSTART;TZID=America/Chicago:20270110T100000
DTEND;TZID=America/Chicago:20270110T110000
DTSTAMP:20260420T121520
CREATED:20250805T190546Z
LAST-MODIFIED:20250805T211544Z
UID:10000628-1799575200-1799578800@trinityarcata.com
SUMMARY:Worship Gathering
DESCRIPTION:Our Praise and Worship Service is held every Sunday and lasts for about an hour. Afterwards we gather together for fellowship and a meal.
URL:https://trinityarcata.com/event/worship-gathering-4/2027-01-10/
LOCATION:Trinity Church\, 2450 Alliance Rd.\, Arcata\, CA\, 95521\, United States
CATEGORIES:Featured
ATTACH;FMTTYPE=image/jpeg:https://trinityarcata.com/wp-content/uploads/2025/07/Trinity-Baptist-Church-in-Arcata-California.jpg
ORGANIZER;CN="Trinity Church":MAILTO:info@trinityarcata.com
END:VEVENT
BEGIN:VEVENT
DTSTART;TZID=America/Chicago:20270111T180000
DTEND;TZID=America/Chicago:20270111T200000
DTSTAMP:20260420T121520
CREATED:20250805T191524Z
LAST-MODIFIED:20250805T211505Z
UID:10000368-1799690400-1799697600@trinityarcata.com
SUMMARY:Women's Craft Night
DESCRIPTION:Ladies come explore the art of crocheting\, embroidery\, and knitting! All ages welcome! We are also starting the preparation for Operation Christmas Child! Join us in preparing for this amazing ministry!
URL:https://trinityarcata.com/event/womens-craft-night-3/2027-01-11/
LOCATION:Trinity Church\, 2450 Alliance Rd.\, Arcata\, CA\, 95521\, United States
CATEGORIES:Crafts,Featured
ATTACH;FMTTYPE=image/jpeg:https://trinityarcata.com/wp-content/uploads/2025/07/womens-craft-night-at-Trinity-Church.jpg
ORGANIZER;CN="Trinity Church":MAILTO:info@trinityarcata.com
END:VEVENT
BEGIN:VEVENT
DTSTART;TZID=America/Chicago:20270111T190000
DTEND;TZID=America/Chicago:20270111T203000
DTSTAMP:20260420T121520
CREATED:20250805T191617Z
LAST-MODIFIED:20250805T211304Z
UID:10000108-1799694000-1799699400@trinityarcata.com
SUMMARY:Men's Bible Study
DESCRIPTION:Join our men’s group for an in-depth look at and analysis of the Bible every Monday evening at 6:30pm.
URL:https://trinityarcata.com/event/mens-bible-study/2027-01-11/
LOCATION:Trinity Church\, 2450 Alliance Rd.\, Arcata\, CA\, 95521\, United States
CATEGORIES:Featured
ATTACH;FMTTYPE=image/jpeg:https://trinityarcata.com/wp-content/uploads/2025/07/mens-bible-study-at-Trinity-church.jpg
ORGANIZER;CN="Trinity Church":MAILTO:info@trinityarcata.com
END:VEVENT
BEGIN:VEVENT
DTSTART;TZID=America/Chicago:20270114T150000
DTEND;TZID=America/Chicago:20270114T170000
DTSTAMP:20260420T121520
CREATED:20250805T190853Z
LAST-MODIFIED:20260402T141825Z
UID:10001149-1799938800-1799946000@trinityarcata.com
SUMMARY:Food Pantry
DESCRIPTION:Our food pantry is open to our church family and the community at large every Thursday from 3pm until 5pm. Stop by to shop or to drop off food items that you can donate.
URL:https://trinityarcata.com/event/food-pantry-4/2027-01-14/
LOCATION:Trinity Church\, 2450 Alliance Rd.\, Arcata\, CA\, 95521\, United States
CATEGORIES:Featured
ATTACH;FMTTYPE=image/jpeg:https://trinityarcata.com/wp-content/uploads/2025/07/food-pantry-Trinity-Baptist-Church.jpg
ORGANIZER;CN="Trinity Church":MAILTO:info@trinityarcata.com
END:VEVENT
BEGIN:VEVENT
DTSTART;TZID=America/Chicago:20270117T090000
DTEND;TZID=America/Chicago:20270117T094500
DTSTAMP:20260420T121520
CREATED:20250805T190715Z
LAST-MODIFIED:20250805T211610Z
UID:10000889-1800176400-1800179100@trinityarcata.com
SUMMARY:Sunday Bible Study
DESCRIPTION:Men and women\, singles and couples are invited to join us as we study the Word of God every Sunday morning before our Worship Gathering..
URL:https://trinityarcata.com/event/sunday-bible-study-4/2027-01-17/
LOCATION:CA
CATEGORIES:Featured,Study
ATTACH;FMTTYPE=image/jpeg:https://trinityarcata.com/wp-content/uploads/2025/07/Trinity-Baptist-Church-Sunday-Bible-study.jpg
END:VEVENT
BEGIN:VEVENT
DTSTART;TZID=America/Chicago:20270117T100000
DTEND;TZID=America/Chicago:20270117T110000
DTSTAMP:20260420T121520
CREATED:20250805T190546Z
LAST-MODIFIED:20250805T211544Z
UID:10000629-1800180000-1800183600@trinityarcata.com
SUMMARY:Worship Gathering
DESCRIPTION:Our Praise and Worship Service is held every Sunday and lasts for about an hour. Afterwards we gather together for fellowship and a meal.
URL:https://trinityarcata.com/event/worship-gathering-4/2027-01-17/
LOCATION:Trinity Church\, 2450 Alliance Rd.\, Arcata\, CA\, 95521\, United States
CATEGORIES:Featured
ATTACH;FMTTYPE=image/jpeg:https://trinityarcata.com/wp-content/uploads/2025/07/Trinity-Baptist-Church-in-Arcata-California.jpg
ORGANIZER;CN="Trinity Church":MAILTO:info@trinityarcata.com
END:VEVENT
BEGIN:VEVENT
DTSTART;TZID=America/Chicago:20270118T180000
DTEND;TZID=America/Chicago:20270118T200000
DTSTAMP:20260420T121520
CREATED:20250805T191524Z
LAST-MODIFIED:20250805T211505Z
UID:10000369-1800295200-1800302400@trinityarcata.com
SUMMARY:Women's Craft Night
DESCRIPTION:Ladies come explore the art of crocheting\, embroidery\, and knitting! All ages welcome! We are also starting the preparation for Operation Christmas Child! Join us in preparing for this amazing ministry!
URL:https://trinityarcata.com/event/womens-craft-night-3/2027-01-18/
LOCATION:Trinity Church\, 2450 Alliance Rd.\, Arcata\, CA\, 95521\, United States
CATEGORIES:Crafts,Featured
ATTACH;FMTTYPE=image/jpeg:https://trinityarcata.com/wp-content/uploads/2025/07/womens-craft-night-at-Trinity-Church.jpg
ORGANIZER;CN="Trinity Church":MAILTO:info@trinityarcata.com
END:VEVENT
BEGIN:VEVENT
DTSTART;TZID=America/Chicago:20270118T190000
DTEND;TZID=America/Chicago:20270118T203000
DTSTAMP:20260420T121520
CREATED:20250805T191617Z
LAST-MODIFIED:20250805T211304Z
UID:10000109-1800298800-1800304200@trinityarcata.com
SUMMARY:Men's Bible Study
DESCRIPTION:Join our men’s group for an in-depth look at and analysis of the Bible every Monday evening at 6:30pm.
URL:https://trinityarcata.com/event/mens-bible-study/2027-01-18/
LOCATION:Trinity Church\, 2450 Alliance Rd.\, Arcata\, CA\, 95521\, United States
CATEGORIES:Featured
ATTACH;FMTTYPE=image/jpeg:https://trinityarcata.com/wp-content/uploads/2025/07/mens-bible-study-at-Trinity-church.jpg
ORGANIZER;CN="Trinity Church":MAILTO:info@trinityarcata.com
END:VEVENT
BEGIN:VEVENT
DTSTART;TZID=America/Chicago:20270121T150000
DTEND;TZID=America/Chicago:20270121T170000
DTSTAMP:20260420T121520
CREATED:20250805T190853Z
LAST-MODIFIED:20260402T141825Z
UID:10001150-1800543600-1800550800@trinityarcata.com
SUMMARY:Food Pantry
DESCRIPTION:Our food pantry is open to our church family and the community at large every Thursday from 3pm until 5pm. Stop by to shop or to drop off food items that you can donate.
URL:https://trinityarcata.com/event/food-pantry-4/2027-01-21/
LOCATION:Trinity Church\, 2450 Alliance Rd.\, Arcata\, CA\, 95521\, United States
CATEGORIES:Featured
ATTACH;FMTTYPE=image/jpeg:https://trinityarcata.com/wp-content/uploads/2025/07/food-pantry-Trinity-Baptist-Church.jpg
ORGANIZER;CN="Trinity Church":MAILTO:info@trinityarcata.com
END:VEVENT
BEGIN:VEVENT
DTSTART;TZID=America/Chicago:20270124T090000
DTEND;TZID=America/Chicago:20270124T094500
DTSTAMP:20260420T121520
CREATED:20250805T190715Z
LAST-MODIFIED:20250805T211610Z
UID:10000890-1800781200-1800783900@trinityarcata.com
SUMMARY:Sunday Bible Study
DESCRIPTION:Men and women\, singles and couples are invited to join us as we study the Word of God every Sunday morning before our Worship Gathering..
URL:https://trinityarcata.com/event/sunday-bible-study-4/2027-01-24/
LOCATION:CA
CATEGORIES:Featured,Study
ATTACH;FMTTYPE=image/jpeg:https://trinityarcata.com/wp-content/uploads/2025/07/Trinity-Baptist-Church-Sunday-Bible-study.jpg
END:VEVENT
BEGIN:VEVENT
DTSTART;TZID=America/Chicago:20270124T100000
DTEND;TZID=America/Chicago:20270124T110000
DTSTAMP:20260420T121520
CREATED:20250805T190546Z
LAST-MODIFIED:20250805T211544Z
UID:10000630-1800784800-1800788400@trinityarcata.com
SUMMARY:Worship Gathering
DESCRIPTION:Our Praise and Worship Service is held every Sunday and lasts for about an hour. Afterwards we gather together for fellowship and a meal.
URL:https://trinityarcata.com/event/worship-gathering-4/2027-01-24/
LOCATION:Trinity Church\, 2450 Alliance Rd.\, Arcata\, CA\, 95521\, United States
CATEGORIES:Featured
ATTACH;FMTTYPE=image/jpeg:https://trinityarcata.com/wp-content/uploads/2025/07/Trinity-Baptist-Church-in-Arcata-California.jpg
ORGANIZER;CN="Trinity Church":MAILTO:info@trinityarcata.com
END:VEVENT
BEGIN:VEVENT
DTSTART;TZID=America/Chicago:20270125T180000
DTEND;TZID=America/Chicago:20270125T200000
DTSTAMP:20260420T121520
CREATED:20250805T191524Z
LAST-MODIFIED:20250805T211505Z
UID:10000370-1800900000-1800907200@trinityarcata.com
SUMMARY:Women's Craft Night
DESCRIPTION:Ladies come explore the art of crocheting\, embroidery\, and knitting! All ages welcome! We are also starting the preparation for Operation Christmas Child! Join us in preparing for this amazing ministry!
URL:https://trinityarcata.com/event/womens-craft-night-3/2027-01-25/
LOCATION:Trinity Church\, 2450 Alliance Rd.\, Arcata\, CA\, 95521\, United States
CATEGORIES:Crafts,Featured
ATTACH;FMTTYPE=image/jpeg:https://trinityarcata.com/wp-content/uploads/2025/07/womens-craft-night-at-Trinity-Church.jpg
ORGANIZER;CN="Trinity Church":MAILTO:info@trinityarcata.com
END:VEVENT
BEGIN:VEVENT
DTSTART;TZID=America/Chicago:20270125T190000
DTEND;TZID=America/Chicago:20270125T203000
DTSTAMP:20260420T121520
CREATED:20250805T191617Z
LAST-MODIFIED:20250805T211304Z
UID:10000110-1800903600-1800909000@trinityarcata.com
SUMMARY:Men's Bible Study
DESCRIPTION:Join our men’s group for an in-depth look at and analysis of the Bible every Monday evening at 6:30pm.
URL:https://trinityarcata.com/event/mens-bible-study/2027-01-25/
LOCATION:Trinity Church\, 2450 Alliance Rd.\, Arcata\, CA\, 95521\, United States
CATEGORIES:Featured
ATTACH;FMTTYPE=image/jpeg:https://trinityarcata.com/wp-content/uploads/2025/07/mens-bible-study-at-Trinity-church.jpg
ORGANIZER;CN="Trinity Church":MAILTO:info@trinityarcata.com
END:VEVENT
BEGIN:VEVENT
DTSTART;TZID=America/Chicago:20270128T150000
DTEND;TZID=America/Chicago:20270128T170000
DTSTAMP:20260420T121520
CREATED:20250805T190853Z
LAST-MODIFIED:20260402T141825Z
UID:10001151-1801148400-1801155600@trinityarcata.com
SUMMARY:Food Pantry
DESCRIPTION:Our food pantry is open to our church family and the community at large every Thursday from 3pm until 5pm. Stop by to shop or to drop off food items that you can donate.
URL:https://trinityarcata.com/event/food-pantry-4/2027-01-28/
LOCATION:Trinity Church\, 2450 Alliance Rd.\, Arcata\, CA\, 95521\, United States
CATEGORIES:Featured
ATTACH;FMTTYPE=image/jpeg:https://trinityarcata.com/wp-content/uploads/2025/07/food-pantry-Trinity-Baptist-Church.jpg
ORGANIZER;CN="Trinity Church":MAILTO:info@trinityarcata.com
END:VEVENT
BEGIN:VEVENT
DTSTART;TZID=America/Chicago:20270131T090000
DTEND;TZID=America/Chicago:20270131T094500
DTSTAMP:20260420T121520
CREATED:20250805T190715Z
LAST-MODIFIED:20250805T211610Z
UID:10000891-1801386000-1801388700@trinityarcata.com
SUMMARY:Sunday Bible Study
DESCRIPTION:Men and women\, singles and couples are invited to join us as we study the Word of God every Sunday morning before our Worship Gathering..
URL:https://trinityarcata.com/event/sunday-bible-study-4/2027-01-31/
LOCATION:CA
CATEGORIES:Featured,Study
ATTACH;FMTTYPE=image/jpeg:https://trinityarcata.com/wp-content/uploads/2025/07/Trinity-Baptist-Church-Sunday-Bible-study.jpg
END:VEVENT
END:VCALENDAR