BEGIN:VCALENDAR
VERSION:2.0
PRODID:-//Trinity Baptist Church - ECPv6.15.12.2//NONSGML v1.0//EN
CALSCALE:GREGORIAN
METHOD:PUBLISH
X-WR-CALNAME:Trinity Baptist Church
X-ORIGINAL-URL:https://trinityarcata.com
X-WR-CALDESC:Events for Trinity Baptist Church
REFRESH-INTERVAL;VALUE=DURATION:PT1H
X-Robots-Tag:noindex
X-PUBLISHED-TTL:PT1H
BEGIN:VTIMEZONE
TZID:America/Chicago
BEGIN:DAYLIGHT
TZOFFSETFROM:-0600
TZOFFSETTO:-0500
TZNAME:CDT
DTSTART:20250309T080000
END:DAYLIGHT
BEGIN:STANDARD
TZOFFSETFROM:-0500
TZOFFSETTO:-0600
TZNAME:CST
DTSTART:20251102T070000
END:STANDARD
BEGIN:DAYLIGHT
TZOFFSETFROM:-0600
TZOFFSETTO:-0500
TZNAME:CDT
DTSTART:20260308T080000
END:DAYLIGHT
BEGIN:STANDARD
TZOFFSETFROM:-0500
TZOFFSETTO:-0600
TZNAME:CST
DTSTART:20261101T070000
END:STANDARD
BEGIN:DAYLIGHT
TZOFFSETFROM:-0600
TZOFFSETTO:-0500
TZNAME:CDT
DTSTART:20270314T080000
END:DAYLIGHT
BEGIN:STANDARD
TZOFFSETFROM:-0500
TZOFFSETTO:-0600
TZNAME:CST
DTSTART:20271107T070000
END:STANDARD
END:VTIMEZONE
BEGIN:VEVENT
DTSTART;TZID=America/Chicago:20260426T100000
DTEND;TZID=America/Chicago:20260426T110000
DTSTAMP:20260421T062250
CREATED:20250805T190546Z
LAST-MODIFIED:20250805T211544Z
UID:10000591-1777197600-1777201200@trinityarcata.com
SUMMARY:Worship Gathering
DESCRIPTION:Our Praise and Worship Service is held every Sunday and lasts for about an hour. Afterwards we gather together for fellowship and a meal.
URL:https://trinityarcata.com/event/worship-gathering-4/2026-04-26/
LOCATION:Trinity Church\, 2450 Alliance Rd.\, Arcata\, CA\, 95521\, United States
CATEGORIES:Featured
ATTACH;FMTTYPE=image/jpeg:https://trinityarcata.com/wp-content/uploads/2025/07/Trinity-Baptist-Church-in-Arcata-California.jpg
ORGANIZER;CN="Trinity Church":MAILTO:info@trinityarcata.com
END:VEVENT
BEGIN:VEVENT
DTSTART;TZID=America/Chicago:20260503T100000
DTEND;TZID=America/Chicago:20260503T110000
DTSTAMP:20260421T062250
CREATED:20250805T190546Z
LAST-MODIFIED:20250805T211544Z
UID:10000592-1777802400-1777806000@trinityarcata.com
SUMMARY:Worship Gathering
DESCRIPTION:Our Praise and Worship Service is held every Sunday and lasts for about an hour. Afterwards we gather together for fellowship and a meal.
URL:https://trinityarcata.com/event/worship-gathering-4/2026-05-03/
LOCATION:Trinity Church\, 2450 Alliance Rd.\, Arcata\, CA\, 95521\, United States
CATEGORIES:Featured
ATTACH;FMTTYPE=image/jpeg:https://trinityarcata.com/wp-content/uploads/2025/07/Trinity-Baptist-Church-in-Arcata-California.jpg
ORGANIZER;CN="Trinity Church":MAILTO:info@trinityarcata.com
END:VEVENT
BEGIN:VEVENT
DTSTART;TZID=America/Chicago:20260510T100000
DTEND;TZID=America/Chicago:20260510T110000
DTSTAMP:20260421T062250
CREATED:20250805T190546Z
LAST-MODIFIED:20250805T211544Z
UID:10000593-1778407200-1778410800@trinityarcata.com
SUMMARY:Worship Gathering
DESCRIPTION:Our Praise and Worship Service is held every Sunday and lasts for about an hour. Afterwards we gather together for fellowship and a meal.
URL:https://trinityarcata.com/event/worship-gathering-4/2026-05-10/
LOCATION:Trinity Church\, 2450 Alliance Rd.\, Arcata\, CA\, 95521\, United States
CATEGORIES:Featured
ATTACH;FMTTYPE=image/jpeg:https://trinityarcata.com/wp-content/uploads/2025/07/Trinity-Baptist-Church-in-Arcata-California.jpg
ORGANIZER;CN="Trinity Church":MAILTO:info@trinityarcata.com
END:VEVENT
BEGIN:VEVENT
DTSTART;TZID=America/Chicago:20260517T100000
DTEND;TZID=America/Chicago:20260517T110000
DTSTAMP:20260421T062250
CREATED:20250805T190546Z
LAST-MODIFIED:20250805T211544Z
UID:10000594-1779012000-1779015600@trinityarcata.com
SUMMARY:Worship Gathering
DESCRIPTION:Our Praise and Worship Service is held every Sunday and lasts for about an hour. Afterwards we gather together for fellowship and a meal.
URL:https://trinityarcata.com/event/worship-gathering-4/2026-05-17/
LOCATION:Trinity Church\, 2450 Alliance Rd.\, Arcata\, CA\, 95521\, United States
CATEGORIES:Featured
ATTACH;FMTTYPE=image/jpeg:https://trinityarcata.com/wp-content/uploads/2025/07/Trinity-Baptist-Church-in-Arcata-California.jpg
ORGANIZER;CN="Trinity Church":MAILTO:info@trinityarcata.com
END:VEVENT
BEGIN:VEVENT
DTSTART;TZID=America/Chicago:20260524T100000
DTEND;TZID=America/Chicago:20260524T110000
DTSTAMP:20260421T062250
CREATED:20250805T190546Z
LAST-MODIFIED:20250805T211544Z
UID:10000595-1779616800-1779620400@trinityarcata.com
SUMMARY:Worship Gathering
DESCRIPTION:Our Praise and Worship Service is held every Sunday and lasts for about an hour. Afterwards we gather together for fellowship and a meal.
URL:https://trinityarcata.com/event/worship-gathering-4/2026-05-24/
LOCATION:Trinity Church\, 2450 Alliance Rd.\, Arcata\, CA\, 95521\, United States
CATEGORIES:Featured
ATTACH;FMTTYPE=image/jpeg:https://trinityarcata.com/wp-content/uploads/2025/07/Trinity-Baptist-Church-in-Arcata-California.jpg
ORGANIZER;CN="Trinity Church":MAILTO:info@trinityarcata.com
END:VEVENT
BEGIN:VEVENT
DTSTART;TZID=America/Chicago:20260531T100000
DTEND;TZID=America/Chicago:20260531T110000
DTSTAMP:20260421T062250
CREATED:20250805T190546Z
LAST-MODIFIED:20250805T211544Z
UID:10000596-1780221600-1780225200@trinityarcata.com
SUMMARY:Worship Gathering
DESCRIPTION:Our Praise and Worship Service is held every Sunday and lasts for about an hour. Afterwards we gather together for fellowship and a meal.
URL:https://trinityarcata.com/event/worship-gathering-4/2026-05-31/
LOCATION:Trinity Church\, 2450 Alliance Rd.\, Arcata\, CA\, 95521\, United States
CATEGORIES:Featured
ATTACH;FMTTYPE=image/jpeg:https://trinityarcata.com/wp-content/uploads/2025/07/Trinity-Baptist-Church-in-Arcata-California.jpg
ORGANIZER;CN="Trinity Church":MAILTO:info@trinityarcata.com
END:VEVENT
BEGIN:VEVENT
DTSTART;TZID=America/Chicago:20260607T100000
DTEND;TZID=America/Chicago:20260607T110000
DTSTAMP:20260421T062250
CREATED:20250805T190546Z
LAST-MODIFIED:20250805T211544Z
UID:10000597-1780826400-1780830000@trinityarcata.com
SUMMARY:Worship Gathering
DESCRIPTION:Our Praise and Worship Service is held every Sunday and lasts for about an hour. Afterwards we gather together for fellowship and a meal.
URL:https://trinityarcata.com/event/worship-gathering-4/2026-06-07/
LOCATION:Trinity Church\, 2450 Alliance Rd.\, Arcata\, CA\, 95521\, United States
CATEGORIES:Featured
ATTACH;FMTTYPE=image/jpeg:https://trinityarcata.com/wp-content/uploads/2025/07/Trinity-Baptist-Church-in-Arcata-California.jpg
ORGANIZER;CN="Trinity Church":MAILTO:info@trinityarcata.com
END:VEVENT
BEGIN:VEVENT
DTSTART;TZID=America/Chicago:20260614T100000
DTEND;TZID=America/Chicago:20260614T110000
DTSTAMP:20260421T062250
CREATED:20250805T190546Z
LAST-MODIFIED:20250805T211544Z
UID:10000598-1781431200-1781434800@trinityarcata.com
SUMMARY:Worship Gathering
DESCRIPTION:Our Praise and Worship Service is held every Sunday and lasts for about an hour. Afterwards we gather together for fellowship and a meal.
URL:https://trinityarcata.com/event/worship-gathering-4/2026-06-14/
LOCATION:Trinity Church\, 2450 Alliance Rd.\, Arcata\, CA\, 95521\, United States
CATEGORIES:Featured
ATTACH;FMTTYPE=image/jpeg:https://trinityarcata.com/wp-content/uploads/2025/07/Trinity-Baptist-Church-in-Arcata-California.jpg
ORGANIZER;CN="Trinity Church":MAILTO:info@trinityarcata.com
END:VEVENT
BEGIN:VEVENT
DTSTART;TZID=America/Chicago:20260621T100000
DTEND;TZID=America/Chicago:20260621T110000
DTSTAMP:20260421T062250
CREATED:20250805T190546Z
LAST-MODIFIED:20250805T211544Z
UID:10000599-1782036000-1782039600@trinityarcata.com
SUMMARY:Worship Gathering
DESCRIPTION:Our Praise and Worship Service is held every Sunday and lasts for about an hour. Afterwards we gather together for fellowship and a meal.
URL:https://trinityarcata.com/event/worship-gathering-4/2026-06-21/
LOCATION:Trinity Church\, 2450 Alliance Rd.\, Arcata\, CA\, 95521\, United States
CATEGORIES:Featured
ATTACH;FMTTYPE=image/jpeg:https://trinityarcata.com/wp-content/uploads/2025/07/Trinity-Baptist-Church-in-Arcata-California.jpg
ORGANIZER;CN="Trinity Church":MAILTO:info@trinityarcata.com
END:VEVENT
BEGIN:VEVENT
DTSTART;TZID=America/Chicago:20260628T100000
DTEND;TZID=America/Chicago:20260628T110000
DTSTAMP:20260421T062250
CREATED:20250805T190546Z
LAST-MODIFIED:20250805T211544Z
UID:10000600-1782640800-1782644400@trinityarcata.com
SUMMARY:Worship Gathering
DESCRIPTION:Our Praise and Worship Service is held every Sunday and lasts for about an hour. Afterwards we gather together for fellowship and a meal.
URL:https://trinityarcata.com/event/worship-gathering-4/2026-06-28/
LOCATION:Trinity Church\, 2450 Alliance Rd.\, Arcata\, CA\, 95521\, United States
CATEGORIES:Featured
ATTACH;FMTTYPE=image/jpeg:https://trinityarcata.com/wp-content/uploads/2025/07/Trinity-Baptist-Church-in-Arcata-California.jpg
ORGANIZER;CN="Trinity Church":MAILTO:info@trinityarcata.com
END:VEVENT
BEGIN:VEVENT
DTSTART;TZID=America/Chicago:20260705T100000
DTEND;TZID=America/Chicago:20260705T110000
DTSTAMP:20260421T062250
CREATED:20250805T190546Z
LAST-MODIFIED:20250805T211544Z
UID:10000601-1783245600-1783249200@trinityarcata.com
SUMMARY:Worship Gathering
DESCRIPTION:Our Praise and Worship Service is held every Sunday and lasts for about an hour. Afterwards we gather together for fellowship and a meal.
URL:https://trinityarcata.com/event/worship-gathering-4/2026-07-05/
LOCATION:Trinity Church\, 2450 Alliance Rd.\, Arcata\, CA\, 95521\, United States
CATEGORIES:Featured
ATTACH;FMTTYPE=image/jpeg:https://trinityarcata.com/wp-content/uploads/2025/07/Trinity-Baptist-Church-in-Arcata-California.jpg
ORGANIZER;CN="Trinity Church":MAILTO:info@trinityarcata.com
END:VEVENT
BEGIN:VEVENT
DTSTART;TZID=America/Chicago:20260712T100000
DTEND;TZID=America/Chicago:20260712T110000
DTSTAMP:20260421T062250
CREATED:20250805T190546Z
LAST-MODIFIED:20250805T211544Z
UID:10000602-1783850400-1783854000@trinityarcata.com
SUMMARY:Worship Gathering
DESCRIPTION:Our Praise and Worship Service is held every Sunday and lasts for about an hour. Afterwards we gather together for fellowship and a meal.
URL:https://trinityarcata.com/event/worship-gathering-4/2026-07-12/
LOCATION:Trinity Church\, 2450 Alliance Rd.\, Arcata\, CA\, 95521\, United States
CATEGORIES:Featured
ATTACH;FMTTYPE=image/jpeg:https://trinityarcata.com/wp-content/uploads/2025/07/Trinity-Baptist-Church-in-Arcata-California.jpg
ORGANIZER;CN="Trinity Church":MAILTO:info@trinityarcata.com
END:VEVENT
BEGIN:VEVENT
DTSTART;TZID=America/Chicago:20260719T100000
DTEND;TZID=America/Chicago:20260719T110000
DTSTAMP:20260421T062250
CREATED:20250805T190546Z
LAST-MODIFIED:20250805T211544Z
UID:10000603-1784455200-1784458800@trinityarcata.com
SUMMARY:Worship Gathering
DESCRIPTION:Our Praise and Worship Service is held every Sunday and lasts for about an hour. Afterwards we gather together for fellowship and a meal.
URL:https://trinityarcata.com/event/worship-gathering-4/2026-07-19/
LOCATION:Trinity Church\, 2450 Alliance Rd.\, Arcata\, CA\, 95521\, United States
CATEGORIES:Featured
ATTACH;FMTTYPE=image/jpeg:https://trinityarcata.com/wp-content/uploads/2025/07/Trinity-Baptist-Church-in-Arcata-California.jpg
ORGANIZER;CN="Trinity Church":MAILTO:info@trinityarcata.com
END:VEVENT
BEGIN:VEVENT
DTSTART;TZID=America/Chicago:20260726T100000
DTEND;TZID=America/Chicago:20260726T110000
DTSTAMP:20260421T062250
CREATED:20250805T190546Z
LAST-MODIFIED:20250805T211544Z
UID:10000604-1785060000-1785063600@trinityarcata.com
SUMMARY:Worship Gathering
DESCRIPTION:Our Praise and Worship Service is held every Sunday and lasts for about an hour. Afterwards we gather together for fellowship and a meal.
URL:https://trinityarcata.com/event/worship-gathering-4/2026-07-26/
LOCATION:Trinity Church\, 2450 Alliance Rd.\, Arcata\, CA\, 95521\, United States
CATEGORIES:Featured
ATTACH;FMTTYPE=image/jpeg:https://trinityarcata.com/wp-content/uploads/2025/07/Trinity-Baptist-Church-in-Arcata-California.jpg
ORGANIZER;CN="Trinity Church":MAILTO:info@trinityarcata.com
END:VEVENT
BEGIN:VEVENT
DTSTART;TZID=America/Chicago:20260802T100000
DTEND;TZID=America/Chicago:20260802T110000
DTSTAMP:20260421T062250
CREATED:20250805T190546Z
LAST-MODIFIED:20250805T211544Z
UID:10000605-1785664800-1785668400@trinityarcata.com
SUMMARY:Worship Gathering
DESCRIPTION:Our Praise and Worship Service is held every Sunday and lasts for about an hour. Afterwards we gather together for fellowship and a meal.
URL:https://trinityarcata.com/event/worship-gathering-4/2026-08-02/
LOCATION:Trinity Church\, 2450 Alliance Rd.\, Arcata\, CA\, 95521\, United States
CATEGORIES:Featured
ATTACH;FMTTYPE=image/jpeg:https://trinityarcata.com/wp-content/uploads/2025/07/Trinity-Baptist-Church-in-Arcata-California.jpg
ORGANIZER;CN="Trinity Church":MAILTO:info@trinityarcata.com
END:VEVENT
BEGIN:VEVENT
DTSTART;TZID=America/Chicago:20260809T100000
DTEND;TZID=America/Chicago:20260809T110000
DTSTAMP:20260421T062250
CREATED:20250805T190546Z
LAST-MODIFIED:20250805T211544Z
UID:10000606-1786269600-1786273200@trinityarcata.com
SUMMARY:Worship Gathering
DESCRIPTION:Our Praise and Worship Service is held every Sunday and lasts for about an hour. Afterwards we gather together for fellowship and a meal.
URL:https://trinityarcata.com/event/worship-gathering-4/2026-08-09/
LOCATION:Trinity Church\, 2450 Alliance Rd.\, Arcata\, CA\, 95521\, United States
CATEGORIES:Featured
ATTACH;FMTTYPE=image/jpeg:https://trinityarcata.com/wp-content/uploads/2025/07/Trinity-Baptist-Church-in-Arcata-California.jpg
ORGANIZER;CN="Trinity Church":MAILTO:info@trinityarcata.com
END:VEVENT
BEGIN:VEVENT
DTSTART;TZID=America/Chicago:20260816T100000
DTEND;TZID=America/Chicago:20260816T110000
DTSTAMP:20260421T062250
CREATED:20250805T190546Z
LAST-MODIFIED:20250805T211544Z
UID:10000607-1786874400-1786878000@trinityarcata.com
SUMMARY:Worship Gathering
DESCRIPTION:Our Praise and Worship Service is held every Sunday and lasts for about an hour. Afterwards we gather together for fellowship and a meal.
URL:https://trinityarcata.com/event/worship-gathering-4/2026-08-16/
LOCATION:Trinity Church\, 2450 Alliance Rd.\, Arcata\, CA\, 95521\, United States
CATEGORIES:Featured
ATTACH;FMTTYPE=image/jpeg:https://trinityarcata.com/wp-content/uploads/2025/07/Trinity-Baptist-Church-in-Arcata-California.jpg
ORGANIZER;CN="Trinity Church":MAILTO:info@trinityarcata.com
END:VEVENT
BEGIN:VEVENT
DTSTART;TZID=America/Chicago:20260823T100000
DTEND;TZID=America/Chicago:20260823T110000
DTSTAMP:20260421T062250
CREATED:20250805T190546Z
LAST-MODIFIED:20250805T211544Z
UID:10000608-1787479200-1787482800@trinityarcata.com
SUMMARY:Worship Gathering
DESCRIPTION:Our Praise and Worship Service is held every Sunday and lasts for about an hour. Afterwards we gather together for fellowship and a meal.
URL:https://trinityarcata.com/event/worship-gathering-4/2026-08-23/
LOCATION:Trinity Church\, 2450 Alliance Rd.\, Arcata\, CA\, 95521\, United States
CATEGORIES:Featured
ATTACH;FMTTYPE=image/jpeg:https://trinityarcata.com/wp-content/uploads/2025/07/Trinity-Baptist-Church-in-Arcata-California.jpg
ORGANIZER;CN="Trinity Church":MAILTO:info@trinityarcata.com
END:VEVENT
BEGIN:VEVENT
DTSTART;TZID=America/Chicago:20260830T100000
DTEND;TZID=America/Chicago:20260830T110000
DTSTAMP:20260421T062250
CREATED:20250805T190546Z
LAST-MODIFIED:20250805T211544Z
UID:10000609-1788084000-1788087600@trinityarcata.com
SUMMARY:Worship Gathering
DESCRIPTION:Our Praise and Worship Service is held every Sunday and lasts for about an hour. Afterwards we gather together for fellowship and a meal.
URL:https://trinityarcata.com/event/worship-gathering-4/2026-08-30/
LOCATION:Trinity Church\, 2450 Alliance Rd.\, Arcata\, CA\, 95521\, United States
CATEGORIES:Featured
ATTACH;FMTTYPE=image/jpeg:https://trinityarcata.com/wp-content/uploads/2025/07/Trinity-Baptist-Church-in-Arcata-California.jpg
ORGANIZER;CN="Trinity Church":MAILTO:info@trinityarcata.com
END:VEVENT
BEGIN:VEVENT
DTSTART;TZID=America/Chicago:20260906T100000
DTEND;TZID=America/Chicago:20260906T110000
DTSTAMP:20260421T062250
CREATED:20250805T190546Z
LAST-MODIFIED:20250805T211544Z
UID:10000610-1788688800-1788692400@trinityarcata.com
SUMMARY:Worship Gathering
DESCRIPTION:Our Praise and Worship Service is held every Sunday and lasts for about an hour. Afterwards we gather together for fellowship and a meal.
URL:https://trinityarcata.com/event/worship-gathering-4/2026-09-06/
LOCATION:Trinity Church\, 2450 Alliance Rd.\, Arcata\, CA\, 95521\, United States
CATEGORIES:Featured
ATTACH;FMTTYPE=image/jpeg:https://trinityarcata.com/wp-content/uploads/2025/07/Trinity-Baptist-Church-in-Arcata-California.jpg
ORGANIZER;CN="Trinity Church":MAILTO:info@trinityarcata.com
END:VEVENT
BEGIN:VEVENT
DTSTART;TZID=America/Chicago:20260913T100000
DTEND;TZID=America/Chicago:20260913T110000
DTSTAMP:20260421T062250
CREATED:20250805T190546Z
LAST-MODIFIED:20250805T211544Z
UID:10000611-1789293600-1789297200@trinityarcata.com
SUMMARY:Worship Gathering
DESCRIPTION:Our Praise and Worship Service is held every Sunday and lasts for about an hour. Afterwards we gather together for fellowship and a meal.
URL:https://trinityarcata.com/event/worship-gathering-4/2026-09-13/
LOCATION:Trinity Church\, 2450 Alliance Rd.\, Arcata\, CA\, 95521\, United States
CATEGORIES:Featured
ATTACH;FMTTYPE=image/jpeg:https://trinityarcata.com/wp-content/uploads/2025/07/Trinity-Baptist-Church-in-Arcata-California.jpg
ORGANIZER;CN="Trinity Church":MAILTO:info@trinityarcata.com
END:VEVENT
BEGIN:VEVENT
DTSTART;TZID=America/Chicago:20260920T100000
DTEND;TZID=America/Chicago:20260920T110000
DTSTAMP:20260421T062250
CREATED:20250805T190546Z
LAST-MODIFIED:20250805T211544Z
UID:10000612-1789898400-1789902000@trinityarcata.com
SUMMARY:Worship Gathering
DESCRIPTION:Our Praise and Worship Service is held every Sunday and lasts for about an hour. Afterwards we gather together for fellowship and a meal.
URL:https://trinityarcata.com/event/worship-gathering-4/2026-09-20/
LOCATION:Trinity Church\, 2450 Alliance Rd.\, Arcata\, CA\, 95521\, United States
CATEGORIES:Featured
ATTACH;FMTTYPE=image/jpeg:https://trinityarcata.com/wp-content/uploads/2025/07/Trinity-Baptist-Church-in-Arcata-California.jpg
ORGANIZER;CN="Trinity Church":MAILTO:info@trinityarcata.com
END:VEVENT
BEGIN:VEVENT
DTSTART;TZID=America/Chicago:20260927T100000
DTEND;TZID=America/Chicago:20260927T110000
DTSTAMP:20260421T062250
CREATED:20250805T190546Z
LAST-MODIFIED:20250805T211544Z
UID:10000613-1790503200-1790506800@trinityarcata.com
SUMMARY:Worship Gathering
DESCRIPTION:Our Praise and Worship Service is held every Sunday and lasts for about an hour. Afterwards we gather together for fellowship and a meal.
URL:https://trinityarcata.com/event/worship-gathering-4/2026-09-27/
LOCATION:Trinity Church\, 2450 Alliance Rd.\, Arcata\, CA\, 95521\, United States
CATEGORIES:Featured
ATTACH;FMTTYPE=image/jpeg:https://trinityarcata.com/wp-content/uploads/2025/07/Trinity-Baptist-Church-in-Arcata-California.jpg
ORGANIZER;CN="Trinity Church":MAILTO:info@trinityarcata.com
END:VEVENT
BEGIN:VEVENT
DTSTART;TZID=America/Chicago:20261004T100000
DTEND;TZID=America/Chicago:20261004T110000
DTSTAMP:20260421T062250
CREATED:20250805T190546Z
LAST-MODIFIED:20250805T211544Z
UID:10000614-1791108000-1791111600@trinityarcata.com
SUMMARY:Worship Gathering
DESCRIPTION:Our Praise and Worship Service is held every Sunday and lasts for about an hour. Afterwards we gather together for fellowship and a meal.
URL:https://trinityarcata.com/event/worship-gathering-4/2026-10-04/
LOCATION:Trinity Church\, 2450 Alliance Rd.\, Arcata\, CA\, 95521\, United States
CATEGORIES:Featured
ATTACH;FMTTYPE=image/jpeg:https://trinityarcata.com/wp-content/uploads/2025/07/Trinity-Baptist-Church-in-Arcata-California.jpg
ORGANIZER;CN="Trinity Church":MAILTO:info@trinityarcata.com
END:VEVENT
BEGIN:VEVENT
DTSTART;TZID=America/Chicago:20261011T100000
DTEND;TZID=America/Chicago:20261011T110000
DTSTAMP:20260421T062250
CREATED:20250805T190546Z
LAST-MODIFIED:20250805T211544Z
UID:10000615-1791712800-1791716400@trinityarcata.com
SUMMARY:Worship Gathering
DESCRIPTION:Our Praise and Worship Service is held every Sunday and lasts for about an hour. Afterwards we gather together for fellowship and a meal.
URL:https://trinityarcata.com/event/worship-gathering-4/2026-10-11/
LOCATION:Trinity Church\, 2450 Alliance Rd.\, Arcata\, CA\, 95521\, United States
CATEGORIES:Featured
ATTACH;FMTTYPE=image/jpeg:https://trinityarcata.com/wp-content/uploads/2025/07/Trinity-Baptist-Church-in-Arcata-California.jpg
ORGANIZER;CN="Trinity Church":MAILTO:info@trinityarcata.com
END:VEVENT
BEGIN:VEVENT
DTSTART;TZID=America/Chicago:20261018T100000
DTEND;TZID=America/Chicago:20261018T110000
DTSTAMP:20260421T062250
CREATED:20250805T190546Z
LAST-MODIFIED:20250805T211544Z
UID:10000616-1792317600-1792321200@trinityarcata.com
SUMMARY:Worship Gathering
DESCRIPTION:Our Praise and Worship Service is held every Sunday and lasts for about an hour. Afterwards we gather together for fellowship and a meal.
URL:https://trinityarcata.com/event/worship-gathering-4/2026-10-18/
LOCATION:Trinity Church\, 2450 Alliance Rd.\, Arcata\, CA\, 95521\, United States
CATEGORIES:Featured
ATTACH;FMTTYPE=image/jpeg:https://trinityarcata.com/wp-content/uploads/2025/07/Trinity-Baptist-Church-in-Arcata-California.jpg
ORGANIZER;CN="Trinity Church":MAILTO:info@trinityarcata.com
END:VEVENT
BEGIN:VEVENT
DTSTART;TZID=America/Chicago:20261025T100000
DTEND;TZID=America/Chicago:20261025T110000
DTSTAMP:20260421T062250
CREATED:20250805T190546Z
LAST-MODIFIED:20250805T211544Z
UID:10000617-1792922400-1792926000@trinityarcata.com
SUMMARY:Worship Gathering
DESCRIPTION:Our Praise and Worship Service is held every Sunday and lasts for about an hour. Afterwards we gather together for fellowship and a meal.
URL:https://trinityarcata.com/event/worship-gathering-4/2026-10-25/
LOCATION:Trinity Church\, 2450 Alliance Rd.\, Arcata\, CA\, 95521\, United States
CATEGORIES:Featured
ATTACH;FMTTYPE=image/jpeg:https://trinityarcata.com/wp-content/uploads/2025/07/Trinity-Baptist-Church-in-Arcata-California.jpg
ORGANIZER;CN="Trinity Church":MAILTO:info@trinityarcata.com
END:VEVENT
BEGIN:VEVENT
DTSTART;TZID=America/Chicago:20261101T100000
DTEND;TZID=America/Chicago:20261101T110000
DTSTAMP:20260421T062250
CREATED:20250805T190546Z
LAST-MODIFIED:20250805T211544Z
UID:10000618-1793527200-1793530800@trinityarcata.com
SUMMARY:Worship Gathering
DESCRIPTION:Our Praise and Worship Service is held every Sunday and lasts for about an hour. Afterwards we gather together for fellowship and a meal.
URL:https://trinityarcata.com/event/worship-gathering-4/2026-11-01/
LOCATION:Trinity Church\, 2450 Alliance Rd.\, Arcata\, CA\, 95521\, United States
CATEGORIES:Featured
ATTACH;FMTTYPE=image/jpeg:https://trinityarcata.com/wp-content/uploads/2025/07/Trinity-Baptist-Church-in-Arcata-California.jpg
ORGANIZER;CN="Trinity Church":MAILTO:info@trinityarcata.com
END:VEVENT
BEGIN:VEVENT
DTSTART;TZID=America/Chicago:20261108T100000
DTEND;TZID=America/Chicago:20261108T110000
DTSTAMP:20260421T062250
CREATED:20250805T190546Z
LAST-MODIFIED:20250805T211544Z
UID:10000619-1794132000-1794135600@trinityarcata.com
SUMMARY:Worship Gathering
DESCRIPTION:Our Praise and Worship Service is held every Sunday and lasts for about an hour. Afterwards we gather together for fellowship and a meal.
URL:https://trinityarcata.com/event/worship-gathering-4/2026-11-08/
LOCATION:Trinity Church\, 2450 Alliance Rd.\, Arcata\, CA\, 95521\, United States
CATEGORIES:Featured
ATTACH;FMTTYPE=image/jpeg:https://trinityarcata.com/wp-content/uploads/2025/07/Trinity-Baptist-Church-in-Arcata-California.jpg
ORGANIZER;CN="Trinity Church":MAILTO:info@trinityarcata.com
END:VEVENT
BEGIN:VEVENT
DTSTART;TZID=America/Chicago:20261115T100000
DTEND;TZID=America/Chicago:20261115T110000
DTSTAMP:20260421T062250
CREATED:20250805T190546Z
LAST-MODIFIED:20250805T211544Z
UID:10000620-1794736800-1794740400@trinityarcata.com
SUMMARY:Worship Gathering
DESCRIPTION:Our Praise and Worship Service is held every Sunday and lasts for about an hour. Afterwards we gather together for fellowship and a meal.
URL:https://trinityarcata.com/event/worship-gathering-4/2026-11-15/
LOCATION:Trinity Church\, 2450 Alliance Rd.\, Arcata\, CA\, 95521\, United States
CATEGORIES:Featured
ATTACH;FMTTYPE=image/jpeg:https://trinityarcata.com/wp-content/uploads/2025/07/Trinity-Baptist-Church-in-Arcata-California.jpg
ORGANIZER;CN="Trinity Church":MAILTO:info@trinityarcata.com
END:VEVENT
END:VCALENDAR